BEGIN:VCALENDAR
VERSION:2.0
PRODID:-//YGAMETIME.com//YGT iCal Creator//EN
METHOD:PUBLISH
X-PUBLISHED-TTL:PT6H
REFRESH-INTERVAL;VALUE=DURATION:PT6H
CALSCALE:GREGORIAN
X-WR-CALNAME:YGAMETIME CALENDAR
BEGIN:VEVENT
UID:mpy-560991@ygametime.com
DTSTAMP:Z
DTSTART;TZID=America/Los Angeles:20250913T093000
DURATION:PT0H60M0S
SUMMARY:Malik Keebler vs SF-Bowen/Plouse
DESCRIPTION:1&2 Grade Co-ed | Fall Football\nWithnell Family YMCA\n
URL;VALUE=URI:https://ygametime.com/branch/mpy/sports/2025-fall-fall-football/23848/?utm_medium=calendar&utm_source=team_cal&utm_content=league_url#game-560991
LOCATION:Keizer Rapids Park: Football Field Three
BEGIN:VALARM
TRIGGER:-P2H
ACTION:DISPLAY
DESCRIPTION:Malik Keebler vs SF-Bowen/Plouse
END:VALARM
END:VEVENT
BEGIN:VEVENT
UID:mpy-560994@ygametime.com
DTSTAMP:Z
DTSTART;TZID=America/Los Angeles:20250920T090000
DURATION:PT0H60M0S
SUMMARY:SF-Sterngaen vs SF-Bowen/Plouse
DESCRIPTION:1&2 Grade Co-ed | Fall Football\nWithnell Family YMCA\n
URL;VALUE=URI:https://ygametime.com/branch/mpy/sports/2025-fall-fall-football/23848/?utm_medium=calendar&utm_source=team_cal&utm_content=league_url#game-560994
LOCATION:Robert Frost Elementary
BEGIN:VALARM
TRIGGER:-P2H
ACTION:DISPLAY
DESCRIPTION:SF-Sterngaen vs SF-Bowen/Plouse
END:VALARM
END:VEVENT
BEGIN:VEVENT
UID:mpy-560997@ygametime.com
DTSTAMP:Z
DTSTART;TZID=America/Los Angeles:20250927T083000
DURATION:PT0H60M0S
SUMMARY:Joseph Castillo vs SF-Bowen/Plouse
DESCRIPTION:1&2 Grade Co-ed | Fall Football\nWithnell Family YMCA\n
URL;VALUE=URI:https://ygametime.com/branch/mpy/sports/2025-fall-fall-football/23848/?utm_medium=calendar&utm_source=team_cal&utm_content=league_url#game-560997
LOCATION:Keizer Rapids Park: Football Field Three
BEGIN:VALARM
TRIGGER:-P2H
ACTION:DISPLAY
DESCRIPTION:Joseph Castillo vs SF-Bowen/Plouse
END:VALARM
END:VEVENT
BEGIN:VEVENT
UID:mpy-561031@ygametime.com
DTSTAMP:Z
DTSTART;TZID=America/Los Angeles:20251004T090000
DURATION:PT0H60M0S
SUMMARY:SF-Bowen/Plouse vs Mike Rylands
DESCRIPTION:1&2 Grade Co-ed | Fall Football\nWithnell Family YMCA\n
URL;VALUE=URI:https://ygametime.com/branch/mpy/sports/2025-fall-fall-football/23848/?utm_medium=calendar&utm_source=team_cal&utm_content=league_url#game-561031
LOCATION:Robert Frost Elementary
BEGIN:VALARM
TRIGGER:-P2H
ACTION:DISPLAY
DESCRIPTION:SF-Bowen/Plouse vs Mike Rylands
END:VALARM
END:VEVENT
BEGIN:VEVENT
UID:mpy-561070@ygametime.com
DTSTAMP:Z
DTSTART;TZID=America/Los Angeles:20251011T090000
DURATION:PT0H60M0S
SUMMARY:MTA-Blue vs SF-Bowen/Plouse
DESCRIPTION:1&2 Grade Co-ed | Fall Football\nWithnell Family YMCA\n
URL;VALUE=URI:https://ygametime.com/branch/mpy/sports/2025-fall-fall-football/23848/?utm_medium=calendar&utm_source=team_cal&utm_content=league_url#game-561070
LOCATION:Robert Frost Elementary
BEGIN:VALARM
TRIGGER:-P2H
ACTION:DISPLAY
DESCRIPTION:MTA-Blue vs SF-Bowen/Plouse
END:VALARM
END:VEVENT
BEGIN:VEVENT
UID:mpy-561099@ygametime.com
DTSTAMP:Z
DTSTART;TZID=America/Los Angeles:20251018T090000
DURATION:PT0H60M0S
SUMMARY:SF-Bowen/Plouse vs MTA-White
DESCRIPTION:1&2 Grade Co-ed | Fall Football\nWithnell Family YMCA\n
URL;VALUE=URI:https://ygametime.com/branch/mpy/sports/2025-fall-fall-football/23848/?utm_medium=calendar&utm_source=team_cal&utm_content=league_url#game-561099
LOCATION:Robert Frost Elementary
BEGIN:VALARM
TRIGGER:-P2H
ACTION:DISPLAY
DESCRIPTION:SF-Bowen/Plouse vs MTA-White
END:VALARM
END:VEVENT
END:VCALENDAR

