BEGIN:VCALENDAR
VERSION:2.0
PRODID:-//YGAMETIME.com//YGT iCal Creator//EN
METHOD:PUBLISH
X-PUBLISHED-TTL:PT6H
REFRESH-INTERVAL;VALUE=DURATION:PT6H
CALSCALE:GREGORIAN
X-WR-CALNAME:YGAMETIME CALENDAR
BEGIN:VEVENT
UID:mpy-560989@ygametime.com
DTSTAMP:Z
DTSTART;TZID=America/Los Angeles:20250913T080000
DURATION:PT0H60M0S
SUMMARY:MTA-Blue vs MTA-White
DESCRIPTION:1&2 Grade Co-ed | Fall Football\nWithnell Family YMCA\n
URL;VALUE=URI:https://ygametime.com/branch/mpy/sports/2025-fall-fall-football/23848/?utm_medium=calendar&utm_source=team_cal&utm_content=league_url#game-560989
LOCATION:Kennedy HS Football Field
BEGIN:VALARM
TRIGGER:-P2H
ACTION:DISPLAY
DESCRIPTION:MTA-Blue vs MTA-White
END:VALARM
END:VEVENT
BEGIN:VEVENT
UID:mpy-560993@ygametime.com
DTSTAMP:Z
DTSTART;TZID=America/Los Angeles:20250920T093000
DURATION:PT0H60M0S
SUMMARY:Malik Keebler vs MTA-White
DESCRIPTION:1&2 Grade Co-ed | Fall Football\nWithnell Family YMCA\n
URL;VALUE=URI:https://ygametime.com/branch/mpy/sports/2025-fall-fall-football/23848/?utm_medium=calendar&utm_source=team_cal&utm_content=league_url#game-560993
LOCATION:Kennedy HS Football Field
BEGIN:VALARM
TRIGGER:-P2H
ACTION:DISPLAY
DESCRIPTION:Malik Keebler vs MTA-White
END:VALARM
END:VEVENT
BEGIN:VEVENT
UID:mpy-560998@ygametime.com
DTSTAMP:Z
DTSTART;TZID=America/Los Angeles:20250927T083000
DURATION:PT0H60M0S
SUMMARY:MTA-White vs Mike Rylands
DESCRIPTION:1&2 Grade Co-ed | Fall Football\nWithnell Family YMCA\n
URL;VALUE=URI:https://ygametime.com/branch/mpy/sports/2025-fall-fall-football/23848/?utm_medium=calendar&utm_source=team_cal&utm_content=league_url#game-560998
LOCATION:Keizer Rapids Park: Football Field Four
BEGIN:VALARM
TRIGGER:-P2H
ACTION:DISPLAY
DESCRIPTION:MTA-White vs Mike Rylands
END:VALARM
END:VEVENT
BEGIN:VEVENT
UID:mpy-561030@ygametime.com
DTSTAMP:Z
DTSTART;TZID=America/Los Angeles:20251004T100000
DURATION:PT0H60M0S
SUMMARY:SF-Sterngaen vs MTA-White
DESCRIPTION:1&2 Grade Co-ed | Fall Football\nWithnell Family YMCA\n
URL;VALUE=URI:https://ygametime.com/branch/mpy/sports/2025-fall-fall-football/23848/?utm_medium=calendar&utm_source=team_cal&utm_content=league_url#game-561030
LOCATION:Robert Frost Elementary
BEGIN:VALARM
TRIGGER:-P2H
ACTION:DISPLAY
DESCRIPTION:SF-Sterngaen vs MTA-White
END:VALARM
END:VEVENT
BEGIN:VEVENT
UID:mpy-561005@ygametime.com
DTSTAMP:Z
DTSTART;TZID=America/Los Angeles:20251011T093000
DURATION:PT0H60M0S
SUMMARY:MTA-White vs -
DESCRIPTION:1&2 Grade Co-ed | Fall Football\nWithnell Family YMCA\n
URL;VALUE=URI:https://ygametime.com/branch/mpy/sports/2025-fall-fall-football/23848/?utm_medium=calendar&utm_source=team_cal&utm_content=league_url#game-561005
LOCATION:Keizer Rapids Park: Football Field Two
BEGIN:VALARM
TRIGGER:-P2H
ACTION:DISPLAY
DESCRIPTION:MTA-White vs -
END:VALARM
END:VEVENT
BEGIN:VEVENT
UID:mpy-561099@ygametime.com
DTSTAMP:Z
DTSTART;TZID=America/Los Angeles:20251018T090000
DURATION:PT0H60M0S
SUMMARY:SF-Bowen/Plouse vs MTA-White
DESCRIPTION:1&2 Grade Co-ed | Fall Football\nWithnell Family YMCA\n
URL;VALUE=URI:https://ygametime.com/branch/mpy/sports/2025-fall-fall-football/23848/?utm_medium=calendar&utm_source=team_cal&utm_content=league_url#game-561099
LOCATION:Robert Frost Elementary
BEGIN:VALARM
TRIGGER:-P2H
ACTION:DISPLAY
DESCRIPTION:SF-Bowen/Plouse vs MTA-White
END:VALARM
END:VEVENT
END:VCALENDAR

