BEGIN:VCALENDAR
VERSION:2.0
PRODID:-//YGAMETIME.com//YGT iCal Creator//EN
METHOD:PUBLISH
X-PUBLISHED-TTL:PT6H
REFRESH-INTERVAL;VALUE=DURATION:PT6H
CALSCALE:GREGORIAN
X-WR-CALNAME:YGAMETIME CALENDAR
BEGIN:VEVENT
UID:mpy-560989@ygametime.com
DTSTAMP:Z
DTSTART;TZID=America/Los Angeles:20250913T080000
DURATION:PT0H60M0S
SUMMARY:MTA-Blue vs MTA-White
DESCRIPTION:1&2 Grade Co-ed | Fall Football\nWithnell Family YMCA\n
URL;VALUE=URI:https://ygametime.com/branch/mpy/sports/2025-fall-fall-football/23848/?utm_medium=calendar&utm_source=team_cal&utm_content=league_url#game-560989
LOCATION:Kennedy HS Football Field
BEGIN:VALARM
TRIGGER:-P2H
ACTION:DISPLAY
DESCRIPTION:MTA-Blue vs MTA-White
END:VALARM
END:VEVENT
BEGIN:VEVENT
UID:mpy-560995@ygametime.com
DTSTAMP:Z
DTSTART;TZID=America/Los Angeles:20250920T083000
DURATION:PT0H60M0S
SUMMARY:MTA-Blue vs SF-Fairbank
DESCRIPTION:1&2 Grade Co-ed | Fall Football\nWithnell Family YMCA\n
URL;VALUE=URI:https://ygametime.com/branch/mpy/sports/2025-fall-fall-football/23848/?utm_medium=calendar&utm_source=team_cal&utm_content=league_url#game-560995
LOCATION:Kennedy HS Football Field
BEGIN:VALARM
TRIGGER:-P2H
ACTION:DISPLAY
DESCRIPTION:MTA-Blue vs SF-Fairbank
END:VALARM
END:VEVENT
BEGIN:VEVENT
UID:mpy-560996@ygametime.com
DTSTAMP:Z
DTSTART;TZID=America/Los Angeles:20250927T090000
DURATION:PT0H60M0S
SUMMARY:SF-Sterngaen vs MTA-Blue
DESCRIPTION:1&2 Grade Co-ed | Fall Football\nWithnell Family YMCA\n
URL;VALUE=URI:https://ygametime.com/branch/mpy/sports/2025-fall-fall-football/23848/?utm_medium=calendar&utm_source=team_cal&utm_content=league_url#game-560996
LOCATION:Robert Frost Elementary
BEGIN:VALARM
TRIGGER:-P2H
ACTION:DISPLAY
DESCRIPTION:SF-Sterngaen vs MTA-Blue
END:VALARM
END:VEVENT
BEGIN:VEVENT
UID:mpy-561001@ygametime.com
DTSTAMP:Z
DTSTART;TZID=America/Los Angeles:20251004T093000
DURATION:PT0H60M0S
SUMMARY:MTA-Blue vs -
DESCRIPTION:1&2 Grade Co-ed | Fall Football\nWithnell Family YMCA\n
URL;VALUE=URI:https://ygametime.com/branch/mpy/sports/2025-fall-fall-football/23848/?utm_medium=calendar&utm_source=team_cal&utm_content=league_url#game-561001
LOCATION:Keizer Rapids Park: Football Field Four
BEGIN:VALARM
TRIGGER:-P2H
ACTION:DISPLAY
DESCRIPTION:MTA-Blue vs -
END:VALARM
END:VEVENT
BEGIN:VEVENT
UID:mpy-561070@ygametime.com
DTSTAMP:Z
DTSTART;TZID=America/Los Angeles:20251011T090000
DURATION:PT0H60M0S
SUMMARY:MTA-Blue vs SF-Bowen/Plouse
DESCRIPTION:1&2 Grade Co-ed | Fall Football\nWithnell Family YMCA\n
URL;VALUE=URI:https://ygametime.com/branch/mpy/sports/2025-fall-fall-football/23848/?utm_medium=calendar&utm_source=team_cal&utm_content=league_url#game-561070
LOCATION:Robert Frost Elementary
BEGIN:VALARM
TRIGGER:-P2H
ACTION:DISPLAY
DESCRIPTION:MTA-Blue vs SF-Bowen/Plouse
END:VALARM
END:VEVENT
BEGIN:VEVENT
UID:mpy-561011@ygametime.com
DTSTAMP:Z
DTSTART;TZID=America/Los Angeles:20251018T093000
DURATION:PT0H60M0S
SUMMARY:MTA-Blue vs -
DESCRIPTION:1&2 Grade Co-ed | Fall Football\nWithnell Family YMCA\n
URL;VALUE=URI:https://ygametime.com/branch/mpy/sports/2025-fall-fall-football/23848/?utm_medium=calendar&utm_source=team_cal&utm_content=league_url#game-561011
LOCATION:Keizer Rapids Park: Football Field Four
BEGIN:VALARM
TRIGGER:-P2H
ACTION:DISPLAY
DESCRIPTION:MTA-Blue vs -
END:VALARM
END:VEVENT
END:VCALENDAR

