BEGIN:VCALENDAR
VERSION:2.0
PRODID:-//YGAMETIME.com//YGT iCal Creator//EN
METHOD:PUBLISH
X-PUBLISHED-TTL:PT6H
REFRESH-INTERVAL;VALUE=DURATION:PT6H
CALSCALE:GREGORIAN
X-WR-CALNAME:YGAMETIME CALENDAR
BEGIN:VEVENT
UID:mpy-560971@ygametime.com
DTSTAMP:Z
DTSTART;TZID=America/Los Angeles:20250913T100000
DURATION:PT0H60M0S
SUMMARY:SF - Davis 1 vs WB
DESCRIPTION:3&4 Grade Co-Ed | Fall Football\nWithnell Family YMCA\n
URL;VALUE=URI:https://ygametime.com/branch/mpy/sports/2025-fall-fall-football/23849/?utm_medium=calendar&utm_source=team_cal&utm_content=league_url#game-560971
LOCATION:Robert Frost Elementary
BEGIN:VALARM
TRIGGER:-P2H
ACTION:DISPLAY
DESCRIPTION:SF - Davis 1 vs WB
END:VALARM
END:VEVENT
BEGIN:VEVENT
UID:mpy-560973@ygametime.com
DTSTAMP:Z
DTSTART;TZID=America/Los Angeles:20250920T120000
DURATION:PT0H60M0S
SUMMARY:SF - Davis 2 vs WB
DESCRIPTION:3&4 Grade Co-Ed | Fall Football\nWithnell Family YMCA\n
URL;VALUE=URI:https://ygametime.com/branch/mpy/sports/2025-fall-fall-football/23849/?utm_medium=calendar&utm_source=team_cal&utm_content=league_url#game-560973
LOCATION:Robert Frost Elementary
BEGIN:VALARM
TRIGGER:-P2H
ACTION:DISPLAY
DESCRIPTION:SF - Davis 2 vs WB
END:VALARM
END:VEVENT
BEGIN:VEVENT
UID:mpy-560976@ygametime.com
DTSTAMP:Z
DTSTART;TZID=America/Los Angeles:20250927T093000
DURATION:PT0H60M0S
SUMMARY:WB vs Mount Angel - Blue
DESCRIPTION:3&4 Grade Co-Ed | Fall Football\nWithnell Family YMCA\n
URL;VALUE=URI:https://ygametime.com/branch/mpy/sports/2025-fall-fall-football/23849/?utm_medium=calendar&utm_source=team_cal&utm_content=league_url#game-560976
LOCATION:Keizer Rapids Park: Football Field Four
BEGIN:VALARM
TRIGGER:-P2H
ACTION:DISPLAY
DESCRIPTION:WB vs Mount Angel - Blue
END:VALARM
END:VEVENT
BEGIN:VEVENT
UID:mpy-560981@ygametime.com
DTSTAMP:Z
DTSTART;TZID=America/Los Angeles:20251004T083000
DURATION:PT0H60M0S
SUMMARY:WB vs -
DESCRIPTION:3&4 Grade Co-Ed | Fall Football\nWithnell Family YMCA\n
URL;VALUE=URI:https://ygametime.com/branch/mpy/sports/2025-fall-fall-football/23849/?utm_medium=calendar&utm_source=team_cal&utm_content=league_url#game-560981
LOCATION:Keizer Rapids Park: Football Field Three
BEGIN:VALARM
TRIGGER:-P2H
ACTION:DISPLAY
DESCRIPTION:WB vs -
END:VALARM
END:VEVENT
BEGIN:VEVENT
UID:mpy-561184@ygametime.com
DTSTAMP:Z
DTSTART;TZID=America/Los Angeles:20251011T083000
DURATION:PT0H60M0S
SUMMARY:WB vs -
DESCRIPTION:3&4 Grade Co-Ed | Fall Football\nWithnell Family YMCA\n
URL;VALUE=URI:https://ygametime.com/branch/mpy/sports/2025-fall-fall-football/23849/?utm_medium=calendar&utm_source=team_cal&utm_content=league_url#game-561184
LOCATION:Keizer Rapids Park: Football Field Four
BEGIN:VALARM
TRIGGER:-P2H
ACTION:DISPLAY
DESCRIPTION:WB vs -
END:VALARM
END:VEVENT
BEGIN:VEVENT
UID:mpy-561318@ygametime.com
DTSTAMP:Z
DTSTART;TZID=America/Los Angeles:20251018T120000
DURATION:PT0H60M0S
SUMMARY:SF - Davis 2 vs WB
DESCRIPTION:3&4 Grade Co-Ed | Fall Football\nWithnell Family YMCA\n
URL;VALUE=URI:https://ygametime.com/branch/mpy/sports/2025-fall-fall-football/23849/?utm_medium=calendar&utm_source=team_cal&utm_content=league_url#game-561318
LOCATION:Robert Frost Elementary
BEGIN:VALARM
TRIGGER:-P2H
ACTION:DISPLAY
DESCRIPTION:SF - Davis 2 vs WB
END:VALARM
END:VEVENT
END:VCALENDAR

