BEGIN:VCALENDAR
VERSION:2.0
PRODID:-//YGAMETIME.com//YGT iCal Creator//EN
METHOD:PUBLISH
X-PUBLISHED-TTL:PT6H
REFRESH-INTERVAL;VALUE=DURATION:PT6H
CALSCALE:GREGORIAN
X-WR-CALNAME:YGAMETIME CALENDAR
BEGIN:VEVENT
UID:mpy-560972@ygametime.com
DTSTAMP:Z
DTSTART;TZID=America/Los Angeles:20250913T110000
DURATION:PT0H60M0S
SUMMARY:SF - Davis 2 vs Ty Prichard
DESCRIPTION:3&4 Grade Co-Ed | Fall Football\nWithnell Family YMCA\n
URL;VALUE=URI:https://ygametime.com/branch/mpy/sports/2025-fall-fall-football/23849/?utm_medium=calendar&utm_source=team_cal&utm_content=league_url#game-560972
LOCATION:Robert Frost Elementary
BEGIN:VALARM
TRIGGER:-P2H
ACTION:DISPLAY
DESCRIPTION:SF - Davis 2 vs Ty Prichard
END:VALARM
END:VEVENT
BEGIN:VEVENT
UID:mpy-560973@ygametime.com
DTSTAMP:Z
DTSTART;TZID=America/Los Angeles:20250920T120000
DURATION:PT0H60M0S
SUMMARY:SF - Davis 2 vs WB
DESCRIPTION:3&4 Grade Co-Ed | Fall Football\nWithnell Family YMCA\n
URL;VALUE=URI:https://ygametime.com/branch/mpy/sports/2025-fall-fall-football/23849/?utm_medium=calendar&utm_source=team_cal&utm_content=league_url#game-560973
LOCATION:Robert Frost Elementary
BEGIN:VALARM
TRIGGER:-P2H
ACTION:DISPLAY
DESCRIPTION:SF - Davis 2 vs WB
END:VALARM
END:VEVENT
BEGIN:VEVENT
UID:mpy-560977@ygametime.com
DTSTAMP:Z
DTSTART;TZID=America/Los Angeles:20250927T120000
DURATION:PT0H60M0S
SUMMARY:SF - Davis 2 vs Mount Angel - White
DESCRIPTION:3&4 Grade Co-Ed | Fall Football\nWithnell Family YMCA\n
URL;VALUE=URI:https://ygametime.com/branch/mpy/sports/2025-fall-fall-football/23849/?utm_medium=calendar&utm_source=team_cal&utm_content=league_url#game-560977
LOCATION:Robert Frost Elementary
BEGIN:VALARM
TRIGGER:-P2H
ACTION:DISPLAY
DESCRIPTION:SF - Davis 2 vs Mount Angel - White
END:VALARM
END:VEVENT
BEGIN:VEVENT
UID:mpy-561160@ygametime.com
DTSTAMP:Z
DTSTART;TZID=America/Los Angeles:20251004T120000
DURATION:PT0H60M0S
SUMMARY:SF - Davis 2 vs Tyler Clemens
DESCRIPTION:3&4 Grade Co-Ed | Fall Football\nWithnell Family YMCA\n
URL;VALUE=URI:https://ygametime.com/branch/mpy/sports/2025-fall-fall-football/23849/?utm_medium=calendar&utm_source=team_cal&utm_content=league_url#game-561160
LOCATION:Robert Frost Elementary
BEGIN:VALARM
TRIGGER:-P2H
ACTION:DISPLAY
DESCRIPTION:SF - Davis 2 vs Tyler Clemens
END:VALARM
END:VEVENT
BEGIN:VEVENT
UID:mpy-560983@ygametime.com
DTSTAMP:Z
DTSTART;TZID=America/Los Angeles:20251011T100000
DURATION:PT0H60M0S
SUMMARY:SF - Davis 2 vs SF - Davis 1
DESCRIPTION:3&4 Grade Co-Ed | Fall Football\nWithnell Family YMCA\n
URL;VALUE=URI:https://ygametime.com/branch/mpy/sports/2025-fall-fall-football/23849/?utm_medium=calendar&utm_source=team_cal&utm_content=league_url#game-560983
LOCATION:Robert Frost Elementary
BEGIN:VALARM
TRIGGER:-P2H
ACTION:DISPLAY
DESCRIPTION:SF - Davis 2 vs SF - Davis 1
END:VALARM
END:VEVENT
BEGIN:VEVENT
UID:mpy-561318@ygametime.com
DTSTAMP:Z
DTSTART;TZID=America/Los Angeles:20251018T120000
DURATION:PT0H60M0S
SUMMARY:SF - Davis 2 vs WB
DESCRIPTION:3&4 Grade Co-Ed | Fall Football\nWithnell Family YMCA\n
URL;VALUE=URI:https://ygametime.com/branch/mpy/sports/2025-fall-fall-football/23849/?utm_medium=calendar&utm_source=team_cal&utm_content=league_url#game-561318
LOCATION:Robert Frost Elementary
BEGIN:VALARM
TRIGGER:-P2H
ACTION:DISPLAY
DESCRIPTION:SF - Davis 2 vs WB
END:VALARM
END:VEVENT
END:VCALENDAR

