BEGIN:VCALENDAR
VERSION:2.0
PRODID:-//YGAMETIME.com//YGT iCal Creator//EN
METHOD:PUBLISH
X-PUBLISHED-TTL:PT6H
REFRESH-INTERVAL;VALUE=DURATION:PT6H
CALSCALE:GREGORIAN
X-WR-CALNAME:YGAMETIME CALENDAR
BEGIN:VEVENT
UID:mpy-561014@ygametime.com
DTSTAMP:Z
DTSTART;TZID=America/Los Angeles:20250913T090000
DURATION:PT0H60M0S
SUMMARY:Shaila Reagor vs MIY - Eric
DESCRIPTION:Kindergarten | Fall Soccer\nWithnell Family YMCA\n
URL;VALUE=URI:https://ygametime.com/branch/mpy/sports/2025-fall-fall-soccer/23856/?utm_medium=calendar&utm_source=team_cal&utm_content=league_url#game-561014
LOCATION:Keizer Rapids Park: Soccer Field Three
BEGIN:VALARM
TRIGGER:-P2H
ACTION:DISPLAY
DESCRIPTION:Shaila Reagor vs MIY - Eric
END:VALARM
END:VEVENT
BEGIN:VEVENT
UID:mpy-561015@ygametime.com
DTSTAMP:Z
DTSTART;TZID=America/Los Angeles:20250920T090000
DURATION:PT0H60M0S
SUMMARY:MIY - Eric vs Anna Marquez
DESCRIPTION:Kindergarten | Fall Soccer\nWithnell Family YMCA\n
URL;VALUE=URI:https://ygametime.com/branch/mpy/sports/2025-fall-fall-soccer/23856/?utm_medium=calendar&utm_source=team_cal&utm_content=league_url#game-561015
LOCATION:Ash Creek Elementary
BEGIN:VALARM
TRIGGER:-P2H
ACTION:DISPLAY
DESCRIPTION:MIY - Eric vs Anna Marquez
END:VALARM
END:VEVENT
BEGIN:VEVENT
UID:mpy-561019@ygametime.com
DTSTAMP:Z
DTSTART;TZID=America/Los Angeles:20250927T090000
DURATION:PT0H60M0S
SUMMARY:MIY - Eric vs Jessica Schultens
DESCRIPTION:Kindergarten | Fall Soccer\nWithnell Family YMCA\n
URL;VALUE=URI:https://ygametime.com/branch/mpy/sports/2025-fall-fall-soccer/23856/?utm_medium=calendar&utm_source=team_cal&utm_content=league_url#game-561019
LOCATION:Keizer Rapids Park: Soccer Field One
BEGIN:VALARM
TRIGGER:-P2H
ACTION:DISPLAY
DESCRIPTION:MIY - Eric vs Jessica Schultens
END:VALARM
END:VEVENT
BEGIN:VEVENT
UID:mpy-561022@ygametime.com
DTSTAMP:Z
DTSTART;TZID=America/Los Angeles:20251004T090000
DURATION:PT0H60M0S
SUMMARY:Victor Caballero vs MIY - Eric
DESCRIPTION:Kindergarten | Fall Soccer\nWithnell Family YMCA\n
URL;VALUE=URI:https://ygametime.com/branch/mpy/sports/2025-fall-fall-soccer/23856/?utm_medium=calendar&utm_source=team_cal&utm_content=league_url#game-561022
LOCATION:Independence Sports Park - Field 3
BEGIN:VALARM
TRIGGER:-P2H
ACTION:DISPLAY
DESCRIPTION:Victor Caballero vs MIY - Eric
END:VALARM
END:VEVENT
BEGIN:VEVENT
UID:mpy-561025@ygametime.com
DTSTAMP:Z
DTSTART;TZID=America/Los Angeles:20251011T090000
DURATION:PT0H60M0S
SUMMARY:MIY - Eric vs MIY - Molly
DESCRIPTION:Kindergarten | Fall Soccer\nWithnell Family YMCA\n
URL;VALUE=URI:https://ygametime.com/branch/mpy/sports/2025-fall-fall-soccer/23856/?utm_medium=calendar&utm_source=team_cal&utm_content=league_url#game-561025
LOCATION:Independence Sports Park - Field 3
BEGIN:VALARM
TRIGGER:-P2H
ACTION:DISPLAY
DESCRIPTION:MIY - Eric vs MIY - Molly
END:VALARM
END:VEVENT
BEGIN:VEVENT
UID:mpy-561027@ygametime.com
DTSTAMP:Z
DTSTART;TZID=America/Los Angeles:20251018T090000
DURATION:PT0H60M0S
SUMMARY:Shaila Reagor vs MIY - Eric
DESCRIPTION:Kindergarten | Fall Soccer\nWithnell Family YMCA\n
URL;VALUE=URI:https://ygametime.com/branch/mpy/sports/2025-fall-fall-soccer/23856/?utm_medium=calendar&utm_source=team_cal&utm_content=league_url#game-561027
LOCATION:Keizer Rapids Park: Soccer Field Two
BEGIN:VALARM
TRIGGER:-P2H
ACTION:DISPLAY
DESCRIPTION:Shaila Reagor vs MIY - Eric
END:VALARM
END:VEVENT
END:VCALENDAR

