BEGIN:VCALENDAR
VERSION:2.0
PRODID:-//YGAMETIME.com//YGT iCal Creator//EN
METHOD:PUBLISH
X-PUBLISHED-TTL:PT6H
REFRESH-INTERVAL;VALUE=DURATION:PT6H
CALSCALE:GREGORIAN
X-WR-CALNAME:YGAMETIME CALENDAR
BEGIN:VEVENT
UID:mpy-561334@ygametime.com
DTSTAMP:Z
DTSTART;TZID=America/Los Angeles:20250920T100000
DURATION:PT0H60M0S
SUMMARY:MIY - Nole vs Megan Boline (Ace Angels)
DESCRIPTION:3&4 Grade Co-Ed | Fall Volleyball\nWithnell Family YMCA\n
URL;VALUE=URI:https://ygametime.com/branch/mpy/sports/2025-fall-fall-volleyball/23860/?utm_medium=calendar&utm_source=team_cal&utm_content=league_url#game-561334
LOCATION:The Gate Youth Association 
BEGIN:VALARM
TRIGGER:-P2H
ACTION:DISPLAY
DESCRIPTION:MIY - Nole vs Megan Boline (Ace Angels)
END:VALARM
END:VEVENT
BEGIN:VEVENT
UID:mpy-561148@ygametime.com
DTSTAMP:Z
DTSTART;TZID=America/Los Angeles:20251004T100000
DURATION:PT0H60M0S
SUMMARY:Heather Hawkins vs MIY - Nole
DESCRIPTION:3&4 Grade Co-Ed | Fall Volleyball\nWithnell Family YMCA\n
URL;VALUE=URI:https://ygametime.com/branch/mpy/sports/2025-fall-fall-volleyball/23860/?utm_medium=calendar&utm_source=team_cal&utm_content=league_url#game-561148
LOCATION:Withnell Family YMCA: Court 1
BEGIN:VALARM
TRIGGER:-P2H
ACTION:DISPLAY
DESCRIPTION:Heather Hawkins vs MIY - Nole
END:VALARM
END:VEVENT
BEGIN:VEVENT
UID:mpy-561240@ygametime.com
DTSTAMP:Z
DTSTART;TZID=America/Los Angeles:20251011T090000
DURATION:PT0H60M0S
SUMMARY:Janelle Jewett vs MIY - Nole
DESCRIPTION:3&4 Grade Co-Ed | Fall Volleyball\nWithnell Family YMCA\n
URL;VALUE=URI:https://ygametime.com/branch/mpy/sports/2025-fall-fall-volleyball/23860/?utm_medium=calendar&utm_source=team_cal&utm_content=league_url#game-561240
LOCATION:Withnell Family YMCA: Court 1
BEGIN:VALARM
TRIGGER:-P2H
ACTION:DISPLAY
DESCRIPTION:Janelle Jewett vs MIY - Nole
END:VALARM
END:VEVENT
BEGIN:VEVENT
UID:mpy-561138@ygametime.com
DTSTAMP:Z
DTSTART;TZID=America/Los Angeles:20251018T090000
DURATION:PT0H60M0S
SUMMARY:Amy Branson-Jacobson & Robby Mabry vs MIY - Nole
DESCRIPTION:3&4 Grade Co-Ed | Fall Volleyball\nWithnell Family YMCA\n
URL;VALUE=URI:https://ygametime.com/branch/mpy/sports/2025-fall-fall-volleyball/23860/?utm_medium=calendar&utm_source=team_cal&utm_content=league_url#game-561138
LOCATION:Withnell Family YMCA: Court 1
BEGIN:VALARM
TRIGGER:-P2H
ACTION:DISPLAY
DESCRIPTION:Amy Branson-Jacobson & Robby Mabry vs MIY - Nole
END:VALARM
END:VEVENT
BEGIN:VEVENT
UID:mpy-561140@ygametime.com
DTSTAMP:Z
DTSTART;TZID=America/Los Angeles:20251025T090000
DURATION:PT0H60M0S
SUMMARY:MIY - Nole vs MIY - Kasi
DESCRIPTION:3&4 Grade Co-Ed | Fall Volleyball\nWithnell Family YMCA\n
URL;VALUE=URI:https://ygametime.com/branch/mpy/sports/2025-fall-fall-volleyball/23860/?utm_medium=calendar&utm_source=team_cal&utm_content=league_url#game-561140
LOCATION:The Gate Youth Association 
BEGIN:VALARM
TRIGGER:-P2H
ACTION:DISPLAY
DESCRIPTION:MIY - Nole vs MIY - Kasi
END:VALARM
END:VEVENT
BEGIN:VEVENT
UID:mpy-561331@ygametime.com
DTSTAMP:Z
DTSTART;TZID=America/Los Angeles:20251025T100000
DURATION:PT0H60M0S
SUMMARY:Adam Schrecengost vs MIY - Nole
DESCRIPTION:3&4 Grade Co-Ed | Fall Volleyball\nWithnell Family YMCA\n
URL;VALUE=URI:https://ygametime.com/branch/mpy/sports/2025-fall-fall-volleyball/23860/?utm_medium=calendar&utm_source=team_cal&utm_content=league_url#game-561331
LOCATION:The Gate Youth Association 
BEGIN:VALARM
TRIGGER:-P2H
ACTION:DISPLAY
DESCRIPTION:Adam Schrecengost vs MIY - Nole
END:VALARM
END:VEVENT
END:VCALENDAR

