BEGIN:VCALENDAR
VERSION:2.0
PRODID:-//YGAMETIME.com//YGT iCal Creator//EN
METHOD:PUBLISH
X-PUBLISHED-TTL:PT6H
REFRESH-INTERVAL;VALUE=DURATION:PT6H
CALSCALE:GREGORIAN
X-WR-CALNAME:YGAMETIME CALENDAR
BEGIN:VEVENT
UID:mpy-561302@ygametime.com
DTSTAMP:Z
DTSTART;TZID=America/Los Angeles:20250920T110000
DURATION:PT0H60M0S
SUMMARY:MIY Lizzy &  Thersa vs MIY Steve Hutchinson
DESCRIPTION:5&6 Grade Co-Ed | Fall Volleyball\nWithnell Family YMCA\n
URL;VALUE=URI:https://ygametime.com/branch/mpy/sports/2025-fall-fall-volleyball/23861/?utm_medium=calendar&utm_source=team_cal&utm_content=league_url#game-561302
LOCATION:The Gate Youth Association 
BEGIN:VALARM
TRIGGER:-P2H
ACTION:DISPLAY
DESCRIPTION:MIY Lizzy &  Thersa vs MIY Steve Hutchinson
END:VALARM
END:VEVENT
BEGIN:VEVENT
UID:mpy-561305@ygametime.com
DTSTAMP:Z
DTSTART;TZID=America/Los Angeles:20250927T120000
DURATION:PT0H60M0S
SUMMARY:MIY Steve Hutchinson vs Rachel Davis
DESCRIPTION:5&6 Grade Co-Ed | Fall Volleyball\nWithnell Family YMCA\n
URL;VALUE=URI:https://ygametime.com/branch/mpy/sports/2025-fall-fall-volleyball/23861/?utm_medium=calendar&utm_source=team_cal&utm_content=league_url#game-561305
LOCATION:Withnell Family YMCA: Court 1
BEGIN:VALARM
TRIGGER:-P2H
ACTION:DISPLAY
DESCRIPTION:MIY Steve Hutchinson vs Rachel Davis
END:VALARM
END:VEVENT
BEGIN:VEVENT
UID:mpy-561307@ygametime.com
DTSTAMP:Z
DTSTART;TZID=America/Los Angeles:20251004T110000
DURATION:PT0H60M0S
SUMMARY:MIY Steve Hutchinson vs Tes Lacy
DESCRIPTION:5&6 Grade Co-Ed | Fall Volleyball\nWithnell Family YMCA\n
URL;VALUE=URI:https://ygametime.com/branch/mpy/sports/2025-fall-fall-volleyball/23861/?utm_medium=calendar&utm_source=team_cal&utm_content=league_url#game-561307
LOCATION:The Gate Youth Association 
BEGIN:VALARM
TRIGGER:-P2H
ACTION:DISPLAY
DESCRIPTION:MIY Steve Hutchinson vs Tes Lacy
END:VALARM
END:VEVENT
BEGIN:VEVENT
UID:mpy-561311@ygametime.com
DTSTAMP:Z
DTSTART;TZID=America/Los Angeles:20251011T110000
DURATION:PT0H60M0S
SUMMARY:MIY Steve Hutchinson vs Mike Campbell
DESCRIPTION:5&6 Grade Co-Ed | Fall Volleyball\nWithnell Family YMCA\n
URL;VALUE=URI:https://ygametime.com/branch/mpy/sports/2025-fall-fall-volleyball/23861/?utm_medium=calendar&utm_source=team_cal&utm_content=league_url#game-561311
LOCATION:Withnell Family YMCA: Court 1
BEGIN:VALARM
TRIGGER:-P2H
ACTION:DISPLAY
DESCRIPTION:MIY Steve Hutchinson vs Mike Campbell
END:VALARM
END:VEVENT
BEGIN:VEVENT
UID:mpy-561313@ygametime.com
DTSTAMP:Z
DTSTART;TZID=America/Los Angeles:20251018T110000
DURATION:PT0H60M0S
SUMMARY:MIY Steve Hutchinson vs MIY Lizzy &  Thersa
DESCRIPTION:5&6 Grade Co-Ed | Fall Volleyball\nWithnell Family YMCA\n
URL;VALUE=URI:https://ygametime.com/branch/mpy/sports/2025-fall-fall-volleyball/23861/?utm_medium=calendar&utm_source=team_cal&utm_content=league_url#game-561313
LOCATION:The Gate Youth Association 
BEGIN:VALARM
TRIGGER:-P2H
ACTION:DISPLAY
DESCRIPTION:MIY Steve Hutchinson vs MIY Lizzy &  Thersa
END:VALARM
END:VEVENT
BEGIN:VEVENT
UID:mpy-561315@ygametime.com
DTSTAMP:Z
DTSTART;TZID=America/Los Angeles:20251025T110000
DURATION:PT0H60M0S
SUMMARY:Shaila Reagor vs MIY Steve Hutchinson
DESCRIPTION:5&6 Grade Co-Ed | Fall Volleyball\nWithnell Family YMCA\n
URL;VALUE=URI:https://ygametime.com/branch/mpy/sports/2025-fall-fall-volleyball/23861/?utm_medium=calendar&utm_source=team_cal&utm_content=league_url#game-561315
LOCATION:The Gate Youth Association 
BEGIN:VALARM
TRIGGER:-P2H
ACTION:DISPLAY
DESCRIPTION:Shaila Reagor vs MIY Steve Hutchinson
END:VALARM
END:VEVENT
END:VCALENDAR

