BEGIN:VCALENDAR
VERSION:2.0
PRODID:-//YGAMETIME.com//YGT iCal Creator//EN
METHOD:PUBLISH
X-PUBLISHED-TTL:PT6H
REFRESH-INTERVAL;VALUE=DURATION:PT6H
CALSCALE:GREGORIAN
X-WR-CALNAME:YGAMETIME CALENDAR
BEGIN:VTIMEZONE
TZID:America/New_York
X-LIC-LOCATION:America/New_York
BEGIN:DAYLIGHT
TZOFFSETFROM:-0500
TZOFFSETTO:-0400
TZNAME:EDT
DTSTART:19700308T020000
RRULE:FREQ=YEARLY;BYMONTH=3;BYDAY=2SU
END:DAYLIGHT
BEGIN:STANDARD
TZOFFSETFROM:-0400
TZOFFSETTO:-0500
TZNAME:EST
DTSTART:19701101T020000
RRULE:FREQ=YEARLY;BYMONTH=11;BYDAY=1SU
END:STANDARD
END:VTIMEZONE
BEGIN:VEVENT
UID:mty-555712@ygametime.com
DTSTAMP:20250906T130000Z
DTSTART;TZID=America/New_York:20250906T090000
DURATION:PT0H60M0S
SUMMARY:U8 Coach Pinckney vs U8 Coach Willis
DESCRIPTION:U8 (6 and 7 Year Olds) | Youth Soccer\nMiddle Tyger Family YMCA\n
URL;VALUE=URI:https://ygametime.com/branch/mty/sports/2025-fall-youth-soccer/24083/?utm_medium=calendar&utm_source=team_cal&utm_content=league_url#game-555712
LOCATION:Carolina FC Field 4
BEGIN:VALARM
TRIGGER:-P2H
ACTION:DISPLAY
DESCRIPTION:U8 Coach Pinckney vs U8 Coach Willis
END:VALARM
END:VEVENT
BEGIN:VEVENT
UID:mty-555713@ygametime.com
DTSTAMP:20250913T140000Z
DTSTART;TZID=America/New_York:20250913T100000
DURATION:PT0H60M0S
SUMMARY:U8 Coach Willis vs U8 Coach Casey
DESCRIPTION:U8 (6 and 7 Year Olds) | Youth Soccer\nMiddle Tyger Family YMCA\n
URL;VALUE=URI:https://ygametime.com/branch/mty/sports/2025-fall-youth-soccer/24083/?utm_medium=calendar&utm_source=team_cal&utm_content=league_url#game-555713
LOCATION:Thomas E. Hannah YMCA- Field 4
BEGIN:VALARM
TRIGGER:-P2H
ACTION:DISPLAY
DESCRIPTION:U8 Coach Willis vs U8 Coach Casey
END:VALARM
END:VEVENT
BEGIN:VEVENT
UID:mty-555715@ygametime.com
DTSTAMP:20250920T130000Z
DTSTART;TZID=America/New_York:20250920T090000
DURATION:PT0H60M0S
SUMMARY:U8 Coach Willis vs U8 Coach Goodson
DESCRIPTION:U8 (6 and 7 Year Olds) | Youth Soccer\nMiddle Tyger Family YMCA\n
URL;VALUE=URI:https://ygametime.com/branch/mty/sports/2025-fall-youth-soccer/24083/?utm_medium=calendar&utm_source=team_cal&utm_content=league_url#game-555715
LOCATION:Carolina FC Field 3
BEGIN:VALARM
TRIGGER:-P2H
ACTION:DISPLAY
DESCRIPTION:U8 Coach Willis vs U8 Coach Goodson
END:VALARM
END:VEVENT
BEGIN:VEVENT
UID:mty-555717@ygametime.com
DTSTAMP:20250927T130000Z
DTSTART;TZID=America/New_York:20250927T090000
DURATION:PT0H60M0S
SUMMARY:U8 Coach Pinckney vs U8 Coach Willis
DESCRIPTION:U8 (6 and 7 Year Olds) | Youth Soccer\nMiddle Tyger Family YMCA\n
URL;VALUE=URI:https://ygametime.com/branch/mty/sports/2025-fall-youth-soccer/24083/?utm_medium=calendar&utm_source=team_cal&utm_content=league_url#game-555717
LOCATION:Carolina FC Field 3
BEGIN:VALARM
TRIGGER:-P2H
ACTION:DISPLAY
DESCRIPTION:U8 Coach Pinckney vs U8 Coach Willis
END:VALARM
END:VEVENT
BEGIN:VEVENT
UID:mty-555720@ygametime.com
DTSTAMP:20251004T130000Z
DTSTART;TZID=America/New_York:20251004T090000
DURATION:PT0H60M0S
SUMMARY:U8 Coach Willis vs U8 Coach Casey
DESCRIPTION:U8 (6 and 7 Year Olds) | Youth Soccer\nMiddle Tyger Family YMCA\n
URL;VALUE=URI:https://ygametime.com/branch/mty/sports/2025-fall-youth-soccer/24083/?utm_medium=calendar&utm_source=team_cal&utm_content=league_url#game-555720
LOCATION:Carolina FC Field 4
BEGIN:VALARM
TRIGGER:-P2H
ACTION:DISPLAY
DESCRIPTION:U8 Coach Willis vs U8 Coach Casey
END:VALARM
END:VEVENT
BEGIN:VEVENT
UID:mty-555722@ygametime.com
DTSTAMP:20251011T130000Z
DTSTART;TZID=America/New_York:20251011T090000
DURATION:PT0H60M0S
SUMMARY:U8 Coach Willis vs U8 Coach Goodson
DESCRIPTION:U8 (6 and 7 Year Olds) | Youth Soccer\nMiddle Tyger Family YMCA\n
URL;VALUE=URI:https://ygametime.com/branch/mty/sports/2025-fall-youth-soccer/24083/?utm_medium=calendar&utm_source=team_cal&utm_content=league_url#game-555722
LOCATION:Carolina FC Field 4
BEGIN:VALARM
TRIGGER:-P2H
ACTION:DISPLAY
DESCRIPTION:U8 Coach Willis vs U8 Coach Goodson
END:VALARM
END:VEVENT
BEGIN:VEVENT
UID:mty-555724@ygametime.com
DTSTAMP:20251018T130000Z
DTSTART;TZID=America/New_York:20251018T090000
DURATION:PT0H60M0S
SUMMARY:U8 Coach Pinckney vs U8 Coach Willis
DESCRIPTION:U8 (6 and 7 Year Olds) | Youth Soccer\nMiddle Tyger Family YMCA\n
URL;VALUE=URI:https://ygametime.com/branch/mty/sports/2025-fall-youth-soccer/24083/?utm_medium=calendar&utm_source=team_cal&utm_content=league_url#game-555724
LOCATION:Carolina FC Field 4
BEGIN:VALARM
TRIGGER:-P2H
ACTION:DISPLAY
DESCRIPTION:U8 Coach Pinckney vs U8 Coach Willis
END:VALARM
END:VEVENT
END:VCALENDAR

