BEGIN:VCALENDAR
VERSION:2.0
PRODID:-//YGAMETIME.com//YGT iCal Creator//EN
METHOD:PUBLISH
X-PUBLISHED-TTL:PT6H
REFRESH-INTERVAL;VALUE=DURATION:PT6H
CALSCALE:GREGORIAN
X-WR-CALNAME:YGAMETIME CALENDAR
BEGIN:VTIMEZONE
TZID:America/Chicago
X-LIC-LOCATION:America/Chicago
BEGIN:DAYLIGHT
TZOFFSETFROM:-0600
TZOFFSETTO:-0500
TZNAME:CDT
DTSTART:19700308T020000
RRULE:FREQ=YEARLY;BYMONTH=3;BYDAY=2SU
END:DAYLIGHT
BEGIN:STANDARD
TZOFFSETFROM:-0500
TZOFFSETTO:-0600
TZNAME:CST
DTSTART:19701101T020000
RRULE:FREQ=YEARLY;BYMONTH=11;BYDAY=1SU
END:STANDARD
END:VTIMEZONE
BEGIN:VEVENT
UID:ozarkmtn-66075@ygametime.com
DTSTAMP:20160801T233000Z
DTSTART;TZID=America/Chicago:20160801T183000
DURATION:PT0H60M0S
SUMMARY:Team 5 "Steven Eskew" vs Team 1 "All Access Branson"
DESCRIPTION:Division 1 | Men's Adult Basketball Season\nOzark Mountain Family YMCA\n
URL;VALUE=URI:https://ygametime.com/branch/ozarkmtn/sports/2016-summer-men-s-adult-basketball-season/2693/?utm_medium=calendar&utm_source=team_cal&utm_content=league_url#game-66075
LOCATION:Ozark Mountain Family YMCA Main Branch
BEGIN:VALARM
TRIGGER:-P2H
ACTION:DISPLAY
DESCRIPTION:Team 5 "Steven Eskew" vs Team 1 "All Access Branson"
END:VALARM
END:VEVENT
BEGIN:VEVENT
UID:ozarkmtn-66080@ygametime.com
DTSTAMP:20160809T013000Z
DTSTART;TZID=America/Chicago:20160808T203000
DURATION:PT0H60M0S
SUMMARY:Team 1 "All Access Branson" vs Team 6 "Stan Morris"
DESCRIPTION:Division 1 | Men's Adult Basketball Season\nOzark Mountain Family YMCA\n
URL;VALUE=URI:https://ygametime.com/branch/ozarkmtn/sports/2016-summer-men-s-adult-basketball-season/2693/?utm_medium=calendar&utm_source=team_cal&utm_content=league_url#game-66080
LOCATION:Ozark Mountain Family YMCA Main Branch
BEGIN:VALARM
TRIGGER:-P2H
ACTION:DISPLAY
DESCRIPTION:Team 1 "All Access Branson" vs Team 6 "Stan Morris"
END:VALARM
END:VEVENT
BEGIN:VEVENT
UID:ozarkmtn-66082@ygametime.com
DTSTAMP:20160815T233000Z
DTSTART;TZID=America/Chicago:20160815T183000
DURATION:PT0H60M0S
SUMMARY:Team 7 "OTH" vs Team 1 "All Access Branson"
DESCRIPTION:Division 1 | Men's Adult Basketball Season\nOzark Mountain Family YMCA\n
URL;VALUE=URI:https://ygametime.com/branch/ozarkmtn/sports/2016-summer-men-s-adult-basketball-season/2693/?utm_medium=calendar&utm_source=team_cal&utm_content=league_url#game-66082
LOCATION:Ozark Mountain Family YMCA Main Branch
BEGIN:VALARM
TRIGGER:-P2H
ACTION:DISPLAY
DESCRIPTION:Team 7 "OTH" vs Team 1 "All Access Branson"
END:VALARM
END:VEVENT
BEGIN:VEVENT
UID:ozarkmtn-66089@ygametime.com
DTSTAMP:20160830T013000Z
DTSTART;TZID=America/Chicago:20160829T203000
DURATION:PT0H60M0S
SUMMARY:Team 1 "All Access Branson" vs Team 4 "John Biebler"
DESCRIPTION:Division 1 | Men's Adult Basketball Season\nOzark Mountain Family YMCA\n
URL;VALUE=URI:https://ygametime.com/branch/ozarkmtn/sports/2016-summer-men-s-adult-basketball-season/2693/?utm_medium=calendar&utm_source=team_cal&utm_content=league_url#game-66089
LOCATION:Ozark Mountain Family YMCA Main Branch
BEGIN:VALARM
TRIGGER:-P2H
ACTION:DISPLAY
DESCRIPTION:Team 1 "All Access Branson" vs Team 4 "John Biebler"
END:VALARM
END:VEVENT
BEGIN:VEVENT
UID:ozarkmtn-66091@ygametime.com
DTSTAMP:20160906T003000Z
DTSTART;TZID=America/Chicago:20160905T193000
DURATION:PT0H60M0S
SUMMARY:Team 1 "All Access Branson" vs Team 3 "Stephen Johnson"
DESCRIPTION:Division 1 | Men's Adult Basketball Season\nOzark Mountain Family YMCA\n
URL;VALUE=URI:https://ygametime.com/branch/ozarkmtn/sports/2016-summer-men-s-adult-basketball-season/2693/?utm_medium=calendar&utm_source=team_cal&utm_content=league_url#game-66091
LOCATION:Ozark Mountain Family YMCA Main Branch
BEGIN:VALARM
TRIGGER:-P2H
ACTION:DISPLAY
DESCRIPTION:Team 1 "All Access Branson" vs Team 3 "Stephen Johnson"
END:VALARM
END:VEVENT
BEGIN:VEVENT
UID:ozarkmtn-66093@ygametime.com
DTSTAMP:20160913T003000Z
DTSTART;TZID=America/Chicago:20160912T193000
DURATION:PT0H60M0S
SUMMARY:Team 2 "Jacob Bettlach" vs Team 1 "All Access Branson"
DESCRIPTION:Division 1 | Men's Adult Basketball Season\nOzark Mountain Family YMCA\n
URL;VALUE=URI:https://ygametime.com/branch/ozarkmtn/sports/2016-summer-men-s-adult-basketball-season/2693/?utm_medium=calendar&utm_source=team_cal&utm_content=league_url#game-66093
LOCATION:Ozark Mountain Family YMCA Main Branch
BEGIN:VALARM
TRIGGER:-P2H
ACTION:DISPLAY
DESCRIPTION:Team 2 "Jacob Bettlach" vs Team 1 "All Access Branson"
END:VALARM
END:VEVENT
END:VCALENDAR

