BEGIN:VCALENDAR
VERSION:2.0
PRODID:-//YGAMETIME.com//YGT iCal Creator//EN
METHOD:PUBLISH
X-PUBLISHED-TTL:PT6H
REFRESH-INTERVAL;VALUE=DURATION:PT6H
CALSCALE:GREGORIAN
X-WR-CALNAME:YGAMETIME CALENDAR
BEGIN:VTIMEZONE
TZID:America/Chicago
X-LIC-LOCATION:America/Chicago
BEGIN:DAYLIGHT
TZOFFSETFROM:-0600
TZOFFSETTO:-0500
TZNAME:CDT
DTSTART:19700308T020000
RRULE:FREQ=YEARLY;BYMONTH=3;BYDAY=2SU
END:DAYLIGHT
BEGIN:STANDARD
TZOFFSETFROM:-0500
TZOFFSETTO:-0600
TZNAME:CST
DTSTART:19701101T020000
RRULE:FREQ=YEARLY;BYMONTH=11;BYDAY=1SU
END:STANDARD
END:VTIMEZONE
BEGIN:VEVENT
UID:ozarkmtn-66077@ygametime.com
DTSTAMP:20160802T013000Z
DTSTART;TZID=America/Chicago:20160801T203000
DURATION:PT0H60M0S
SUMMARY:Team 3 "Stephen Johnson" vs Team 7 "OTH"
DESCRIPTION:Division 1 | Men's Adult Basketball Season\nOzark Mountain Family YMCA\n
URL;VALUE=URI:https://ygametime.com/branch/ozarkmtn/sports/2016-summer-men-s-adult-basketball-season/2693/?utm_medium=calendar&utm_source=team_cal&utm_content=league_url#game-66077
LOCATION:Ozark Mountain Family YMCA Main Branch
BEGIN:VALARM
TRIGGER:-P2H
ACTION:DISPLAY
DESCRIPTION:Team 3 "Stephen Johnson" vs Team 7 "OTH"
END:VALARM
END:VEVENT
BEGIN:VEVENT
UID:ozarkmtn-66079@ygametime.com
DTSTAMP:20160809T003000Z
DTSTART;TZID=America/Chicago:20160808T193000
DURATION:PT0H60M0S
SUMMARY:Team 4 "John Biebler" vs Team 3 "Stephen Johnson"
DESCRIPTION:Division 1 | Men's Adult Basketball Season\nOzark Mountain Family YMCA\n
URL;VALUE=URI:https://ygametime.com/branch/ozarkmtn/sports/2016-summer-men-s-adult-basketball-season/2693/?utm_medium=calendar&utm_source=team_cal&utm_content=league_url#game-66079
LOCATION:Ozark Mountain Family YMCA Main Branch
BEGIN:VALARM
TRIGGER:-P2H
ACTION:DISPLAY
DESCRIPTION:Team 4 "John Biebler" vs Team 3 "Stephen Johnson"
END:VALARM
END:VEVENT
BEGIN:VEVENT
UID:ozarkmtn-66081@ygametime.com
DTSTAMP:20160816T003000Z
DTSTART;TZID=America/Chicago:20160815T193000
DURATION:PT0H60M0S
SUMMARY:Team 3 "Stephen Johnson" vs Team 2 "Jacob Bettlach"
DESCRIPTION:Division 1 | Men's Adult Basketball Season\nOzark Mountain Family YMCA\n
URL;VALUE=URI:https://ygametime.com/branch/ozarkmtn/sports/2016-summer-men-s-adult-basketball-season/2693/?utm_medium=calendar&utm_source=team_cal&utm_content=league_url#game-66081
LOCATION:Ozark Mountain Family YMCA Main Branch
BEGIN:VALARM
TRIGGER:-P2H
ACTION:DISPLAY
DESCRIPTION:Team 3 "Stephen Johnson" vs Team 2 "Jacob Bettlach"
END:VALARM
END:VEVENT
BEGIN:VEVENT
UID:ozarkmtn-66085@ygametime.com
DTSTAMP:20160823T003000Z
DTSTART;TZID=America/Chicago:20160822T193000
DURATION:PT0H60M0S
SUMMARY:Team 6 "Stan Morris" vs Team 3 "Stephen Johnson"
DESCRIPTION:Division 1 | Men's Adult Basketball Season\nOzark Mountain Family YMCA\n
URL;VALUE=URI:https://ygametime.com/branch/ozarkmtn/sports/2016-summer-men-s-adult-basketball-season/2693/?utm_medium=calendar&utm_source=team_cal&utm_content=league_url#game-66085
LOCATION:Ozark Mountain Family YMCA Main Branch
BEGIN:VALARM
TRIGGER:-P2H
ACTION:DISPLAY
DESCRIPTION:Team 6 "Stan Morris" vs Team 3 "Stephen Johnson"
END:VALARM
END:VEVENT
BEGIN:VEVENT
UID:ozarkmtn-66091@ygametime.com
DTSTAMP:20160906T003000Z
DTSTART;TZID=America/Chicago:20160905T193000
DURATION:PT0H60M0S
SUMMARY:Team 1 "All Access Branson" vs Team 3 "Stephen Johnson"
DESCRIPTION:Division 1 | Men's Adult Basketball Season\nOzark Mountain Family YMCA\n
URL;VALUE=URI:https://ygametime.com/branch/ozarkmtn/sports/2016-summer-men-s-adult-basketball-season/2693/?utm_medium=calendar&utm_source=team_cal&utm_content=league_url#game-66091
LOCATION:Ozark Mountain Family YMCA Main Branch
BEGIN:VALARM
TRIGGER:-P2H
ACTION:DISPLAY
DESCRIPTION:Team 1 "All Access Branson" vs Team 3 "Stephen Johnson"
END:VALARM
END:VEVENT
BEGIN:VEVENT
UID:ozarkmtn-66094@ygametime.com
DTSTAMP:20160912T233000Z
DTSTART;TZID=America/Chicago:20160912T183000
DURATION:PT0H60M0S
SUMMARY:Team 3 "Stephen Johnson" vs Team 5 "Steven Eskew"
DESCRIPTION:Division 1 | Men's Adult Basketball Season\nOzark Mountain Family YMCA\n
URL;VALUE=URI:https://ygametime.com/branch/ozarkmtn/sports/2016-summer-men-s-adult-basketball-season/2693/?utm_medium=calendar&utm_source=team_cal&utm_content=league_url#game-66094
LOCATION:Ozark Mountain Family YMCA Main Branch
BEGIN:VALARM
TRIGGER:-P2H
ACTION:DISPLAY
DESCRIPTION:Team 3 "Stephen Johnson" vs Team 5 "Steven Eskew"
END:VALARM
END:VEVENT
END:VCALENDAR

