BEGIN:VCALENDAR
VERSION:2.0
PRODID:-//YGAMETIME.com//YGT iCal Creator//EN
METHOD:PUBLISH
X-PUBLISHED-TTL:PT6H
REFRESH-INTERVAL;VALUE=DURATION:PT6H
CALSCALE:GREGORIAN
X-WR-CALNAME:YGAMETIME CALENDAR
BEGIN:VTIMEZONE
TZID:America/Chicago
X-LIC-LOCATION:America/Chicago
BEGIN:DAYLIGHT
TZOFFSETFROM:-0600
TZOFFSETTO:-0500
TZNAME:CDT
DTSTART:19700308T020000
RRULE:FREQ=YEARLY;BYMONTH=3;BYDAY=2SU
END:DAYLIGHT
BEGIN:STANDARD
TZOFFSETFROM:-0500
TZOFFSETTO:-0600
TZNAME:CST
DTSTART:19701101T020000
RRULE:FREQ=YEARLY;BYMONTH=11;BYDAY=1SU
END:STANDARD
END:VTIMEZONE
BEGIN:VEVENT
UID:patjones-61178@ygametime.com
DTSTAMP:20160606T223000Z
DTSTART;TZID=America/Chicago:20160606T173000
DURATION:PT0H60M0S
SUMMARY:2 (Forest Green) vs 1 (Orange)
DESCRIPTION:T-Ball | Baseball/Softball/T-Ball\nPat Jones YMCA\n
URL;VALUE=URI:https://ygametime.com/branch/patjones/sports/2016-summer-baseball-softball-t-ball/2504/?utm_medium=calendar&utm_source=team_cal&utm_content=league_url#game-61178
LOCATION:Field 1
BEGIN:VALARM
TRIGGER:-P2H
ACTION:DISPLAY
DESCRIPTION:2 (Forest Green) vs 1 (Orange)
END:VALARM
END:VEVENT
BEGIN:VEVENT
UID:patjones-61185@ygametime.com
DTSTAMP:20160613T233000Z
DTSTART;TZID=America/Chicago:20160613T183000
DURATION:PT0H60M0S
SUMMARY:8 (Royal Blue) vs 2 (Forest Green)
DESCRIPTION:T-Ball | Baseball/Softball/T-Ball\nPat Jones YMCA\n
URL;VALUE=URI:https://ygametime.com/branch/patjones/sports/2016-summer-baseball-softball-t-ball/2504/?utm_medium=calendar&utm_source=team_cal&utm_content=league_url#game-61185
LOCATION:Field 2
BEGIN:VALARM
TRIGGER:-P2H
ACTION:DISPLAY
DESCRIPTION:8 (Royal Blue) vs 2 (Forest Green)
END:VALARM
END:VEVENT
BEGIN:VEVENT
UID:patjones-61188@ygametime.com
DTSTAMP:20160620T233000Z
DTSTART;TZID=America/Chicago:20160620T183000
DURATION:PT0H60M0S
SUMMARY:2 (Forest Green) vs 3 (Gold)
DESCRIPTION:T-Ball | Baseball/Softball/T-Ball\nPat Jones YMCA\n
URL;VALUE=URI:https://ygametime.com/branch/patjones/sports/2016-summer-baseball-softball-t-ball/2504/?utm_medium=calendar&utm_source=team_cal&utm_content=league_url#game-61188
LOCATION:Field 1
BEGIN:VALARM
TRIGGER:-P2H
ACTION:DISPLAY
DESCRIPTION:2 (Forest Green) vs 3 (Gold)
END:VALARM
END:VEVENT
BEGIN:VEVENT
UID:patjones-61191@ygametime.com
DTSTAMP:20160627T223000Z
DTSTART;TZID=America/Chicago:20160627T173000
DURATION:PT0H60M0S
SUMMARY:2 (Forest Green) vs 6 (Maroon)
DESCRIPTION:T-Ball | Baseball/Softball/T-Ball\nPat Jones YMCA\n
URL;VALUE=URI:https://ygametime.com/branch/patjones/sports/2016-summer-baseball-softball-t-ball/2504/?utm_medium=calendar&utm_source=team_cal&utm_content=league_url#game-61191
LOCATION:Field 2
BEGIN:VALARM
TRIGGER:-P2H
ACTION:DISPLAY
DESCRIPTION:2 (Forest Green) vs 6 (Maroon)
END:VALARM
END:VEVENT
BEGIN:VEVENT
UID:patjones-61198@ygametime.com
DTSTAMP:20160711T223000Z
DTSTART;TZID=America/Chicago:20160711T173000
DURATION:PT0H60M0S
SUMMARY:2 (Forest Green) vs 5 (Lime Green)
DESCRIPTION:T-Ball | Baseball/Softball/T-Ball\nPat Jones YMCA\n
URL;VALUE=URI:https://ygametime.com/branch/patjones/sports/2016-summer-baseball-softball-t-ball/2504/?utm_medium=calendar&utm_source=team_cal&utm_content=league_url#game-61198
LOCATION:Field 1
BEGIN:VALARM
TRIGGER:-P2H
ACTION:DISPLAY
DESCRIPTION:2 (Forest Green) vs 5 (Lime Green)
END:VALARM
END:VEVENT
BEGIN:VEVENT
UID:patjones-61205@ygametime.com
DTSTAMP:20160718T233000Z
DTSTART;TZID=America/Chicago:20160718T183000
DURATION:PT0H60M0S
SUMMARY:4 (Kelly Green) vs 2 (Forest Green)
DESCRIPTION:T-Ball | Baseball/Softball/T-Ball\nPat Jones YMCA\n
URL;VALUE=URI:https://ygametime.com/branch/patjones/sports/2016-summer-baseball-softball-t-ball/2504/?utm_medium=calendar&utm_source=team_cal&utm_content=league_url#game-61205
LOCATION:Field 2
BEGIN:VALARM
TRIGGER:-P2H
ACTION:DISPLAY
DESCRIPTION:4 (Kelly Green) vs 2 (Forest Green)
END:VALARM
END:VEVENT
BEGIN:VEVENT
UID:patjones-61208@ygametime.com
DTSTAMP:20160801T233000Z
DTSTART;TZID=America/Chicago:20160801T183000
DURATION:PT0H60M0S
SUMMARY:7 (Navy) vs 2 (Forest Green)
DESCRIPTION:T-Ball | Baseball/Softball/T-Ball\nPat Jones YMCA\n
URL;VALUE=URI:https://ygametime.com/branch/patjones/sports/2016-summer-baseball-softball-t-ball/2504/?utm_medium=calendar&utm_source=team_cal&utm_content=league_url#game-61208
LOCATION:Field 1
BEGIN:VALARM
TRIGGER:-P2H
ACTION:DISPLAY
DESCRIPTION:7 (Navy) vs 2 (Forest Green)
END:VALARM
END:VEVENT
END:VCALENDAR

