BEGIN:VCALENDAR
VERSION:2.0
PRODID:-//YGAMETIME.com//YGT iCal Creator//EN
METHOD:PUBLISH
X-PUBLISHED-TTL:PT6H
REFRESH-INTERVAL;VALUE=DURATION:PT6H
CALSCALE:GREGORIAN
X-WR-CALNAME:YGAMETIME CALENDAR
BEGIN:VTIMEZONE
TZID:America/Chicago
X-LIC-LOCATION:America/Chicago
BEGIN:DAYLIGHT
TZOFFSETFROM:-0600
TZOFFSETTO:-0500
TZNAME:CDT
DTSTART:19700308T020000
RRULE:FREQ=YEARLY;BYMONTH=3;BYDAY=2SU
END:DAYLIGHT
BEGIN:STANDARD
TZOFFSETFROM:-0500
TZOFFSETTO:-0600
TZNAME:CST
DTSTART:19701101T020000
RRULE:FREQ=YEARLY;BYMONTH=11;BYDAY=1SU
END:STANDARD
END:VTIMEZONE
BEGIN:VEVENT
UID:patjones-61180@ygametime.com
DTSTAMP:20160606T233000Z
DTSTART;TZID=America/Chicago:20160606T183000
DURATION:PT0H60M0S
SUMMARY:3 (Gold) vs 4 (Kelly Green)
DESCRIPTION:T-Ball | Baseball/Softball/T-Ball\nPat Jones YMCA\n
URL;VALUE=URI:https://ygametime.com/branch/patjones/sports/2016-summer-baseball-softball-t-ball/2504/?utm_medium=calendar&utm_source=team_cal&utm_content=league_url#game-61180
LOCATION:Field 1
BEGIN:VALARM
TRIGGER:-P2H
ACTION:DISPLAY
DESCRIPTION:3 (Gold) vs 4 (Kelly Green)
END:VALARM
END:VEVENT
BEGIN:VEVENT
UID:patjones-61184@ygametime.com
DTSTAMP:20160613T233000Z
DTSTART;TZID=America/Chicago:20160613T183000
DURATION:PT0H60M0S
SUMMARY:4 (Kelly Green) vs 5 (Lime Green)
DESCRIPTION:T-Ball | Baseball/Softball/T-Ball\nPat Jones YMCA\n
URL;VALUE=URI:https://ygametime.com/branch/patjones/sports/2016-summer-baseball-softball-t-ball/2504/?utm_medium=calendar&utm_source=team_cal&utm_content=league_url#game-61184
LOCATION:Field 1
BEGIN:VALARM
TRIGGER:-P2H
ACTION:DISPLAY
DESCRIPTION:4 (Kelly Green) vs 5 (Lime Green)
END:VALARM
END:VEVENT
BEGIN:VEVENT
UID:patjones-61189@ygametime.com
DTSTAMP:20160620T233000Z
DTSTART;TZID=America/Chicago:20160620T183000
DURATION:PT0H60M0S
SUMMARY:1 (Orange) vs 4 (Kelly Green)
DESCRIPTION:T-Ball | Baseball/Softball/T-Ball\nPat Jones YMCA\n
URL;VALUE=URI:https://ygametime.com/branch/patjones/sports/2016-summer-baseball-softball-t-ball/2504/?utm_medium=calendar&utm_source=team_cal&utm_content=league_url#game-61189
LOCATION:Field 2
BEGIN:VALARM
TRIGGER:-P2H
ACTION:DISPLAY
DESCRIPTION:1 (Orange) vs 4 (Kelly Green)
END:VALARM
END:VEVENT
BEGIN:VEVENT
UID:patjones-61190@ygametime.com
DTSTAMP:20160627T223000Z
DTSTART;TZID=America/Chicago:20160627T173000
DURATION:PT0H60M0S
SUMMARY:4 (Kelly Green) vs 8 (Royal Blue)
DESCRIPTION:T-Ball | Baseball/Softball/T-Ball\nPat Jones YMCA\n
URL;VALUE=URI:https://ygametime.com/branch/patjones/sports/2016-summer-baseball-softball-t-ball/2504/?utm_medium=calendar&utm_source=team_cal&utm_content=league_url#game-61190
LOCATION:Field 1
BEGIN:VALARM
TRIGGER:-P2H
ACTION:DISPLAY
DESCRIPTION:4 (Kelly Green) vs 8 (Royal Blue)
END:VALARM
END:VEVENT
BEGIN:VEVENT
UID:patjones-61199@ygametime.com
DTSTAMP:20160711T223000Z
DTSTART;TZID=America/Chicago:20160711T173000
DURATION:PT0H60M0S
SUMMARY:4 (Kelly Green) vs 7 (Navy)
DESCRIPTION:T-Ball | Baseball/Softball/T-Ball\nPat Jones YMCA\n
URL;VALUE=URI:https://ygametime.com/branch/patjones/sports/2016-summer-baseball-softball-t-ball/2504/?utm_medium=calendar&utm_source=team_cal&utm_content=league_url#game-61199
LOCATION:Field 2
BEGIN:VALARM
TRIGGER:-P2H
ACTION:DISPLAY
DESCRIPTION:4 (Kelly Green) vs 7 (Navy)
END:VALARM
END:VEVENT
BEGIN:VEVENT
UID:patjones-61205@ygametime.com
DTSTAMP:20160718T233000Z
DTSTART;TZID=America/Chicago:20160718T183000
DURATION:PT0H60M0S
SUMMARY:4 (Kelly Green) vs 2 (Forest Green)
DESCRIPTION:T-Ball | Baseball/Softball/T-Ball\nPat Jones YMCA\n
URL;VALUE=URI:https://ygametime.com/branch/patjones/sports/2016-summer-baseball-softball-t-ball/2504/?utm_medium=calendar&utm_source=team_cal&utm_content=league_url#game-61205
LOCATION:Field 2
BEGIN:VALARM
TRIGGER:-P2H
ACTION:DISPLAY
DESCRIPTION:4 (Kelly Green) vs 2 (Forest Green)
END:VALARM
END:VEVENT
BEGIN:VEVENT
UID:patjones-61206@ygametime.com
DTSTAMP:20160801T223000Z
DTSTART;TZID=America/Chicago:20160801T173000
DURATION:PT0H60M0S
SUMMARY:6 (Maroon) vs 4 (Kelly Green)
DESCRIPTION:T-Ball | Baseball/Softball/T-Ball\nPat Jones YMCA\n
URL;VALUE=URI:https://ygametime.com/branch/patjones/sports/2016-summer-baseball-softball-t-ball/2504/?utm_medium=calendar&utm_source=team_cal&utm_content=league_url#game-61206
LOCATION:Field 1
BEGIN:VALARM
TRIGGER:-P2H
ACTION:DISPLAY
DESCRIPTION:6 (Maroon) vs 4 (Kelly Green)
END:VALARM
END:VEVENT
END:VCALENDAR

