BEGIN:VCALENDAR
VERSION:2.0
PRODID:-//YGAMETIME.com//YGT iCal Creator//EN
METHOD:PUBLISH
X-PUBLISHED-TTL:PT6H
REFRESH-INTERVAL;VALUE=DURATION:PT6H
CALSCALE:GREGORIAN
X-WR-CALNAME:YGAMETIME CALENDAR
BEGIN:VTIMEZONE
TZID:America/Chicago
X-LIC-LOCATION:America/Chicago
BEGIN:DAYLIGHT
TZOFFSETFROM:-0600
TZOFFSETTO:-0500
TZNAME:CDT
DTSTART:19700308T020000
RRULE:FREQ=YEARLY;BYMONTH=3;BYDAY=2SU
END:DAYLIGHT
BEGIN:STANDARD
TZOFFSETFROM:-0500
TZOFFSETTO:-0600
TZNAME:CST
DTSTART:19701101T020000
RRULE:FREQ=YEARLY;BYMONTH=11;BYDAY=1SU
END:STANDARD
END:VTIMEZONE
BEGIN:VEVENT
UID:patjones-61211@ygametime.com
DTSTAMP:20160531T223000Z
DTSTART;TZID=America/Chicago:20160531T173000
DURATION:PT0H60M0S
SUMMARY:7 (Purple) vs 8 (Forest Green)
DESCRIPTION:5/6 Years | Baseball/Softball/T-Ball\nPat Jones YMCA\n
URL;VALUE=URI:https://ygametime.com/branch/patjones/sports/2016-summer-baseball-softball-t-ball/2505/?utm_medium=calendar&utm_source=team_cal&utm_content=league_url#game-61211
LOCATION:Field 2
BEGIN:VALARM
TRIGGER:-P2H
ACTION:DISPLAY
DESCRIPTION:7 (Purple) vs 8 (Forest Green)
END:VALARM
END:VEVENT
BEGIN:VEVENT
UID:patjones-61217@ygametime.com
DTSTAMP:20160607T233000Z
DTSTART;TZID=America/Chicago:20160607T183000
DURATION:PT0H60M0S
SUMMARY:8 (Forest Green) vs 2 (Yellow)
DESCRIPTION:5/6 Years | Baseball/Softball/T-Ball\nPat Jones YMCA\n
URL;VALUE=URI:https://ygametime.com/branch/patjones/sports/2016-summer-baseball-softball-t-ball/2505/?utm_medium=calendar&utm_source=team_cal&utm_content=league_url#game-61217
LOCATION:Field 2
BEGIN:VALARM
TRIGGER:-P2H
ACTION:DISPLAY
DESCRIPTION:8 (Forest Green) vs 2 (Yellow)
END:VALARM
END:VEVENT
BEGIN:VEVENT
UID:patjones-61219@ygametime.com
DTSTAMP:20160614T223000Z
DTSTART;TZID=America/Chicago:20160614T173000
DURATION:PT0H60M0S
SUMMARY:6 (Gray) vs 8 (Forest Green)
DESCRIPTION:5/6 Years | Baseball/Softball/T-Ball\nPat Jones YMCA\n
URL;VALUE=URI:https://ygametime.com/branch/patjones/sports/2016-summer-baseball-softball-t-ball/2505/?utm_medium=calendar&utm_source=team_cal&utm_content=league_url#game-61219
LOCATION:Field 1
BEGIN:VALARM
TRIGGER:-P2H
ACTION:DISPLAY
DESCRIPTION:6 (Gray) vs 8 (Forest Green)
END:VALARM
END:VEVENT
BEGIN:VEVENT
UID:patjones-61222@ygametime.com
DTSTAMP:20160621T223000Z
DTSTART;TZID=America/Chicago:20160621T173000
DURATION:PT0H60M0S
SUMMARY:4 (Blue) vs 8 (Forest Green)
DESCRIPTION:5/6 Years | Baseball/Softball/T-Ball\nPat Jones YMCA\n
URL;VALUE=URI:https://ygametime.com/branch/patjones/sports/2016-summer-baseball-softball-t-ball/2505/?utm_medium=calendar&utm_source=team_cal&utm_content=league_url#game-61222
LOCATION:Field 2
BEGIN:VALARM
TRIGGER:-P2H
ACTION:DISPLAY
DESCRIPTION:4 (Blue) vs 8 (Forest Green)
END:VALARM
END:VEVENT
BEGIN:VEVENT
UID:patjones-61228@ygametime.com
DTSTAMP:20160628T233000Z
DTSTART;TZID=America/Chicago:20160628T183000
DURATION:PT0H60M0S
SUMMARY:3 (Red) vs 8 (Forest Green)
DESCRIPTION:5/6 Years | Baseball/Softball/T-Ball\nPat Jones YMCA\n
URL;VALUE=URI:https://ygametime.com/branch/patjones/sports/2016-summer-baseball-softball-t-ball/2505/?utm_medium=calendar&utm_source=team_cal&utm_content=league_url#game-61228
LOCATION:Field 2
BEGIN:VALARM
TRIGGER:-P2H
ACTION:DISPLAY
DESCRIPTION:3 (Red) vs 8 (Forest Green)
END:VALARM
END:VEVENT
BEGIN:VEVENT
UID:patjones-61235@ygametime.com
DTSTAMP:20160712T223000Z
DTSTART;TZID=America/Chicago:20160712T173000
DURATION:PT0H60M0S
SUMMARY:1 (Orange) vs 8 (Forest Green)
DESCRIPTION:5/6 Years | Baseball/Softball/T-Ball\nPat Jones YMCA\n
URL;VALUE=URI:https://ygametime.com/branch/patjones/sports/2016-summer-baseball-softball-t-ball/2505/?utm_medium=calendar&utm_source=team_cal&utm_content=league_url#game-61235
LOCATION:Field 2
BEGIN:VALARM
TRIGGER:-P2H
ACTION:DISPLAY
DESCRIPTION:1 (Orange) vs 8 (Forest Green)
END:VALARM
END:VEVENT
BEGIN:VEVENT
UID:patjones-61231@ygametime.com
DTSTAMP:20160719T223000Z
DTSTART;TZID=America/Chicago:20160719T173000
DURATION:PT0H60M0S
SUMMARY:8 (Forest Green) vs 5 (Lime Green)
DESCRIPTION:5/6 Years | Baseball/Softball/T-Ball\nPat Jones YMCA\n
URL;VALUE=URI:https://ygametime.com/branch/patjones/sports/2016-summer-baseball-softball-t-ball/2505/?utm_medium=calendar&utm_source=team_cal&utm_content=league_url#game-61231
LOCATION:Field 2
BEGIN:VALARM
TRIGGER:-P2H
ACTION:DISPLAY
DESCRIPTION:8 (Forest Green) vs 5 (Lime Green)
END:VALARM
END:VEVENT
END:VCALENDAR

