BEGIN:VCALENDAR
VERSION:2.0
PRODID:-//YGAMETIME.com//YGT iCal Creator//EN
METHOD:PUBLISH
X-PUBLISHED-TTL:PT6H
REFRESH-INTERVAL;VALUE=DURATION:PT6H
CALSCALE:GREGORIAN
X-WR-CALNAME:YGAMETIME CALENDAR
BEGIN:VTIMEZONE
TZID:America/Chicago
X-LIC-LOCATION:America/Chicago
BEGIN:DAYLIGHT
TZOFFSETFROM:-0600
TZOFFSETTO:-0500
TZNAME:CDT
DTSTART:19700308T020000
RRULE:FREQ=YEARLY;BYMONTH=3;BYDAY=2SU
END:DAYLIGHT
BEGIN:STANDARD
TZOFFSETFROM:-0500
TZOFFSETTO:-0600
TZNAME:CST
DTSTART:19701101T020000
RRULE:FREQ=YEARLY;BYMONTH=11;BYDAY=1SU
END:STANDARD
END:VTIMEZONE
BEGIN:VEVENT
UID:patjones-61284@ygametime.com
DTSTAMP:20160602T223000Z
DTSTART;TZID=America/Chicago:20160602T173000
DURATION:PT0H60M0S
SUMMARY:2 (Green) vs 1 (Red)
DESCRIPTION:7/8 Years Baseball | Baseball/Softball/T-Ball\nPat Jones YMCA\n
URL;VALUE=URI:https://ygametime.com/branch/patjones/sports/2016-summer-baseball-softball-t-ball/2506/?utm_medium=calendar&utm_source=team_cal&utm_content=league_url#game-61284
LOCATION:Field 2
BEGIN:VALARM
TRIGGER:-P2H
ACTION:DISPLAY
DESCRIPTION:2 (Green) vs 1 (Red)
END:VALARM
END:VEVENT
BEGIN:VEVENT
UID:patjones-61288@ygametime.com
DTSTAMP:20160609T233000Z
DTSTART;TZID=America/Chicago:20160609T183000
DURATION:PT0H60M0S
SUMMARY:2 (Green) vs 5 (Maroon)
DESCRIPTION:7/8 Years Baseball | Baseball/Softball/T-Ball\nPat Jones YMCA\n
URL;VALUE=URI:https://ygametime.com/branch/patjones/sports/2016-summer-baseball-softball-t-ball/2506/?utm_medium=calendar&utm_source=team_cal&utm_content=league_url#game-61288
LOCATION:Field 2
BEGIN:VALARM
TRIGGER:-P2H
ACTION:DISPLAY
DESCRIPTION:2 (Green) vs 5 (Maroon)
END:VALARM
END:VEVENT
BEGIN:VEVENT
UID:patjones-61289@ygametime.com
DTSTAMP:20160610T003000Z
DTSTART;TZID=America/Chicago:20160609T193000
DURATION:PT0H60M0S
SUMMARY:4 (Orange) vs 2 (Green)
DESCRIPTION:7/8 Years Baseball | Baseball/Softball/T-Ball\nPat Jones YMCA\n
URL;VALUE=URI:https://ygametime.com/branch/patjones/sports/2016-summer-baseball-softball-t-ball/2506/?utm_medium=calendar&utm_source=team_cal&utm_content=league_url#game-61289
LOCATION:Field 2
BEGIN:VALARM
TRIGGER:-P2H
ACTION:DISPLAY
DESCRIPTION:4 (Orange) vs 2 (Green)
END:VALARM
END:VEVENT
BEGIN:VEVENT
UID:patjones-61291@ygametime.com
DTSTAMP:20160616T233000Z
DTSTART;TZID=America/Chicago:20160616T183000
DURATION:PT0H60M0S
SUMMARY:2 (Green) vs 3 (Blue)
DESCRIPTION:7/8 Years Baseball | Baseball/Softball/T-Ball\nPat Jones YMCA\n
URL;VALUE=URI:https://ygametime.com/branch/patjones/sports/2016-summer-baseball-softball-t-ball/2506/?utm_medium=calendar&utm_source=team_cal&utm_content=league_url#game-61291
LOCATION:Field 2
BEGIN:VALARM
TRIGGER:-P2H
ACTION:DISPLAY
DESCRIPTION:2 (Green) vs 3 (Blue)
END:VALARM
END:VEVENT
BEGIN:VEVENT
UID:patjones-61294@ygametime.com
DTSTAMP:20160623T233000Z
DTSTART;TZID=America/Chicago:20160623T183000
DURATION:PT0H60M0S
SUMMARY:2 (Green) vs 5 (Maroon)
DESCRIPTION:7/8 Years Baseball | Baseball/Softball/T-Ball\nPat Jones YMCA\n
URL;VALUE=URI:https://ygametime.com/branch/patjones/sports/2016-summer-baseball-softball-t-ball/2506/?utm_medium=calendar&utm_source=team_cal&utm_content=league_url#game-61294
LOCATION:Field 2
BEGIN:VALARM
TRIGGER:-P2H
ACTION:DISPLAY
DESCRIPTION:2 (Green) vs 5 (Maroon)
END:VALARM
END:VEVENT
BEGIN:VEVENT
UID:patjones-61297@ygametime.com
DTSTAMP:20160630T233000Z
DTSTART;TZID=America/Chicago:20160630T183000
DURATION:PT0H60M0S
SUMMARY:4 (Orange) vs 2 (Green)
DESCRIPTION:7/8 Years Baseball | Baseball/Softball/T-Ball\nPat Jones YMCA\n
URL;VALUE=URI:https://ygametime.com/branch/patjones/sports/2016-summer-baseball-softball-t-ball/2506/?utm_medium=calendar&utm_source=team_cal&utm_content=league_url#game-61297
LOCATION:Field 2
BEGIN:VALARM
TRIGGER:-P2H
ACTION:DISPLAY
DESCRIPTION:4 (Orange) vs 2 (Green)
END:VALARM
END:VEVENT
BEGIN:VEVENT
UID:patjones-61299@ygametime.com
DTSTAMP:20160707T223000Z
DTSTART;TZID=America/Chicago:20160707T173000
DURATION:PT0H60M0S
SUMMARY:2 (Green) vs 5 (Maroon)
DESCRIPTION:7/8 Years Baseball | Baseball/Softball/T-Ball\nPat Jones YMCA\n
URL;VALUE=URI:https://ygametime.com/branch/patjones/sports/2016-summer-baseball-softball-t-ball/2506/?utm_medium=calendar&utm_source=team_cal&utm_content=league_url#game-61299
LOCATION:Field 2
BEGIN:VALARM
TRIGGER:-P2H
ACTION:DISPLAY
DESCRIPTION:2 (Green) vs 5 (Maroon)
END:VALARM
END:VEVENT
BEGIN:VEVENT
UID:patjones-61303@ygametime.com
DTSTAMP:20160714T233000Z
DTSTART;TZID=America/Chicago:20160714T183000
DURATION:PT0H60M0S
SUMMARY:2 (Green) vs 3 (Blue)
DESCRIPTION:7/8 Years Baseball | Baseball/Softball/T-Ball\nPat Jones YMCA\n
URL;VALUE=URI:https://ygametime.com/branch/patjones/sports/2016-summer-baseball-softball-t-ball/2506/?utm_medium=calendar&utm_source=team_cal&utm_content=league_url#game-61303
LOCATION:Field 2
BEGIN:VALARM
TRIGGER:-P2H
ACTION:DISPLAY
DESCRIPTION:2 (Green) vs 3 (Blue)
END:VALARM
END:VEVENT
BEGIN:VEVENT
UID:patjones-65737@ygametime.com
DTSTAMP:20160715T003000Z
DTSTART;TZID=America/Chicago:20160714T193000
DURATION:PT0H60M0S
SUMMARY:2 (Green) vs 5 (Maroon)
DESCRIPTION:7/8 Years Baseball | Baseball/Softball/T-Ball\nPat Jones YMCA\n
URL;VALUE=URI:https://ygametime.com/branch/patjones/sports/2016-summer-baseball-softball-t-ball/2506/?utm_medium=calendar&utm_source=team_cal&utm_content=league_url#game-65737
LOCATION:Field 2
BEGIN:VALARM
TRIGGER:-P2H
ACTION:DISPLAY
DESCRIPTION:2 (Green) vs 5 (Maroon)
END:VALARM
END:VEVENT
END:VCALENDAR

