BEGIN:VCALENDAR
VERSION:2.0
PRODID:-//YGAMETIME.com//YGT iCal Creator//EN
METHOD:PUBLISH
X-PUBLISHED-TTL:PT6H
REFRESH-INTERVAL;VALUE=DURATION:PT6H
CALSCALE:GREGORIAN
X-WR-CALNAME:YGAMETIME CALENDAR
BEGIN:VTIMEZONE
TZID:America/Chicago
X-LIC-LOCATION:America/Chicago
BEGIN:DAYLIGHT
TZOFFSETFROM:-0600
TZOFFSETTO:-0500
TZNAME:CDT
DTSTART:19700308T020000
RRULE:FREQ=YEARLY;BYMONTH=3;BYDAY=2SU
END:DAYLIGHT
BEGIN:STANDARD
TZOFFSETFROM:-0500
TZOFFSETTO:-0600
TZNAME:CST
DTSTART:19701101T020000
RRULE:FREQ=YEARLY;BYMONTH=11;BYDAY=1SU
END:STANDARD
END:VTIMEZONE
BEGIN:VEVENT
UID:patjones-61285@ygametime.com
DTSTAMP:20160602T233000Z
DTSTART;TZID=America/Chicago:20160602T183000
DURATION:PT0H60M0S
SUMMARY:3 (Blue) vs 4 (Orange)
DESCRIPTION:7/8 Years Baseball | Baseball/Softball/T-Ball\nPat Jones YMCA\n
URL;VALUE=URI:https://ygametime.com/branch/patjones/sports/2016-summer-baseball-softball-t-ball/2506/?utm_medium=calendar&utm_source=team_cal&utm_content=league_url#game-61285
LOCATION:Field 2
BEGIN:VALARM
TRIGGER:-P2H
ACTION:DISPLAY
DESCRIPTION:3 (Blue) vs 4 (Orange)
END:VALARM
END:VEVENT
BEGIN:VEVENT
UID:patjones-61287@ygametime.com
DTSTAMP:20160609T223000Z
DTSTART;TZID=America/Chicago:20160609T173000
DURATION:PT0H60M0S
SUMMARY:1 (Red) vs 3 (Blue)
DESCRIPTION:7/8 Years Baseball | Baseball/Softball/T-Ball\nPat Jones YMCA\n
URL;VALUE=URI:https://ygametime.com/branch/patjones/sports/2016-summer-baseball-softball-t-ball/2506/?utm_medium=calendar&utm_source=team_cal&utm_content=league_url#game-61287
LOCATION:Field 2
BEGIN:VALARM
TRIGGER:-P2H
ACTION:DISPLAY
DESCRIPTION:1 (Red) vs 3 (Blue)
END:VALARM
END:VEVENT
BEGIN:VEVENT
UID:patjones-61291@ygametime.com
DTSTAMP:20160616T233000Z
DTSTART;TZID=America/Chicago:20160616T183000
DURATION:PT0H60M0S
SUMMARY:2 (Green) vs 3 (Blue)
DESCRIPTION:7/8 Years Baseball | Baseball/Softball/T-Ball\nPat Jones YMCA\n
URL;VALUE=URI:https://ygametime.com/branch/patjones/sports/2016-summer-baseball-softball-t-ball/2506/?utm_medium=calendar&utm_source=team_cal&utm_content=league_url#game-61291
LOCATION:Field 2
BEGIN:VALARM
TRIGGER:-P2H
ACTION:DISPLAY
DESCRIPTION:2 (Green) vs 3 (Blue)
END:VALARM
END:VEVENT
BEGIN:VEVENT
UID:patjones-61293@ygametime.com
DTSTAMP:20160623T223000Z
DTSTART;TZID=America/Chicago:20160623T173000
DURATION:PT0H60M0S
SUMMARY:5 (Maroon) vs 3 (Blue)
DESCRIPTION:7/8 Years Baseball | Baseball/Softball/T-Ball\nPat Jones YMCA\n
URL;VALUE=URI:https://ygametime.com/branch/patjones/sports/2016-summer-baseball-softball-t-ball/2506/?utm_medium=calendar&utm_source=team_cal&utm_content=league_url#game-61293
LOCATION:Field 2
BEGIN:VALARM
TRIGGER:-P2H
ACTION:DISPLAY
DESCRIPTION:5 (Maroon) vs 3 (Blue)
END:VALARM
END:VEVENT
BEGIN:VEVENT
UID:patjones-61295@ygametime.com
DTSTAMP:20160624T003000Z
DTSTART;TZID=America/Chicago:20160623T193000
DURATION:PT0H60M0S
SUMMARY:1 (Red) vs 3 (Blue)
DESCRIPTION:7/8 Years Baseball | Baseball/Softball/T-Ball\nPat Jones YMCA\n
URL;VALUE=URI:https://ygametime.com/branch/patjones/sports/2016-summer-baseball-softball-t-ball/2506/?utm_medium=calendar&utm_source=team_cal&utm_content=league_url#game-61295
LOCATION:Field 2
BEGIN:VALARM
TRIGGER:-P2H
ACTION:DISPLAY
DESCRIPTION:1 (Red) vs 3 (Blue)
END:VALARM
END:VEVENT
BEGIN:VEVENT
UID:patjones-61296@ygametime.com
DTSTAMP:20160630T223000Z
DTSTART;TZID=America/Chicago:20160630T173000
DURATION:PT0H60M0S
SUMMARY:1 (Red) vs 3 (Blue)
DESCRIPTION:7/8 Years Baseball | Baseball/Softball/T-Ball\nPat Jones YMCA\n
URL;VALUE=URI:https://ygametime.com/branch/patjones/sports/2016-summer-baseball-softball-t-ball/2506/?utm_medium=calendar&utm_source=team_cal&utm_content=league_url#game-61296
LOCATION:Field 2
BEGIN:VALARM
TRIGGER:-P2H
ACTION:DISPLAY
DESCRIPTION:1 (Red) vs 3 (Blue)
END:VALARM
END:VEVENT
BEGIN:VEVENT
UID:patjones-65736@ygametime.com
DTSTAMP:20160708T003000Z
DTSTART;TZID=America/Chicago:20160707T193000
DURATION:PT0H60M0S
SUMMARY:1 (Red) vs 3 (Blue)
DESCRIPTION:7/8 Years Baseball | Baseball/Softball/T-Ball\nPat Jones YMCA\n
URL;VALUE=URI:https://ygametime.com/branch/patjones/sports/2016-summer-baseball-softball-t-ball/2506/?utm_medium=calendar&utm_source=team_cal&utm_content=league_url#game-65736
LOCATION:Field 2
BEGIN:VALARM
TRIGGER:-P2H
ACTION:DISPLAY
DESCRIPTION:1 (Red) vs 3 (Blue)
END:VALARM
END:VEVENT
BEGIN:VEVENT
UID:patjones-61303@ygametime.com
DTSTAMP:20160714T233000Z
DTSTART;TZID=America/Chicago:20160714T183000
DURATION:PT0H60M0S
SUMMARY:2 (Green) vs 3 (Blue)
DESCRIPTION:7/8 Years Baseball | Baseball/Softball/T-Ball\nPat Jones YMCA\n
URL;VALUE=URI:https://ygametime.com/branch/patjones/sports/2016-summer-baseball-softball-t-ball/2506/?utm_medium=calendar&utm_source=team_cal&utm_content=league_url#game-61303
LOCATION:Field 2
BEGIN:VALARM
TRIGGER:-P2H
ACTION:DISPLAY
DESCRIPTION:2 (Green) vs 3 (Blue)
END:VALARM
END:VEVENT
END:VCALENDAR

