BEGIN:VCALENDAR
VERSION:2.0
PRODID:-//YGAMETIME.com//YGT iCal Creator//EN
METHOD:PUBLISH
X-PUBLISHED-TTL:PT6H
REFRESH-INTERVAL;VALUE=DURATION:PT6H
CALSCALE:GREGORIAN
X-WR-CALNAME:YGAMETIME CALENDAR
BEGIN:VTIMEZONE
TZID:America/Chicago
X-LIC-LOCATION:America/Chicago
BEGIN:DAYLIGHT
TZOFFSETFROM:-0600
TZOFFSETTO:-0500
TZNAME:CDT
DTSTART:19700308T020000
RRULE:FREQ=YEARLY;BYMONTH=3;BYDAY=2SU
END:DAYLIGHT
BEGIN:STANDARD
TZOFFSETFROM:-0500
TZOFFSETTO:-0600
TZNAME:CST
DTSTART:19701101T020000
RRULE:FREQ=YEARLY;BYMONTH=11;BYDAY=1SU
END:STANDARD
END:VTIMEZONE
BEGIN:VEVENT
UID:patjones-61305@ygametime.com
DTSTAMP:20160602T223000Z
DTSTART;TZID=America/Chicago:20160602T173000
DURATION:PT0H60M0S
SUMMARY:2 (Pink) vs 1 (Orange)
DESCRIPTION:7/8 Years Softball | Baseball/Softball/T-Ball\nPat Jones YMCA\n
URL;VALUE=URI:https://ygametime.com/branch/patjones/sports/2016-summer-baseball-softball-t-ball/2508/?utm_medium=calendar&utm_source=team_cal&utm_content=league_url#game-61305
LOCATION:Field 1
BEGIN:VALARM
TRIGGER:-P2H
ACTION:DISPLAY
DESCRIPTION:2 (Pink) vs 1 (Orange)
END:VALARM
END:VEVENT
BEGIN:VEVENT
UID:patjones-61308@ygametime.com
DTSTAMP:20160609T233000Z
DTSTART;TZID=America/Chicago:20160609T183000
DURATION:PT0H60M0S
SUMMARY:1 (Orange) vs 4 (Lime Green)
DESCRIPTION:7/8 Years Softball | Baseball/Softball/T-Ball\nPat Jones YMCA\n
URL;VALUE=URI:https://ygametime.com/branch/patjones/sports/2016-summer-baseball-softball-t-ball/2508/?utm_medium=calendar&utm_source=team_cal&utm_content=league_url#game-61308
LOCATION:Field 1
BEGIN:VALARM
TRIGGER:-P2H
ACTION:DISPLAY
DESCRIPTION:1 (Orange) vs 4 (Lime Green)
END:VALARM
END:VEVENT
BEGIN:VEVENT
UID:patjones-61310@ygametime.com
DTSTAMP:20160616T233000Z
DTSTART;TZID=America/Chicago:20160616T183000
DURATION:PT0H60M0S
SUMMARY:3 (Kelly Green) vs 1 (Orange)
DESCRIPTION:7/8 Years Softball | Baseball/Softball/T-Ball\nPat Jones YMCA\n
URL;VALUE=URI:https://ygametime.com/branch/patjones/sports/2016-summer-baseball-softball-t-ball/2508/?utm_medium=calendar&utm_source=team_cal&utm_content=league_url#game-61310
LOCATION:Field 1
BEGIN:VALARM
TRIGGER:-P2H
ACTION:DISPLAY
DESCRIPTION:3 (Kelly Green) vs 1 (Orange)
END:VALARM
END:VEVENT
BEGIN:VEVENT
UID:patjones-61312@ygametime.com
DTSTAMP:20160623T233000Z
DTSTART;TZID=America/Chicago:20160623T183000
DURATION:PT0H60M0S
SUMMARY:2 (Pink) vs 1 (Orange)
DESCRIPTION:7/8 Years Softball | Baseball/Softball/T-Ball\nPat Jones YMCA\n
URL;VALUE=URI:https://ygametime.com/branch/patjones/sports/2016-summer-baseball-softball-t-ball/2508/?utm_medium=calendar&utm_source=team_cal&utm_content=league_url#game-61312
LOCATION:Field 1
BEGIN:VALARM
TRIGGER:-P2H
ACTION:DISPLAY
DESCRIPTION:2 (Pink) vs 1 (Orange)
END:VALARM
END:VEVENT
BEGIN:VEVENT
UID:patjones-61313@ygametime.com
DTSTAMP:20160630T223000Z
DTSTART;TZID=America/Chicago:20160630T173000
DURATION:PT0H60M0S
SUMMARY:1 (Orange) vs 4 (Lime Green)
DESCRIPTION:7/8 Years Softball | Baseball/Softball/T-Ball\nPat Jones YMCA\n
URL;VALUE=URI:https://ygametime.com/branch/patjones/sports/2016-summer-baseball-softball-t-ball/2508/?utm_medium=calendar&utm_source=team_cal&utm_content=league_url#game-61313
LOCATION:Field 1
BEGIN:VALARM
TRIGGER:-P2H
ACTION:DISPLAY
DESCRIPTION:1 (Orange) vs 4 (Lime Green)
END:VALARM
END:VEVENT
BEGIN:VEVENT
UID:patjones-61315@ygametime.com
DTSTAMP:20160707T223000Z
DTSTART;TZID=America/Chicago:20160707T173000
DURATION:PT0H60M0S
SUMMARY:3 (Kelly Green) vs 1 (Orange)
DESCRIPTION:7/8 Years Softball | Baseball/Softball/T-Ball\nPat Jones YMCA\n
URL;VALUE=URI:https://ygametime.com/branch/patjones/sports/2016-summer-baseball-softball-t-ball/2508/?utm_medium=calendar&utm_source=team_cal&utm_content=league_url#game-61315
LOCATION:Field 1
BEGIN:VALARM
TRIGGER:-P2H
ACTION:DISPLAY
DESCRIPTION:3 (Kelly Green) vs 1 (Orange)
END:VALARM
END:VEVENT
BEGIN:VEVENT
UID:patjones-61318@ygametime.com
DTSTAMP:20160714T233000Z
DTSTART;TZID=America/Chicago:20160714T183000
DURATION:PT0H60M0S
SUMMARY:1 (Orange) vs 2 (Pink)
DESCRIPTION:7/8 Years Softball | Baseball/Softball/T-Ball\nPat Jones YMCA\n
URL;VALUE=URI:https://ygametime.com/branch/patjones/sports/2016-summer-baseball-softball-t-ball/2508/?utm_medium=calendar&utm_source=team_cal&utm_content=league_url#game-61318
LOCATION:Field 1
BEGIN:VALARM
TRIGGER:-P2H
ACTION:DISPLAY
DESCRIPTION:1 (Orange) vs 2 (Pink)
END:VALARM
END:VEVENT
BEGIN:VEVENT
UID:patjones-65735@ygametime.com
DTSTAMP:20160715T003000Z
DTSTART;TZID=America/Chicago:20160714T193000
DURATION:PT0H60M0S
SUMMARY:1 (Orange) vs 2 (Pink)
DESCRIPTION:7/8 Years Softball | Baseball/Softball/T-Ball\nPat Jones YMCA\n
URL;VALUE=URI:https://ygametime.com/branch/patjones/sports/2016-summer-baseball-softball-t-ball/2508/?utm_medium=calendar&utm_source=team_cal&utm_content=league_url#game-65735
LOCATION:Field 1
BEGIN:VALARM
TRIGGER:-P2H
ACTION:DISPLAY
DESCRIPTION:1 (Orange) vs 2 (Pink)
END:VALARM
END:VEVENT
END:VCALENDAR

