BEGIN:VCALENDAR
VERSION:2.0
PRODID:-//YGAMETIME.com//YGT iCal Creator//EN
METHOD:PUBLISH
X-PUBLISHED-TTL:PT6H
REFRESH-INTERVAL;VALUE=DURATION:PT6H
CALSCALE:GREGORIAN
X-WR-CALNAME:YGAMETIME CALENDAR
BEGIN:VTIMEZONE
TZID:America/New_York
X-LIC-LOCATION:America/New_York
BEGIN:DAYLIGHT
TZOFFSETFROM:-0500
TZOFFSETTO:-0400
TZNAME:EDT
DTSTART:19700308T020000
RRULE:FREQ=YEARLY;BYMONTH=3;BYDAY=2SU
END:DAYLIGHT
BEGIN:STANDARD
TZOFFSETFROM:-0400
TZOFFSETTO:-0500
TZNAME:EST
DTSTART:19701101T020000
RRULE:FREQ=YEARLY;BYMONTH=11;BYDAY=1SU
END:STANDARD
END:VTIMEZONE
BEGIN:VEVENT
UID:putnam-483949@ygametime.com
DTSTAMP:20240907T160000Z
DTSTART;TZID=America/New_York:20240907T120000
DURATION:PT0H60M0S
SUMMARY:Bucher vs Lynchard/Fancher
DESCRIPTION:11/14 | Soccer\nPutnam County Family YMCA\n
URL;VALUE=URI:https://ygametime.com/branch/putnam/sports/2024-fall-soccer/21047/?utm_medium=calendar&utm_source=team_cal&utm_content=league_url#game-483949
LOCATION:Field 6 (9/11 Game Field)
BEGIN:VALARM
TRIGGER:-P2H
ACTION:DISPLAY
DESCRIPTION:Bucher vs Lynchard/Fancher
END:VALARM
END:VEVENT
BEGIN:VEVENT
UID:putnam-483950@ygametime.com
DTSTAMP:20240914T150000Z
DTSTART;TZID=America/New_York:20240914T110000
DURATION:PT0H60M0S
SUMMARY:Lynchard/Fancher vs Bucher
DESCRIPTION:11/14 | Soccer\nPutnam County Family YMCA\n
URL;VALUE=URI:https://ygametime.com/branch/putnam/sports/2024-fall-soccer/21047/?utm_medium=calendar&utm_source=team_cal&utm_content=league_url#game-483950
LOCATION:Field 6 (9/11 Game Field)
BEGIN:VALARM
TRIGGER:-P2H
ACTION:DISPLAY
DESCRIPTION:Lynchard/Fancher vs Bucher
END:VALARM
END:VEVENT
BEGIN:VEVENT
UID:putnam-483951@ygametime.com
DTSTAMP:20240914T163000Z
DTSTART;TZID=America/New_York:20240914T123000
DURATION:PT0H60M0S
SUMMARY:Phelps vs Lynchard/Fancher
DESCRIPTION:11/14 | Soccer\nPutnam County Family YMCA\n
URL;VALUE=URI:https://ygametime.com/branch/putnam/sports/2024-fall-soccer/21047/?utm_medium=calendar&utm_source=team_cal&utm_content=league_url#game-483951
LOCATION:Field 6 (9/11 Game Field)
BEGIN:VALARM
TRIGGER:-P2H
ACTION:DISPLAY
DESCRIPTION:Phelps vs Lynchard/Fancher
END:VALARM
END:VEVENT
BEGIN:VEVENT
UID:putnam-483952@ygametime.com
DTSTAMP:20240921T150000Z
DTSTART;TZID=America/New_York:20240921T110000
DURATION:PT0H60M0S
SUMMARY:Lynchard/Fancher vs Phelps
DESCRIPTION:11/14 | Soccer\nPutnam County Family YMCA\n
URL;VALUE=URI:https://ygametime.com/branch/putnam/sports/2024-fall-soccer/21047/?utm_medium=calendar&utm_source=team_cal&utm_content=league_url#game-483952
LOCATION:Field 6 (9/11 Game Field)
BEGIN:VALARM
TRIGGER:-P2H
ACTION:DISPLAY
DESCRIPTION:Lynchard/Fancher vs Phelps
END:VALARM
END:VEVENT
BEGIN:VEVENT
UID:putnam-483954@ygametime.com
DTSTAMP:20240928T150000Z
DTSTART;TZID=America/New_York:20240928T110000
DURATION:PT0H60M0S
SUMMARY:Bucher vs Lynchard/Fancher
DESCRIPTION:11/14 | Soccer\nPutnam County Family YMCA\n
URL;VALUE=URI:https://ygametime.com/branch/putnam/sports/2024-fall-soccer/21047/?utm_medium=calendar&utm_source=team_cal&utm_content=league_url#game-483954
LOCATION:Field 6 (9/11 Game Field)
BEGIN:VALARM
TRIGGER:-P2H
ACTION:DISPLAY
DESCRIPTION:Bucher vs Lynchard/Fancher
END:VALARM
END:VEVENT
BEGIN:VEVENT
UID:putnam-483956@ygametime.com
DTSTAMP:20241019T150000Z
DTSTART;TZID=America/New_York:20241019T110000
DURATION:PT0H60M0S
SUMMARY:Phelps vs Lynchard/Fancher
DESCRIPTION:11/14 | Soccer\nPutnam County Family YMCA\n
URL;VALUE=URI:https://ygametime.com/branch/putnam/sports/2024-fall-soccer/21047/?utm_medium=calendar&utm_source=team_cal&utm_content=league_url#game-483956
LOCATION:Field 6 (9/11 Game Field)
BEGIN:VALARM
TRIGGER:-P2H
ACTION:DISPLAY
DESCRIPTION:Phelps vs Lynchard/Fancher
END:VALARM
END:VEVENT
BEGIN:VEVENT
UID:putnam-483957@ygametime.com
DTSTAMP:20241019T163000Z
DTSTART;TZID=America/New_York:20241019T123000
DURATION:PT0H60M0S
SUMMARY:Lynchard/Fancher vs Bucher
DESCRIPTION:11/14 | Soccer\nPutnam County Family YMCA\n
URL;VALUE=URI:https://ygametime.com/branch/putnam/sports/2024-fall-soccer/21047/?utm_medium=calendar&utm_source=team_cal&utm_content=league_url#game-483957
LOCATION:Field 6 (9/11 Game Field)
BEGIN:VALARM
TRIGGER:-P2H
ACTION:DISPLAY
DESCRIPTION:Lynchard/Fancher vs Bucher
END:VALARM
END:VEVENT
BEGIN:VEVENT
UID:putnam-483959@ygametime.com
DTSTAMP:20241026T163000Z
DTSTART;TZID=America/New_York:20241026T123000
DURATION:PT0H60M0S
SUMMARY:Lynchard/Fancher vs Phelps
DESCRIPTION:11/14 | Soccer\nPutnam County Family YMCA\n
URL;VALUE=URI:https://ygametime.com/branch/putnam/sports/2024-fall-soccer/21047/?utm_medium=calendar&utm_source=team_cal&utm_content=league_url#game-483959
LOCATION:Field 6 (9/11 Game Field)
BEGIN:VALARM
TRIGGER:-P2H
ACTION:DISPLAY
DESCRIPTION:Lynchard/Fancher vs Phelps
END:VALARM
END:VEVENT
BEGIN:VEVENT
UID:putnam-483961@ygametime.com
DTSTAMP:20241102T163000Z
DTSTART;TZID=America/New_York:20241102T123000
DURATION:PT0H60M0S
SUMMARY:Bucher vs Lynchard/Fancher
DESCRIPTION:11/14 | Soccer\nPutnam County Family YMCA\n
URL;VALUE=URI:https://ygametime.com/branch/putnam/sports/2024-fall-soccer/21047/?utm_medium=calendar&utm_source=team_cal&utm_content=league_url#game-483961
LOCATION:Field 6 (9/11 Game Field)
BEGIN:VALARM
TRIGGER:-P2H
ACTION:DISPLAY
DESCRIPTION:Bucher vs Lynchard/Fancher
END:VALARM
END:VEVENT
BEGIN:VEVENT
UID:putnam-483962@ygametime.com
DTSTAMP:20241109T160000Z
DTSTART;TZID=America/New_York:20241109T110000
DURATION:PT0H60M0S
SUMMARY:Lynchard/Fancher vs Bucher
DESCRIPTION:11/14 | Soccer\nPutnam County Family YMCA\n
URL;VALUE=URI:https://ygametime.com/branch/putnam/sports/2024-fall-soccer/21047/?utm_medium=calendar&utm_source=team_cal&utm_content=league_url#game-483962
LOCATION:Field 6 (9/11 Game Field)
BEGIN:VALARM
TRIGGER:-P2H
ACTION:DISPLAY
DESCRIPTION:Lynchard/Fancher vs Bucher
END:VALARM
END:VEVENT
BEGIN:VEVENT
UID:putnam-483963@ygametime.com
DTSTAMP:20241109T173000Z
DTSTART;TZID=America/New_York:20241109T123000
DURATION:PT0H60M0S
SUMMARY:Phelps vs Lynchard/Fancher
DESCRIPTION:11/14 | Soccer\nPutnam County Family YMCA\n
URL;VALUE=URI:https://ygametime.com/branch/putnam/sports/2024-fall-soccer/21047/?utm_medium=calendar&utm_source=team_cal&utm_content=league_url#game-483963
LOCATION:Field 6 (9/11 Game Field)
BEGIN:VALARM
TRIGGER:-P2H
ACTION:DISPLAY
DESCRIPTION:Phelps vs Lynchard/Fancher
END:VALARM
END:VEVENT
END:VCALENDAR

