BEGIN:VCALENDAR
VERSION:2.0
PRODID:-//YGAMETIME.com//YGT iCal Creator//EN
METHOD:PUBLISH
X-PUBLISHED-TTL:PT6H
REFRESH-INTERVAL;VALUE=DURATION:PT6H
CALSCALE:GREGORIAN
X-WR-CALNAME:YGAMETIME CALENDAR
BEGIN:VTIMEZONE
TZID:America/New_York
X-LIC-LOCATION:America/New_York
BEGIN:DAYLIGHT
TZOFFSETFROM:-0500
TZOFFSETTO:-0400
TZNAME:EDT
DTSTART:19700308T020000
RRULE:FREQ=YEARLY;BYMONTH=3;BYDAY=2SU
END:DAYLIGHT
BEGIN:STANDARD
TZOFFSETFROM:-0400
TZOFFSETTO:-0500
TZNAME:EST
DTSTART:19701101T020000
RRULE:FREQ=YEARLY;BYMONTH=11;BYDAY=1SU
END:STANDARD
END:VTIMEZONE
BEGIN:VEVENT
UID:putnam-483734@ygametime.com
DTSTAMP:20240907T140000Z
DTSTART;TZID=America/New_York:20240907T100000
DURATION:PT0H60M0S
SUMMARY:LaFountain vs Smith
DESCRIPTION:9/10 | Soccer\nPutnam County Family YMCA\n
URL;VALUE=URI:https://ygametime.com/branch/putnam/sports/2024-fall-soccer/21045/?utm_medium=calendar&utm_source=team_cal&utm_content=league_url#game-483734
LOCATION:Field 1 (9/11) Practice field
BEGIN:VALARM
TRIGGER:-P2H
ACTION:DISPLAY
DESCRIPTION:LaFountain vs Smith
END:VALARM
END:VEVENT
BEGIN:VEVENT
UID:putnam-483736@ygametime.com
DTSTAMP:20240914T140000Z
DTSTART;TZID=America/New_York:20240914T100000
DURATION:PT0H60M0S
SUMMARY:Randolph vs LaFountain
DESCRIPTION:9/10 | Soccer\nPutnam County Family YMCA\n
URL;VALUE=URI:https://ygametime.com/branch/putnam/sports/2024-fall-soccer/21045/?utm_medium=calendar&utm_source=team_cal&utm_content=league_url#game-483736
LOCATION:Field 1 (9/11) Practice field
BEGIN:VALARM
TRIGGER:-P2H
ACTION:DISPLAY
DESCRIPTION:Randolph vs LaFountain
END:VALARM
END:VEVENT
BEGIN:VEVENT
UID:putnam-483739@ygametime.com
DTSTAMP:20240921T150000Z
DTSTART;TZID=America/New_York:20240921T110000
DURATION:PT0H60M0S
SUMMARY:LaFountain vs Stiles
DESCRIPTION:9/10 | Soccer\nPutnam County Family YMCA\n
URL;VALUE=URI:https://ygametime.com/branch/putnam/sports/2024-fall-soccer/21045/?utm_medium=calendar&utm_source=team_cal&utm_content=league_url#game-483739
LOCATION:Field 1 (9/11) Practice field
BEGIN:VALARM
TRIGGER:-P2H
ACTION:DISPLAY
DESCRIPTION:LaFountain vs Stiles
END:VALARM
END:VEVENT
BEGIN:VEVENT
UID:putnam-483743@ygametime.com
DTSTAMP:20241019T150000Z
DTSTART;TZID=America/New_York:20241019T110000
DURATION:PT0H60M0S
SUMMARY:Randolph vs LaFountain
DESCRIPTION:9/10 | Soccer\nPutnam County Family YMCA\n
URL;VALUE=URI:https://ygametime.com/branch/putnam/sports/2024-fall-soccer/21045/?utm_medium=calendar&utm_source=team_cal&utm_content=league_url#game-483743
LOCATION:Field 1 (9/11) Practice field
BEGIN:VALARM
TRIGGER:-P2H
ACTION:DISPLAY
DESCRIPTION:Randolph vs LaFountain
END:VALARM
END:VEVENT
BEGIN:VEVENT
UID:putnam-483744@ygametime.com
DTSTAMP:20241026T140000Z
DTSTART;TZID=America/New_York:20241026T100000
DURATION:PT0H60M0S
SUMMARY:LaFountain vs Stiles
DESCRIPTION:9/10 | Soccer\nPutnam County Family YMCA\n
URL;VALUE=URI:https://ygametime.com/branch/putnam/sports/2024-fall-soccer/21045/?utm_medium=calendar&utm_source=team_cal&utm_content=league_url#game-483744
LOCATION:Field 1 (9/11) Practice field
BEGIN:VALARM
TRIGGER:-P2H
ACTION:DISPLAY
DESCRIPTION:LaFountain vs Stiles
END:VALARM
END:VEVENT
BEGIN:VEVENT
UID:putnam-483746@ygametime.com
DTSTAMP:20241102T140000Z
DTSTART;TZID=America/New_York:20241102T100000
DURATION:PT0H60M0S
SUMMARY:LaFountain vs Smith
DESCRIPTION:9/10 | Soccer\nPutnam County Family YMCA\n
URL;VALUE=URI:https://ygametime.com/branch/putnam/sports/2024-fall-soccer/21045/?utm_medium=calendar&utm_source=team_cal&utm_content=league_url#game-483746
LOCATION:Field 1 (9/11) Practice field
BEGIN:VALARM
TRIGGER:-P2H
ACTION:DISPLAY
DESCRIPTION:LaFountain vs Smith
END:VALARM
END:VEVENT
BEGIN:VEVENT
UID:putnam-483741@ygametime.com
DTSTAMP:20241109T160000Z
DTSTART;TZID=America/New_York:20241109T110000
DURATION:PT0H60M0S
SUMMARY:LaFountain vs Smith
DESCRIPTION:9/10 | Soccer\nPutnam County Family YMCA\n
URL;VALUE=URI:https://ygametime.com/branch/putnam/sports/2024-fall-soccer/21045/?utm_medium=calendar&utm_source=team_cal&utm_content=league_url#game-483741
LOCATION:Field 1 (9/11) Practice field
BEGIN:VALARM
TRIGGER:-P2H
ACTION:DISPLAY
DESCRIPTION:LaFountain vs Smith
END:VALARM
END:VEVENT
END:VCALENDAR

