BEGIN:VCALENDAR
VERSION:2.0
PRODID:-//YGAMETIME.com//YGT iCal Creator//EN
METHOD:PUBLISH
X-PUBLISHED-TTL:PT6H
REFRESH-INTERVAL;VALUE=DURATION:PT6H
CALSCALE:GREGORIAN
X-WR-CALNAME:YGAMETIME CALENDAR
BEGIN:VTIMEZONE
TZID:America/New_York
X-LIC-LOCATION:America/New_York
BEGIN:DAYLIGHT
TZOFFSETFROM:-0500
TZOFFSETTO:-0400
TZNAME:EDT
DTSTART:19700308T020000
RRULE:FREQ=YEARLY;BYMONTH=3;BYDAY=2SU
END:DAYLIGHT
BEGIN:STANDARD
TZOFFSETFROM:-0400
TZOFFSETTO:-0500
TZNAME:EST
DTSTART:19701101T020000
RRULE:FREQ=YEARLY;BYMONTH=11;BYDAY=1SU
END:STANDARD
END:VTIMEZONE
BEGIN:VEVENT
UID:putnam-485414@ygametime.com
DTSTAMP:20240904T213000Z
DTSTART;TZID=America/New_York:20240904T173000
DURATION:PT0H60M0S
SUMMARY:Stratton vs Scantland
DESCRIPTION:7/8 | Soccer\nPutnam County Family YMCA\n
URL;VALUE=URI:https://ygametime.com/branch/putnam/sports/2024-fall-soccer/21044/?utm_medium=calendar&utm_source=team_cal&utm_content=league_url#game-485414
LOCATION:Field 4 (7/8)
BEGIN:VALARM
TRIGGER:-P2H
ACTION:DISPLAY
DESCRIPTION:Stratton vs Scantland
END:VALARM
END:VEVENT
BEGIN:VEVENT
UID:putnam-483840@ygametime.com
DTSTAMP:20240914T130000Z
DTSTART;TZID=America/New_York:20240914T090000
DURATION:PT0H60M0S
SUMMARY:Stratton vs LaFountain
DESCRIPTION:7/8 | Soccer\nPutnam County Family YMCA\n
URL;VALUE=URI:https://ygametime.com/branch/putnam/sports/2024-fall-soccer/21044/?utm_medium=calendar&utm_source=team_cal&utm_content=league_url#game-483840
LOCATION:Field 4 (7/8)
BEGIN:VALARM
TRIGGER:-P2H
ACTION:DISPLAY
DESCRIPTION:Stratton vs LaFountain
END:VALARM
END:VEVENT
BEGIN:VEVENT
UID:putnam-485416@ygametime.com
DTSTAMP:20240919T210000Z
DTSTART;TZID=America/New_York:20240919T170000
DURATION:PT0H60M0S
SUMMARY:Scantland vs Stratton
DESCRIPTION:7/8 | Soccer\nPutnam County Family YMCA\n
URL;VALUE=URI:https://ygametime.com/branch/putnam/sports/2024-fall-soccer/21044/?utm_medium=calendar&utm_source=team_cal&utm_content=league_url#game-485416
LOCATION:Field 4 (7/8)
BEGIN:VALARM
TRIGGER:-P2H
ACTION:DISPLAY
DESCRIPTION:Scantland vs Stratton
END:VALARM
END:VEVENT
BEGIN:VEVENT
UID:putnam-483849@ygametime.com
DTSTAMP:20241019T130000Z
DTSTART;TZID=America/New_York:20241019T090000
DURATION:PT0H60M0S
SUMMARY:Elbert vs Stratton
DESCRIPTION:7/8 | Soccer\nPutnam County Family YMCA\n
URL;VALUE=URI:https://ygametime.com/branch/putnam/sports/2024-fall-soccer/21044/?utm_medium=calendar&utm_source=team_cal&utm_content=league_url#game-483849
LOCATION:Field 4 (7/8)
BEGIN:VALARM
TRIGGER:-P2H
ACTION:DISPLAY
DESCRIPTION:Elbert vs Stratton
END:VALARM
END:VEVENT
BEGIN:VEVENT
UID:putnam-483851@ygametime.com
DTSTAMP:20241026T120000Z
DTSTART;TZID=America/New_York:20241026T080000
DURATION:PT0H60M0S
SUMMARY:Rineholt vs Stratton
DESCRIPTION:7/8 | Soccer\nPutnam County Family YMCA\n
URL;VALUE=URI:https://ygametime.com/branch/putnam/sports/2024-fall-soccer/21044/?utm_medium=calendar&utm_source=team_cal&utm_content=league_url#game-483851
LOCATION:Field 5 (7/8)
BEGIN:VALARM
TRIGGER:-P2H
ACTION:DISPLAY
DESCRIPTION:Rineholt vs Stratton
END:VALARM
END:VEVENT
BEGIN:VEVENT
UID:putnam-483853@ygametime.com
DTSTAMP:20241102T120000Z
DTSTART;TZID=America/New_York:20241102T080000
DURATION:PT0H60M0S
SUMMARY:Stratton vs LaFountain
DESCRIPTION:7/8 | Soccer\nPutnam County Family YMCA\n
URL;VALUE=URI:https://ygametime.com/branch/putnam/sports/2024-fall-soccer/21044/?utm_medium=calendar&utm_source=team_cal&utm_content=league_url#game-483853
LOCATION:Field 4 (7/8)
BEGIN:VALARM
TRIGGER:-P2H
ACTION:DISPLAY
DESCRIPTION:Stratton vs LaFountain
END:VALARM
END:VEVENT
BEGIN:VEVENT
UID:putnam-483844@ygametime.com
DTSTAMP:20241109T130000Z
DTSTART;TZID=America/New_York:20241109T080000
DURATION:PT0H60M0S
SUMMARY:Stratton vs Eddington
DESCRIPTION:7/8 | Soccer\nPutnam County Family YMCA\n
URL;VALUE=URI:https://ygametime.com/branch/putnam/sports/2024-fall-soccer/21044/?utm_medium=calendar&utm_source=team_cal&utm_content=league_url#game-483844
LOCATION:Field 4 (7/8)
BEGIN:VALARM
TRIGGER:-P2H
ACTION:DISPLAY
DESCRIPTION:Stratton vs Eddington
END:VALARM
END:VEVENT
END:VCALENDAR

