BEGIN:VCALENDAR
VERSION:2.0
PRODID:-//YGAMETIME.com//YGT iCal Creator//EN
METHOD:PUBLISH
X-PUBLISHED-TTL:PT6H
REFRESH-INTERVAL;VALUE=DURATION:PT6H
CALSCALE:GREGORIAN
X-WR-CALNAME:YGAMETIME CALENDAR
BEGIN:VTIMEZONE
TZID:America/New_York
X-LIC-LOCATION:America/New_York
BEGIN:DAYLIGHT
TZOFFSETFROM:-0500
TZOFFSETTO:-0400
TZNAME:EDT
DTSTART:19700308T020000
RRULE:FREQ=YEARLY;BYMONTH=3;BYDAY=2SU
END:DAYLIGHT
BEGIN:STANDARD
TZOFFSETFROM:-0400
TZOFFSETTO:-0500
TZNAME:EST
DTSTART:19701101T020000
RRULE:FREQ=YEARLY;BYMONTH=11;BYDAY=1SU
END:STANDARD
END:VTIMEZONE
BEGIN:VEVENT
UID:putnam-485415@ygametime.com
DTSTAMP:20240907T130000Z
DTSTART;TZID=America/New_York:20240907T090000
DURATION:PT0H60M0S
SUMMARY:Eddington vs Rineholt
DESCRIPTION:7/8 | Soccer\nPutnam County Family YMCA\n
URL;VALUE=URI:https://ygametime.com/branch/putnam/sports/2024-fall-soccer/21044/?utm_medium=calendar&utm_source=team_cal&utm_content=league_url#game-485415
LOCATION:Field 4 (7/8)
BEGIN:VALARM
TRIGGER:-P2H
ACTION:DISPLAY
DESCRIPTION:Eddington vs Rineholt
END:VALARM
END:VEVENT
BEGIN:VEVENT
UID:putnam-483839@ygametime.com
DTSTAMP:20240914T120000Z
DTSTART;TZID=America/New_York:20240914T080000
DURATION:PT0H60M0S
SUMMARY:Elbert vs Eddington
DESCRIPTION:7/8 | Soccer\nPutnam County Family YMCA\n
URL;VALUE=URI:https://ygametime.com/branch/putnam/sports/2024-fall-soccer/21044/?utm_medium=calendar&utm_source=team_cal&utm_content=league_url#game-483839
LOCATION:Field 5 (7/8)
BEGIN:VALARM
TRIGGER:-P2H
ACTION:DISPLAY
DESCRIPTION:Elbert vs Eddington
END:VALARM
END:VEVENT
BEGIN:VEVENT
UID:putnam-483843@ygametime.com
DTSTAMP:20240921T120000Z
DTSTART;TZID=America/New_York:20240921T080000
DURATION:PT0H60M0S
SUMMARY:Eddington vs LaFountain
DESCRIPTION:7/8 | Soccer\nPutnam County Family YMCA\n
URL;VALUE=URI:https://ygametime.com/branch/putnam/sports/2024-fall-soccer/21044/?utm_medium=calendar&utm_source=team_cal&utm_content=league_url#game-483843
LOCATION:Field 4 (7/8)
BEGIN:VALARM
TRIGGER:-P2H
ACTION:DISPLAY
DESCRIPTION:Eddington vs LaFountain
END:VALARM
END:VEVENT
BEGIN:VEVENT
UID:putnam-483847@ygametime.com
DTSTAMP:20241019T120000Z
DTSTART;TZID=America/New_York:20241019T080000
DURATION:PT0H60M0S
SUMMARY:Rineholt vs Eddington
DESCRIPTION:7/8 | Soccer\nPutnam County Family YMCA\n
URL;VALUE=URI:https://ygametime.com/branch/putnam/sports/2024-fall-soccer/21044/?utm_medium=calendar&utm_source=team_cal&utm_content=league_url#game-483847
LOCATION:Field 4 (7/8)
BEGIN:VALARM
TRIGGER:-P2H
ACTION:DISPLAY
DESCRIPTION:Rineholt vs Eddington
END:VALARM
END:VEVENT
BEGIN:VEVENT
UID:putnam-485417@ygametime.com
DTSTAMP:20241021T210000Z
DTSTART;TZID=America/New_York:20241021T170000
DURATION:PT0H60M0S
SUMMARY:Scantland vs Eddington
DESCRIPTION:7/8 | Soccer\nPutnam County Family YMCA\n
URL;VALUE=URI:https://ygametime.com/branch/putnam/sports/2024-fall-soccer/21044/?utm_medium=calendar&utm_source=team_cal&utm_content=league_url#game-485417
LOCATION:Field 4 (7/8)
BEGIN:VALARM
TRIGGER:-P2H
ACTION:DISPLAY
DESCRIPTION:Scantland vs Eddington
END:VALARM
END:VEVENT
BEGIN:VEVENT
UID:putnam-483855@ygametime.com
DTSTAMP:20241102T130000Z
DTSTART;TZID=America/New_York:20241102T090000
DURATION:PT0H60M0S
SUMMARY:Elbert vs Eddington
DESCRIPTION:7/8 | Soccer\nPutnam County Family YMCA\n
URL;VALUE=URI:https://ygametime.com/branch/putnam/sports/2024-fall-soccer/21044/?utm_medium=calendar&utm_source=team_cal&utm_content=league_url#game-483855
LOCATION:Field 4 (7/8)
BEGIN:VALARM
TRIGGER:-P2H
ACTION:DISPLAY
DESCRIPTION:Elbert vs Eddington
END:VALARM
END:VEVENT
BEGIN:VEVENT
UID:putnam-483844@ygametime.com
DTSTAMP:20241109T130000Z
DTSTART;TZID=America/New_York:20241109T080000
DURATION:PT0H60M0S
SUMMARY:Stratton vs Eddington
DESCRIPTION:7/8 | Soccer\nPutnam County Family YMCA\n
URL;VALUE=URI:https://ygametime.com/branch/putnam/sports/2024-fall-soccer/21044/?utm_medium=calendar&utm_source=team_cal&utm_content=league_url#game-483844
LOCATION:Field 4 (7/8)
BEGIN:VALARM
TRIGGER:-P2H
ACTION:DISPLAY
DESCRIPTION:Stratton vs Eddington
END:VALARM
END:VEVENT
END:VCALENDAR

