BEGIN:VCALENDAR
VERSION:2.0
PRODID:-//YGAMETIME.com//YGT iCal Creator//EN
METHOD:PUBLISH
X-PUBLISHED-TTL:PT6H
REFRESH-INTERVAL;VALUE=DURATION:PT6H
CALSCALE:GREGORIAN
X-WR-CALNAME:YGAMETIME CALENDAR
BEGIN:VTIMEZONE
TZID:America/New_York
X-LIC-LOCATION:America/New_York
BEGIN:DAYLIGHT
TZOFFSETFROM:-0500
TZOFFSETTO:-0400
TZNAME:EDT
DTSTART:19700308T020000
RRULE:FREQ=YEARLY;BYMONTH=3;BYDAY=2SU
END:DAYLIGHT
BEGIN:STANDARD
TZOFFSETFROM:-0400
TZOFFSETTO:-0500
TZNAME:EST
DTSTART:19701101T020000
RRULE:FREQ=YEARLY;BYMONTH=11;BYDAY=1SU
END:STANDARD
END:VTIMEZONE
BEGIN:VEVENT
UID:putnam-483836@ygametime.com
DTSTAMP:20240907T120000Z
DTSTART;TZID=America/New_York:20240907T080000
DURATION:PT0H60M0S
SUMMARY:LaFountain vs Elbert
DESCRIPTION:7/8 | Soccer\nPutnam County Family YMCA\n
URL;VALUE=URI:https://ygametime.com/branch/putnam/sports/2024-fall-soccer/21044/?utm_medium=calendar&utm_source=team_cal&utm_content=league_url#game-483836
LOCATION:Field 5 (7/8)
BEGIN:VALARM
TRIGGER:-P2H
ACTION:DISPLAY
DESCRIPTION:LaFountain vs Elbert
END:VALARM
END:VEVENT
BEGIN:VEVENT
UID:putnam-483840@ygametime.com
DTSTAMP:20240914T130000Z
DTSTART;TZID=America/New_York:20240914T090000
DURATION:PT0H60M0S
SUMMARY:Stratton vs LaFountain
DESCRIPTION:7/8 | Soccer\nPutnam County Family YMCA\n
URL;VALUE=URI:https://ygametime.com/branch/putnam/sports/2024-fall-soccer/21044/?utm_medium=calendar&utm_source=team_cal&utm_content=league_url#game-483840
LOCATION:Field 4 (7/8)
BEGIN:VALARM
TRIGGER:-P2H
ACTION:DISPLAY
DESCRIPTION:Stratton vs LaFountain
END:VALARM
END:VEVENT
BEGIN:VEVENT
UID:putnam-483843@ygametime.com
DTSTAMP:20240921T120000Z
DTSTART;TZID=America/New_York:20240921T080000
DURATION:PT0H60M0S
SUMMARY:Eddington vs LaFountain
DESCRIPTION:7/8 | Soccer\nPutnam County Family YMCA\n
URL;VALUE=URI:https://ygametime.com/branch/putnam/sports/2024-fall-soccer/21044/?utm_medium=calendar&utm_source=team_cal&utm_content=league_url#game-483843
LOCATION:Field 4 (7/8)
BEGIN:VALARM
TRIGGER:-P2H
ACTION:DISPLAY
DESCRIPTION:Eddington vs LaFountain
END:VALARM
END:VEVENT
BEGIN:VEVENT
UID:putnam-483848@ygametime.com
DTSTAMP:20241019T120000Z
DTSTART;TZID=America/New_York:20241019T080000
DURATION:PT0H60M0S
SUMMARY:Scantland vs LaFountain
DESCRIPTION:7/8 | Soccer\nPutnam County Family YMCA\n
URL;VALUE=URI:https://ygametime.com/branch/putnam/sports/2024-fall-soccer/21044/?utm_medium=calendar&utm_source=team_cal&utm_content=league_url#game-483848
LOCATION:Field 5 (7/8)
BEGIN:VALARM
TRIGGER:-P2H
ACTION:DISPLAY
DESCRIPTION:Scantland vs LaFountain
END:VALARM
END:VEVENT
BEGIN:VEVENT
UID:putnam-483852@ygametime.com
DTSTAMP:20241026T130000Z
DTSTART;TZID=America/New_York:20241026T090000
DURATION:PT0H60M0S
SUMMARY:LaFountain vs Elbert
DESCRIPTION:7/8 | Soccer\nPutnam County Family YMCA\n
URL;VALUE=URI:https://ygametime.com/branch/putnam/sports/2024-fall-soccer/21044/?utm_medium=calendar&utm_source=team_cal&utm_content=league_url#game-483852
LOCATION:Field 4 (7/8)
BEGIN:VALARM
TRIGGER:-P2H
ACTION:DISPLAY
DESCRIPTION:LaFountain vs Elbert
END:VALARM
END:VEVENT
BEGIN:VEVENT
UID:putnam-483853@ygametime.com
DTSTAMP:20241102T120000Z
DTSTART;TZID=America/New_York:20241102T080000
DURATION:PT0H60M0S
SUMMARY:Stratton vs LaFountain
DESCRIPTION:7/8 | Soccer\nPutnam County Family YMCA\n
URL;VALUE=URI:https://ygametime.com/branch/putnam/sports/2024-fall-soccer/21044/?utm_medium=calendar&utm_source=team_cal&utm_content=league_url#game-483853
LOCATION:Field 4 (7/8)
BEGIN:VALARM
TRIGGER:-P2H
ACTION:DISPLAY
DESCRIPTION:Stratton vs LaFountain
END:VALARM
END:VEVENT
BEGIN:VEVENT
UID:putnam-483846@ygametime.com
DTSTAMP:20241109T140000Z
DTSTART;TZID=America/New_York:20241109T090000
DURATION:PT0H60M0S
SUMMARY:LaFountain vs Rineholt
DESCRIPTION:7/8 | Soccer\nPutnam County Family YMCA\n
URL;VALUE=URI:https://ygametime.com/branch/putnam/sports/2024-fall-soccer/21044/?utm_medium=calendar&utm_source=team_cal&utm_content=league_url#game-483846
LOCATION:Field 4 (7/8)
BEGIN:VALARM
TRIGGER:-P2H
ACTION:DISPLAY
DESCRIPTION:LaFountain vs Rineholt
END:VALARM
END:VEVENT
END:VCALENDAR

