BEGIN:VCALENDAR
VERSION:2.0
PRODID:-//YGAMETIME.com//YGT iCal Creator//EN
METHOD:PUBLISH
X-PUBLISHED-TTL:PT6H
REFRESH-INTERVAL;VALUE=DURATION:PT6H
CALSCALE:GREGORIAN
X-WR-CALNAME:YGAMETIME CALENDAR
BEGIN:VTIMEZONE
TZID:America/New_York
X-LIC-LOCATION:America/New_York
BEGIN:DAYLIGHT
TZOFFSETFROM:-0500
TZOFFSETTO:-0400
TZNAME:EDT
DTSTART:19700308T020000
RRULE:FREQ=YEARLY;BYMONTH=3;BYDAY=2SU
END:DAYLIGHT
BEGIN:STANDARD
TZOFFSETFROM:-0400
TZOFFSETTO:-0500
TZNAME:EST
DTSTART:19701101T020000
RRULE:FREQ=YEARLY;BYMONTH=11;BYDAY=1SU
END:STANDARD
END:VTIMEZONE
BEGIN:VEVENT
UID:putnam-483857@ygametime.com
DTSTAMP:20240907T120000Z
DTSTART;TZID=America/New_York:20240907T080000
DURATION:PT0H60M0S
SUMMARY:Fincher vs Paramore
DESCRIPTION:5/6 | Soccer\nPutnam County Family YMCA\n
URL;VALUE=URI:https://ygametime.com/branch/putnam/sports/2024-fall-soccer/21043/?utm_medium=calendar&utm_source=team_cal&utm_content=league_url#game-483857
LOCATION:Field 3 (5/6)
BEGIN:VALARM
TRIGGER:-P2H
ACTION:DISPLAY
DESCRIPTION:Fincher vs Paramore
END:VALARM
END:VEVENT
BEGIN:VEVENT
UID:putnam-483861@ygametime.com
DTSTAMP:20240914T120000Z
DTSTART;TZID=America/New_York:20240914T080000
DURATION:PT0H60M0S
SUMMARY:Paramore vs Stiles
DESCRIPTION:5/6 | Soccer\nPutnam County Family YMCA\n
URL;VALUE=URI:https://ygametime.com/branch/putnam/sports/2024-fall-soccer/21043/?utm_medium=calendar&utm_source=team_cal&utm_content=league_url#game-483861
LOCATION:Field 3 (5/6)
BEGIN:VALARM
TRIGGER:-P2H
ACTION:DISPLAY
DESCRIPTION:Paramore vs Stiles
END:VALARM
END:VEVENT
BEGIN:VEVENT
UID:putnam-483865@ygametime.com
DTSTAMP:20240921T120000Z
DTSTART;TZID=America/New_York:20240921T080000
DURATION:PT0H60M0S
SUMMARY:Parsons vs Paramore
DESCRIPTION:5/6 | Soccer\nPutnam County Family YMCA\n
URL;VALUE=URI:https://ygametime.com/branch/putnam/sports/2024-fall-soccer/21043/?utm_medium=calendar&utm_source=team_cal&utm_content=league_url#game-483865
LOCATION:Field 3 (5/6)
BEGIN:VALARM
TRIGGER:-P2H
ACTION:DISPLAY
DESCRIPTION:Parsons vs Paramore
END:VALARM
END:VEVENT
BEGIN:VEVENT
UID:putnam-483874@ygametime.com
DTSTAMP:20241019T130000Z
DTSTART;TZID=America/New_York:20241019T090000
DURATION:PT0H60M0S
SUMMARY:Phelps vs Paramore
DESCRIPTION:5/6 | Soccer\nPutnam County Family YMCA\n
URL;VALUE=URI:https://ygametime.com/branch/putnam/sports/2024-fall-soccer/21043/?utm_medium=calendar&utm_source=team_cal&utm_content=league_url#game-483874
LOCATION:Field 2 (5/6)
BEGIN:VALARM
TRIGGER:-P2H
ACTION:DISPLAY
DESCRIPTION:Phelps vs Paramore
END:VALARM
END:VEVENT
BEGIN:VEVENT
UID:putnam-483876@ygametime.com
DTSTAMP:20241026T120000Z
DTSTART;TZID=America/New_York:20241026T080000
DURATION:PT0H60M0S
SUMMARY:Paramore vs Byrd
DESCRIPTION:5/6 | Soccer\nPutnam County Family YMCA\n
URL;VALUE=URI:https://ygametime.com/branch/putnam/sports/2024-fall-soccer/21043/?utm_medium=calendar&utm_source=team_cal&utm_content=league_url#game-483876
LOCATION:Field 2 (5/6)
BEGIN:VALARM
TRIGGER:-P2H
ACTION:DISPLAY
DESCRIPTION:Paramore vs Byrd
END:VALARM
END:VEVENT
BEGIN:VEVENT
UID:putnam-483882@ygametime.com
DTSTAMP:20241102T130000Z
DTSTART;TZID=America/New_York:20241102T090000
DURATION:PT0H60M0S
SUMMARY:Paramore vs Davis
DESCRIPTION:5/6 | Soccer\nPutnam County Family YMCA\n
URL;VALUE=URI:https://ygametime.com/branch/putnam/sports/2024-fall-soccer/21043/?utm_medium=calendar&utm_source=team_cal&utm_content=league_url#game-483882
LOCATION:Field 2 (5/6)
BEGIN:VALARM
TRIGGER:-P2H
ACTION:DISPLAY
DESCRIPTION:Paramore vs Davis
END:VALARM
END:VEVENT
BEGIN:VEVENT
UID:putnam-483868@ygametime.com
DTSTAMP:20241109T130000Z
DTSTART;TZID=America/New_York:20241109T080000
DURATION:PT0H60M0S
SUMMARY:Paramore vs Ross
DESCRIPTION:5/6 | Soccer\nPutnam County Family YMCA\n
URL;VALUE=URI:https://ygametime.com/branch/putnam/sports/2024-fall-soccer/21043/?utm_medium=calendar&utm_source=team_cal&utm_content=league_url#game-483868
LOCATION:Field 2 (5/6)
BEGIN:VALARM
TRIGGER:-P2H
ACTION:DISPLAY
DESCRIPTION:Paramore vs Ross
END:VALARM
END:VEVENT
END:VCALENDAR

