BEGIN:VCALENDAR
VERSION:2.0
PRODID:-//YGAMETIME.com//YGT iCal Creator//EN
METHOD:PUBLISH
X-PUBLISHED-TTL:PT6H
REFRESH-INTERVAL;VALUE=DURATION:PT6H
CALSCALE:GREGORIAN
X-WR-CALNAME:YGAMETIME CALENDAR
BEGIN:VTIMEZONE
TZID:America/New_York
X-LIC-LOCATION:America/New_York
BEGIN:DAYLIGHT
TZOFFSETFROM:-0500
TZOFFSETTO:-0400
TZNAME:EDT
DTSTART:19700308T020000
RRULE:FREQ=YEARLY;BYMONTH=3;BYDAY=2SU
END:DAYLIGHT
BEGIN:STANDARD
TZOFFSETFROM:-0400
TZOFFSETTO:-0500
TZNAME:EST
DTSTART:19701101T020000
RRULE:FREQ=YEARLY;BYMONTH=11;BYDAY=1SU
END:STANDARD
END:VTIMEZONE
BEGIN:VEVENT
UID:putnam-483859@ygametime.com
DTSTAMP:20240907T130000Z
DTSTART;TZID=America/New_York:20240907T090000
DURATION:PT0H60M0S
SUMMARY:Stiles vs Byrd
DESCRIPTION:5/6 | Soccer\nPutnam County Family YMCA\n
URL;VALUE=URI:https://ygametime.com/branch/putnam/sports/2024-fall-soccer/21043/?utm_medium=calendar&utm_source=team_cal&utm_content=league_url#game-483859
LOCATION:Field 3 (5/6)
BEGIN:VALARM
TRIGGER:-P2H
ACTION:DISPLAY
DESCRIPTION:Stiles vs Byrd
END:VALARM
END:VEVENT
BEGIN:VEVENT
UID:putnam-483862@ygametime.com
DTSTAMP:20240914T130000Z
DTSTART;TZID=America/New_York:20240914T090000
DURATION:PT0H60M0S
SUMMARY:Byrd vs Parsons
DESCRIPTION:5/6 | Soccer\nPutnam County Family YMCA\n
URL;VALUE=URI:https://ygametime.com/branch/putnam/sports/2024-fall-soccer/21043/?utm_medium=calendar&utm_source=team_cal&utm_content=league_url#game-483862
LOCATION:Field 2 (5/6)
BEGIN:VALARM
TRIGGER:-P2H
ACTION:DISPLAY
DESCRIPTION:Byrd vs Parsons
END:VALARM
END:VEVENT
BEGIN:VEVENT
UID:putnam-483864@ygametime.com
DTSTAMP:20240921T120000Z
DTSTART;TZID=America/New_York:20240921T080000
DURATION:PT0H60M0S
SUMMARY:Ross vs Byrd
DESCRIPTION:5/6 | Soccer\nPutnam County Family YMCA\n
URL;VALUE=URI:https://ygametime.com/branch/putnam/sports/2024-fall-soccer/21043/?utm_medium=calendar&utm_source=team_cal&utm_content=league_url#game-483864
LOCATION:Field 2 (5/6)
BEGIN:VALARM
TRIGGER:-P2H
ACTION:DISPLAY
DESCRIPTION:Ross vs Byrd
END:VALARM
END:VEVENT
BEGIN:VEVENT
UID:putnam-483872@ygametime.com
DTSTAMP:20241019T120000Z
DTSTART;TZID=America/New_York:20241019T080000
DURATION:PT0H60M0S
SUMMARY:Byrd vs Davis
DESCRIPTION:5/6 | Soccer\nPutnam County Family YMCA\n
URL;VALUE=URI:https://ygametime.com/branch/putnam/sports/2024-fall-soccer/21043/?utm_medium=calendar&utm_source=team_cal&utm_content=league_url#game-483872
LOCATION:Field 2 (5/6)
BEGIN:VALARM
TRIGGER:-P2H
ACTION:DISPLAY
DESCRIPTION:Byrd vs Davis
END:VALARM
END:VEVENT
BEGIN:VEVENT
UID:putnam-483876@ygametime.com
DTSTAMP:20241026T120000Z
DTSTART;TZID=America/New_York:20241026T080000
DURATION:PT0H60M0S
SUMMARY:Paramore vs Byrd
DESCRIPTION:5/6 | Soccer\nPutnam County Family YMCA\n
URL;VALUE=URI:https://ygametime.com/branch/putnam/sports/2024-fall-soccer/21043/?utm_medium=calendar&utm_source=team_cal&utm_content=league_url#game-483876
LOCATION:Field 2 (5/6)
BEGIN:VALARM
TRIGGER:-P2H
ACTION:DISPLAY
DESCRIPTION:Paramore vs Byrd
END:VALARM
END:VEVENT
BEGIN:VEVENT
UID:putnam-483880@ygametime.com
DTSTAMP:20241102T120000Z
DTSTART;TZID=America/New_York:20241102T080000
DURATION:PT0H60M0S
SUMMARY:Byrd vs Fincher
DESCRIPTION:5/6 | Soccer\nPutnam County Family YMCA\n
URL;VALUE=URI:https://ygametime.com/branch/putnam/sports/2024-fall-soccer/21043/?utm_medium=calendar&utm_source=team_cal&utm_content=league_url#game-483880
LOCATION:Field 2 (5/6)
BEGIN:VALARM
TRIGGER:-P2H
ACTION:DISPLAY
DESCRIPTION:Byrd vs Fincher
END:VALARM
END:VEVENT
BEGIN:VEVENT
UID:putnam-483870@ygametime.com
DTSTAMP:20241109T140000Z
DTSTART;TZID=America/New_York:20241109T090000
DURATION:PT0H60M0S
SUMMARY:Byrd vs Phelps
DESCRIPTION:5/6 | Soccer\nPutnam County Family YMCA\n
URL;VALUE=URI:https://ygametime.com/branch/putnam/sports/2024-fall-soccer/21043/?utm_medium=calendar&utm_source=team_cal&utm_content=league_url#game-483870
LOCATION:Field 2 (5/6)
BEGIN:VALARM
TRIGGER:-P2H
ACTION:DISPLAY
DESCRIPTION:Byrd vs Phelps
END:VALARM
END:VEVENT
END:VCALENDAR

