BEGIN:VCALENDAR
VERSION:2.0
PRODID:-//YGAMETIME.com//YGT iCal Creator//EN
METHOD:PUBLISH
X-PUBLISHED-TTL:PT6H
REFRESH-INTERVAL;VALUE=DURATION:PT6H
CALSCALE:GREGORIAN
X-WR-CALNAME:YGAMETIME CALENDAR
BEGIN:VTIMEZONE
TZID:America/New_York
X-LIC-LOCATION:America/New_York
BEGIN:DAYLIGHT
TZOFFSETFROM:-0500
TZOFFSETTO:-0400
TZNAME:EDT
DTSTART:19700308T020000
RRULE:FREQ=YEARLY;BYMONTH=3;BYDAY=2SU
END:DAYLIGHT
BEGIN:STANDARD
TZOFFSETFROM:-0400
TZOFFSETTO:-0500
TZNAME:EST
DTSTART:19701101T020000
RRULE:FREQ=YEARLY;BYMONTH=11;BYDAY=1SU
END:STANDARD
END:VTIMEZONE
BEGIN:VEVENT
UID:putnam-483856@ygametime.com
DTSTAMP:20240907T120000Z
DTSTART;TZID=America/New_York:20240907T080000
DURATION:PT0H60M0S
SUMMARY:Ross vs Davis
DESCRIPTION:5/6 | Soccer\nPutnam County Family YMCA\n
URL;VALUE=URI:https://ygametime.com/branch/putnam/sports/2024-fall-soccer/21043/?utm_medium=calendar&utm_source=team_cal&utm_content=league_url#game-483856
LOCATION:Field 2 (5/6)
BEGIN:VALARM
TRIGGER:-P2H
ACTION:DISPLAY
DESCRIPTION:Ross vs Davis
END:VALARM
END:VEVENT
BEGIN:VEVENT
UID:putnam-483860@ygametime.com
DTSTAMP:20240914T120000Z
DTSTART;TZID=America/New_York:20240914T080000
DURATION:PT0H60M0S
SUMMARY:Phelps vs Ross
DESCRIPTION:5/6 | Soccer\nPutnam County Family YMCA\n
URL;VALUE=URI:https://ygametime.com/branch/putnam/sports/2024-fall-soccer/21043/?utm_medium=calendar&utm_source=team_cal&utm_content=league_url#game-483860
LOCATION:Field 2 (5/6)
BEGIN:VALARM
TRIGGER:-P2H
ACTION:DISPLAY
DESCRIPTION:Phelps vs Ross
END:VALARM
END:VEVENT
BEGIN:VEVENT
UID:putnam-483864@ygametime.com
DTSTAMP:20240921T120000Z
DTSTART;TZID=America/New_York:20240921T080000
DURATION:PT0H60M0S
SUMMARY:Ross vs Byrd
DESCRIPTION:5/6 | Soccer\nPutnam County Family YMCA\n
URL;VALUE=URI:https://ygametime.com/branch/putnam/sports/2024-fall-soccer/21043/?utm_medium=calendar&utm_source=team_cal&utm_content=league_url#game-483864
LOCATION:Field 2 (5/6)
BEGIN:VALARM
TRIGGER:-P2H
ACTION:DISPLAY
DESCRIPTION:Ross vs Byrd
END:VALARM
END:VEVENT
BEGIN:VEVENT
UID:putnam-483875@ygametime.com
DTSTAMP:20241019T130000Z
DTSTART;TZID=America/New_York:20241019T090000
DURATION:PT0H60M0S
SUMMARY:Ross vs Fincher
DESCRIPTION:5/6 | Soccer\nPutnam County Family YMCA\n
URL;VALUE=URI:https://ygametime.com/branch/putnam/sports/2024-fall-soccer/21043/?utm_medium=calendar&utm_source=team_cal&utm_content=league_url#game-483875
LOCATION:Field 3 (5/6)
BEGIN:VALARM
TRIGGER:-P2H
ACTION:DISPLAY
DESCRIPTION:Ross vs Fincher
END:VALARM
END:VEVENT
BEGIN:VEVENT
UID:putnam-483877@ygametime.com
DTSTAMP:20241026T120000Z
DTSTART;TZID=America/New_York:20241026T080000
DURATION:PT0H60M0S
SUMMARY:Stiles vs Ross
DESCRIPTION:5/6 | Soccer\nPutnam County Family YMCA\n
URL;VALUE=URI:https://ygametime.com/branch/putnam/sports/2024-fall-soccer/21043/?utm_medium=calendar&utm_source=team_cal&utm_content=league_url#game-483877
LOCATION:Field 3 (5/6)
BEGIN:VALARM
TRIGGER:-P2H
ACTION:DISPLAY
DESCRIPTION:Stiles vs Ross
END:VALARM
END:VEVENT
BEGIN:VEVENT
UID:putnam-483883@ygametime.com
DTSTAMP:20241102T130000Z
DTSTART;TZID=America/New_York:20241102T090000
DURATION:PT0H60M0S
SUMMARY:Ross vs Parsons
DESCRIPTION:5/6 | Soccer\nPutnam County Family YMCA\n
URL;VALUE=URI:https://ygametime.com/branch/putnam/sports/2024-fall-soccer/21043/?utm_medium=calendar&utm_source=team_cal&utm_content=league_url#game-483883
LOCATION:Field 3 (5/6)
BEGIN:VALARM
TRIGGER:-P2H
ACTION:DISPLAY
DESCRIPTION:Ross vs Parsons
END:VALARM
END:VEVENT
BEGIN:VEVENT
UID:putnam-483868@ygametime.com
DTSTAMP:20241109T130000Z
DTSTART;TZID=America/New_York:20241109T080000
DURATION:PT0H60M0S
SUMMARY:Paramore vs Ross
DESCRIPTION:5/6 | Soccer\nPutnam County Family YMCA\n
URL;VALUE=URI:https://ygametime.com/branch/putnam/sports/2024-fall-soccer/21043/?utm_medium=calendar&utm_source=team_cal&utm_content=league_url#game-483868
LOCATION:Field 2 (5/6)
BEGIN:VALARM
TRIGGER:-P2H
ACTION:DISPLAY
DESCRIPTION:Paramore vs Ross
END:VALARM
END:VEVENT
END:VCALENDAR

