BEGIN:VCALENDAR
VERSION:2.0
PRODID:-//YGAMETIME.com//YGT iCal Creator//EN
METHOD:PUBLISH
X-PUBLISHED-TTL:PT6H
REFRESH-INTERVAL;VALUE=DURATION:PT6H
CALSCALE:GREGORIAN
X-WR-CALNAME:YGAMETIME CALENDAR
BEGIN:VTIMEZONE
TZID:America/New_York
X-LIC-LOCATION:America/New_York
BEGIN:DAYLIGHT
TZOFFSETFROM:-0500
TZOFFSETTO:-0400
TZNAME:EDT
DTSTART:19700308T020000
RRULE:FREQ=YEARLY;BYMONTH=3;BYDAY=2SU
END:DAYLIGHT
BEGIN:STANDARD
TZOFFSETFROM:-0400
TZOFFSETTO:-0500
TZNAME:EST
DTSTART:19701101T020000
RRULE:FREQ=YEARLY;BYMONTH=11;BYDAY=1SU
END:STANDARD
END:VTIMEZONE
BEGIN:VEVENT
UID:putnam-483859@ygametime.com
DTSTAMP:20240907T130000Z
DTSTART;TZID=America/New_York:20240907T090000
DURATION:PT0H60M0S
SUMMARY:Stiles vs Byrd
DESCRIPTION:5/6 | Soccer\nPutnam County Family YMCA\n
URL;VALUE=URI:https://ygametime.com/branch/putnam/sports/2024-fall-soccer/21043/?utm_medium=calendar&utm_source=team_cal&utm_content=league_url#game-483859
LOCATION:Field 3 (5/6)
BEGIN:VALARM
TRIGGER:-P2H
ACTION:DISPLAY
DESCRIPTION:Stiles vs Byrd
END:VALARM
END:VEVENT
BEGIN:VEVENT
UID:putnam-483861@ygametime.com
DTSTAMP:20240914T120000Z
DTSTART;TZID=America/New_York:20240914T080000
DURATION:PT0H60M0S
SUMMARY:Paramore vs Stiles
DESCRIPTION:5/6 | Soccer\nPutnam County Family YMCA\n
URL;VALUE=URI:https://ygametime.com/branch/putnam/sports/2024-fall-soccer/21043/?utm_medium=calendar&utm_source=team_cal&utm_content=league_url#game-483861
LOCATION:Field 3 (5/6)
BEGIN:VALARM
TRIGGER:-P2H
ACTION:DISPLAY
DESCRIPTION:Paramore vs Stiles
END:VALARM
END:VEVENT
BEGIN:VEVENT
UID:putnam-483867@ygametime.com
DTSTAMP:20240921T130000Z
DTSTART;TZID=America/New_York:20240921T090000
DURATION:PT0H60M0S
SUMMARY:Stiles vs Fincher
DESCRIPTION:5/6 | Soccer\nPutnam County Family YMCA\n
URL;VALUE=URI:https://ygametime.com/branch/putnam/sports/2024-fall-soccer/21043/?utm_medium=calendar&utm_source=team_cal&utm_content=league_url#game-483867
LOCATION:Field 3 (5/6)
BEGIN:VALARM
TRIGGER:-P2H
ACTION:DISPLAY
DESCRIPTION:Stiles vs Fincher
END:VALARM
END:VEVENT
BEGIN:VEVENT
UID:putnam-490789@ygametime.com
DTSTAMP:20241022T213000Z
DTSTART;TZID=America/New_York:20241022T173000
DURATION:PT0H60M0S
SUMMARY:Stiles vs Parsons
DESCRIPTION:5/6 | Soccer\nPutnam County Family YMCA\n
URL;VALUE=URI:https://ygametime.com/branch/putnam/sports/2024-fall-soccer/21043/?utm_medium=calendar&utm_source=team_cal&utm_content=league_url#game-490789
LOCATION:Field 2 (5/6)
BEGIN:VALARM
TRIGGER:-P2H
ACTION:DISPLAY
DESCRIPTION:Stiles vs Parsons
END:VALARM
END:VEVENT
BEGIN:VEVENT
UID:putnam-483877@ygametime.com
DTSTAMP:20241026T120000Z
DTSTART;TZID=America/New_York:20241026T080000
DURATION:PT0H60M0S
SUMMARY:Stiles vs Ross
DESCRIPTION:5/6 | Soccer\nPutnam County Family YMCA\n
URL;VALUE=URI:https://ygametime.com/branch/putnam/sports/2024-fall-soccer/21043/?utm_medium=calendar&utm_source=team_cal&utm_content=league_url#game-483877
LOCATION:Field 3 (5/6)
BEGIN:VALARM
TRIGGER:-P2H
ACTION:DISPLAY
DESCRIPTION:Stiles vs Ross
END:VALARM
END:VEVENT
BEGIN:VEVENT
UID:putnam-483881@ygametime.com
DTSTAMP:20241102T120000Z
DTSTART;TZID=America/New_York:20241102T080000
DURATION:PT0H60M0S
SUMMARY:Phelps vs Stiles
DESCRIPTION:5/6 | Soccer\nPutnam County Family YMCA\n
URL;VALUE=URI:https://ygametime.com/branch/putnam/sports/2024-fall-soccer/21043/?utm_medium=calendar&utm_source=team_cal&utm_content=league_url#game-483881
LOCATION:Field 3 (5/6)
BEGIN:VALARM
TRIGGER:-P2H
ACTION:DISPLAY
DESCRIPTION:Phelps vs Stiles
END:VALARM
END:VEVENT
BEGIN:VEVENT
UID:putnam-483869@ygametime.com
DTSTAMP:20241109T130000Z
DTSTART;TZID=America/New_York:20241109T080000
DURATION:PT0H60M0S
SUMMARY:Davis vs Stiles
DESCRIPTION:5/6 | Soccer\nPutnam County Family YMCA\n
URL;VALUE=URI:https://ygametime.com/branch/putnam/sports/2024-fall-soccer/21043/?utm_medium=calendar&utm_source=team_cal&utm_content=league_url#game-483869
LOCATION:Field 3 (5/6)
BEGIN:VALARM
TRIGGER:-P2H
ACTION:DISPLAY
DESCRIPTION:Davis vs Stiles
END:VALARM
END:VEVENT
END:VCALENDAR

