BEGIN:VCALENDAR
VERSION:2.0
PRODID:-//YGAMETIME.com//YGT iCal Creator//EN
METHOD:PUBLISH
X-PUBLISHED-TTL:PT6H
REFRESH-INTERVAL;VALUE=DURATION:PT6H
CALSCALE:GREGORIAN
X-WR-CALNAME:YGAMETIME CALENDAR
BEGIN:VTIMEZONE
TZID:America/New_York
X-LIC-LOCATION:America/New_York
BEGIN:DAYLIGHT
TZOFFSETFROM:-0500
TZOFFSETTO:-0400
TZNAME:EDT
DTSTART:19700308T020000
RRULE:FREQ=YEARLY;BYMONTH=3;BYDAY=2SU
END:DAYLIGHT
BEGIN:STANDARD
TZOFFSETFROM:-0400
TZOFFSETTO:-0500
TZNAME:EST
DTSTART:19701101T020000
RRULE:FREQ=YEARLY;BYMONTH=11;BYDAY=1SU
END:STANDARD
END:VTIMEZONE
BEGIN:VEVENT
UID:putnam-483887@ygametime.com
DTSTAMP:20240907T143000Z
DTSTART;TZID=America/New_York:20240907T103000
DURATION:PT0H30M0S
SUMMARY:Franey vs Scantland
DESCRIPTION:3/4 | Soccer\nPutnam County Family YMCA\n
URL;VALUE=URI:https://ygametime.com/branch/putnam/sports/2024-fall-soccer/21042/?utm_medium=calendar&utm_source=team_cal&utm_content=league_url#game-483887
LOCATION:Field 7 (3/4)
BEGIN:VALARM
TRIGGER:-P2H
ACTION:DISPLAY
DESCRIPTION:Franey vs Scantland
END:VALARM
END:VEVENT
BEGIN:VEVENT
UID:putnam-483890@ygametime.com
DTSTAMP:20240914T120000Z
DTSTART;TZID=America/New_York:20240914T080000
DURATION:PT0H30M0S
SUMMARY:Scantland vs Juels
DESCRIPTION:3/4 | Soccer\nPutnam County Family YMCA\n
URL;VALUE=URI:https://ygametime.com/branch/putnam/sports/2024-fall-soccer/21042/?utm_medium=calendar&utm_source=team_cal&utm_content=league_url#game-483890
LOCATION:Field 9 (3/4)
BEGIN:VALARM
TRIGGER:-P2H
ACTION:DISPLAY
DESCRIPTION:Scantland vs Juels
END:VALARM
END:VEVENT
BEGIN:VEVENT
UID:putnam-490788@ygametime.com
DTSTAMP:20240926T213000Z
DTSTART;TZID=America/New_York:20240926T173000
DURATION:PT0H30M0S
SUMMARY:McBreen vs Scantland
DESCRIPTION:3/4 | Soccer\nPutnam County Family YMCA\n
URL;VALUE=URI:https://ygametime.com/branch/putnam/sports/2024-fall-soccer/21042/?utm_medium=calendar&utm_source=team_cal&utm_content=league_url#game-490788
LOCATION:Field 9 (3/4)
BEGIN:VALARM
TRIGGER:-P2H
ACTION:DISPLAY
DESCRIPTION:McBreen vs Scantland
END:VALARM
END:VEVENT
BEGIN:VEVENT
UID:putnam-483900@ygametime.com
DTSTAMP:20241019T140000Z
DTSTART;TZID=America/New_York:20241019T100000
DURATION:PT0H30M0S
SUMMARY:Scantland vs Chreston
DESCRIPTION:3/4 | Soccer\nPutnam County Family YMCA\n
URL;VALUE=URI:https://ygametime.com/branch/putnam/sports/2024-fall-soccer/21042/?utm_medium=calendar&utm_source=team_cal&utm_content=league_url#game-483900
LOCATION:Field 7 (3/4)
BEGIN:VALARM
TRIGGER:-P2H
ACTION:DISPLAY
DESCRIPTION:Scantland vs Chreston
END:VALARM
END:VEVENT
BEGIN:VEVENT
UID:putnam-483904@ygametime.com
DTSTAMP:20241026T140000Z
DTSTART;TZID=America/New_York:20241026T100000
DURATION:PT0H30M0S
SUMMARY:Sanford vs Scantland
DESCRIPTION:3/4 | Soccer\nPutnam County Family YMCA\n
URL;VALUE=URI:https://ygametime.com/branch/putnam/sports/2024-fall-soccer/21042/?utm_medium=calendar&utm_source=team_cal&utm_content=league_url#game-483904
LOCATION:Field 7 (3/4)
BEGIN:VALARM
TRIGGER:-P2H
ACTION:DISPLAY
DESCRIPTION:Sanford vs Scantland
END:VALARM
END:VEVENT
BEGIN:VEVENT
UID:putnam-485420@ygametime.com
DTSTAMP:20241028T213000Z
DTSTART;TZID=America/New_York:20241028T173000
DURATION:PT0H30M0S
SUMMARY:Scantland vs Green
DESCRIPTION:3/4 | Soccer\nPutnam County Family YMCA\n
URL;VALUE=URI:https://ygametime.com/branch/putnam/sports/2024-fall-soccer/21042/?utm_medium=calendar&utm_source=team_cal&utm_content=league_url#game-485420
LOCATION:Field 9 (3/4)
BEGIN:VALARM
TRIGGER:-P2H
ACTION:DISPLAY
DESCRIPTION:Scantland vs Green
END:VALARM
END:VEVENT
BEGIN:VEVENT
UID:putnam-483898@ygametime.com
DTSTAMP:20241109T150000Z
DTSTART;TZID=America/New_York:20241109T100000
DURATION:PT0H30M0S
SUMMARY:Scantland vs Perez
DESCRIPTION:3/4 | Soccer\nPutnam County Family YMCA\n
URL;VALUE=URI:https://ygametime.com/branch/putnam/sports/2024-fall-soccer/21042/?utm_medium=calendar&utm_source=team_cal&utm_content=league_url#game-483898
LOCATION:Field 9 (3/4)
BEGIN:VALARM
TRIGGER:-P2H
ACTION:DISPLAY
DESCRIPTION:Scantland vs Perez
END:VALARM
END:VEVENT
END:VCALENDAR

