BEGIN:VCALENDAR
VERSION:2.0
PRODID:-//YGAMETIME.com//YGT iCal Creator//EN
METHOD:PUBLISH
X-PUBLISHED-TTL:PT6H
REFRESH-INTERVAL;VALUE=DURATION:PT6H
CALSCALE:GREGORIAN
X-WR-CALNAME:YGAMETIME CALENDAR
BEGIN:VTIMEZONE
TZID:America/New_York
X-LIC-LOCATION:America/New_York
BEGIN:DAYLIGHT
TZOFFSETFROM:-0500
TZOFFSETTO:-0400
TZNAME:EDT
DTSTART:19700308T020000
RRULE:FREQ=YEARLY;BYMONTH=3;BYDAY=2SU
END:DAYLIGHT
BEGIN:STANDARD
TZOFFSETFROM:-0400
TZOFFSETTO:-0500
TZNAME:EST
DTSTART:19701101T020000
RRULE:FREQ=YEARLY;BYMONTH=11;BYDAY=1SU
END:STANDARD
END:VTIMEZONE
BEGIN:VEVENT
UID:putnam-483884@ygametime.com
DTSTAMP:20240907T140000Z
DTSTART;TZID=America/New_York:20240907T100000
DURATION:PT0H30M0S
SUMMARY:McBreen vs Chreston
DESCRIPTION:3/4 | Soccer\nPutnam County Family YMCA\n
URL;VALUE=URI:https://ygametime.com/branch/putnam/sports/2024-fall-soccer/21042/?utm_medium=calendar&utm_source=team_cal&utm_content=league_url#game-483884
LOCATION:Field 7 (3/4)
BEGIN:VALARM
TRIGGER:-P2H
ACTION:DISPLAY
DESCRIPTION:McBreen vs Chreston
END:VALARM
END:VEVENT
BEGIN:VEVENT
UID:putnam-485413@ygametime.com
DTSTAMP:20240920T210000Z
DTSTART;TZID=America/New_York:20240920T170000
DURATION:PT0H30M0S
SUMMARY:McBreen vs Perez
DESCRIPTION:3/4 | Soccer\nPutnam County Family YMCA\n
URL;VALUE=URI:https://ygametime.com/branch/putnam/sports/2024-fall-soccer/21042/?utm_medium=calendar&utm_source=team_cal&utm_content=league_url#game-485413
LOCATION:Field 9 (3/4)
BEGIN:VALARM
TRIGGER:-P2H
ACTION:DISPLAY
DESCRIPTION:McBreen vs Perez
END:VALARM
END:VEVENT
BEGIN:VEVENT
UID:putnam-490788@ygametime.com
DTSTAMP:20240926T213000Z
DTSTART;TZID=America/New_York:20240926T173000
DURATION:PT0H30M0S
SUMMARY:McBreen vs Scantland
DESCRIPTION:3/4 | Soccer\nPutnam County Family YMCA\n
URL;VALUE=URI:https://ygametime.com/branch/putnam/sports/2024-fall-soccer/21042/?utm_medium=calendar&utm_source=team_cal&utm_content=league_url#game-490788
LOCATION:Field 9 (3/4)
BEGIN:VALARM
TRIGGER:-P2H
ACTION:DISPLAY
DESCRIPTION:McBreen vs Scantland
END:VALARM
END:VEVENT
BEGIN:VEVENT
UID:putnam-483903@ygametime.com
DTSTAMP:20241019T143000Z
DTSTART;TZID=America/New_York:20241019T103000
DURATION:PT0H30M0S
SUMMARY:McBreen vs Green
DESCRIPTION:3/4 | Soccer\nPutnam County Family YMCA\n
URL;VALUE=URI:https://ygametime.com/branch/putnam/sports/2024-fall-soccer/21042/?utm_medium=calendar&utm_source=team_cal&utm_content=league_url#game-483903
LOCATION:Field 7 (3/4)
BEGIN:VALARM
TRIGGER:-P2H
ACTION:DISPLAY
DESCRIPTION:McBreen vs Green
END:VALARM
END:VEVENT
BEGIN:VEVENT
UID:putnam-483905@ygametime.com
DTSTAMP:20241026T140000Z
DTSTART;TZID=America/New_York:20241026T100000
DURATION:PT0H30M0S
SUMMARY:Franey vs McBreen
DESCRIPTION:3/4 | Soccer\nPutnam County Family YMCA\n
URL;VALUE=URI:https://ygametime.com/branch/putnam/sports/2024-fall-soccer/21042/?utm_medium=calendar&utm_source=team_cal&utm_content=league_url#game-483905
LOCATION:Field 8 (3/4)
BEGIN:VALARM
TRIGGER:-P2H
ACTION:DISPLAY
DESCRIPTION:Franey vs McBreen
END:VALARM
END:VEVENT
BEGIN:VEVENT
UID:putnam-483911@ygametime.com
DTSTAMP:20241102T143000Z
DTSTART;TZID=America/New_York:20241102T103000
DURATION:PT0H30M0S
SUMMARY:McBreen vs Juels
DESCRIPTION:3/4 | Soccer\nPutnam County Family YMCA\n
URL;VALUE=URI:https://ygametime.com/branch/putnam/sports/2024-fall-soccer/21042/?utm_medium=calendar&utm_source=team_cal&utm_content=league_url#game-483911
LOCATION:Field 7 (3/4)
BEGIN:VALARM
TRIGGER:-P2H
ACTION:DISPLAY
DESCRIPTION:McBreen vs Juels
END:VALARM
END:VEVENT
BEGIN:VEVENT
UID:putnam-483896@ygametime.com
DTSTAMP:20241109T150000Z
DTSTART;TZID=America/New_York:20241109T100000
DURATION:PT0H30M0S
SUMMARY:Sanford vs McBreen
DESCRIPTION:3/4 | Soccer\nPutnam County Family YMCA\n
URL;VALUE=URI:https://ygametime.com/branch/putnam/sports/2024-fall-soccer/21042/?utm_medium=calendar&utm_source=team_cal&utm_content=league_url#game-483896
LOCATION:Field 7 (3/4)
BEGIN:VALARM
TRIGGER:-P2H
ACTION:DISPLAY
DESCRIPTION:Sanford vs McBreen
END:VALARM
END:VEVENT
END:VCALENDAR

