BEGIN:VCALENDAR
VERSION:2.0
PRODID:-//YGAMETIME.com//YGT iCal Creator//EN
METHOD:PUBLISH
X-PUBLISHED-TTL:PT6H
REFRESH-INTERVAL;VALUE=DURATION:PT6H
CALSCALE:GREGORIAN
X-WR-CALNAME:YGAMETIME CALENDAR
BEGIN:VTIMEZONE
TZID:America/New_York
X-LIC-LOCATION:America/New_York
BEGIN:DAYLIGHT
TZOFFSETFROM:-0500
TZOFFSETTO:-0400
TZNAME:EDT
DTSTART:19700308T020000
RRULE:FREQ=YEARLY;BYMONTH=3;BYDAY=2SU
END:DAYLIGHT
BEGIN:STANDARD
TZOFFSETFROM:-0400
TZOFFSETTO:-0500
TZNAME:EST
DTSTART:19701101T020000
RRULE:FREQ=YEARLY;BYMONTH=11;BYDAY=1SU
END:STANDARD
END:VTIMEZONE
BEGIN:VEVENT
UID:putnam-483886@ygametime.com
DTSTAMP:20240907T140000Z
DTSTART;TZID=America/New_York:20240907T100000
DURATION:PT0H30M0S
SUMMARY:Juels vs Perez
DESCRIPTION:3/4 | Soccer\nPutnam County Family YMCA\n
URL;VALUE=URI:https://ygametime.com/branch/putnam/sports/2024-fall-soccer/21042/?utm_medium=calendar&utm_source=team_cal&utm_content=league_url#game-483886
LOCATION:Field 9 (3/4)
BEGIN:VALARM
TRIGGER:-P2H
ACTION:DISPLAY
DESCRIPTION:Juels vs Perez
END:VALARM
END:VEVENT
BEGIN:VEVENT
UID:putnam-485413@ygametime.com
DTSTAMP:20240920T210000Z
DTSTART;TZID=America/New_York:20240920T170000
DURATION:PT0H30M0S
SUMMARY:McBreen vs Perez
DESCRIPTION:3/4 | Soccer\nPutnam County Family YMCA\n
URL;VALUE=URI:https://ygametime.com/branch/putnam/sports/2024-fall-soccer/21042/?utm_medium=calendar&utm_source=team_cal&utm_content=league_url#game-485413
LOCATION:Field 9 (3/4)
BEGIN:VALARM
TRIGGER:-P2H
ACTION:DISPLAY
DESCRIPTION:McBreen vs Perez
END:VALARM
END:VEVENT
BEGIN:VEVENT
UID:putnam-483894@ygametime.com
DTSTAMP:20240921T140000Z
DTSTART;TZID=America/New_York:20240921T100000
DURATION:PT0H30M0S
SUMMARY:Perez vs Chreston
DESCRIPTION:3/4 | Soccer\nPutnam County Family YMCA\n
URL;VALUE=URI:https://ygametime.com/branch/putnam/sports/2024-fall-soccer/21042/?utm_medium=calendar&utm_source=team_cal&utm_content=league_url#game-483894
LOCATION:Field 9 (3/4)
BEGIN:VALARM
TRIGGER:-P2H
ACTION:DISPLAY
DESCRIPTION:Perez vs Chreston
END:VALARM
END:VEVENT
BEGIN:VEVENT
UID:putnam-483902@ygametime.com
DTSTAMP:20241019T140000Z
DTSTART;TZID=America/New_York:20241019T100000
DURATION:PT0H30M0S
SUMMARY:Perez vs Sanford
DESCRIPTION:3/4 | Soccer\nPutnam County Family YMCA\n
URL;VALUE=URI:https://ygametime.com/branch/putnam/sports/2024-fall-soccer/21042/?utm_medium=calendar&utm_source=team_cal&utm_content=league_url#game-483902
LOCATION:Field 9 (3/4)
BEGIN:VALARM
TRIGGER:-P2H
ACTION:DISPLAY
DESCRIPTION:Perez vs Sanford
END:VALARM
END:VEVENT
BEGIN:VEVENT
UID:putnam-483906@ygametime.com
DTSTAMP:20241026T140000Z
DTSTART;TZID=America/New_York:20241026T100000
DURATION:PT0H30M0S
SUMMARY:Green vs Perez
DESCRIPTION:3/4 | Soccer\nPutnam County Family YMCA\n
URL;VALUE=URI:https://ygametime.com/branch/putnam/sports/2024-fall-soccer/21042/?utm_medium=calendar&utm_source=team_cal&utm_content=league_url#game-483906
LOCATION:Field 9 (3/4)
BEGIN:VALARM
TRIGGER:-P2H
ACTION:DISPLAY
DESCRIPTION:Green vs Perez
END:VALARM
END:VEVENT
BEGIN:VEVENT
UID:putnam-483909@ygametime.com
DTSTAMP:20241102T140000Z
DTSTART;TZID=America/New_York:20241102T100000
DURATION:PT0H30M0S
SUMMARY:Perez vs Franey
DESCRIPTION:3/4 | Soccer\nPutnam County Family YMCA\n
URL;VALUE=URI:https://ygametime.com/branch/putnam/sports/2024-fall-soccer/21042/?utm_medium=calendar&utm_source=team_cal&utm_content=league_url#game-483909
LOCATION:Field 8 (3/4)
BEGIN:VALARM
TRIGGER:-P2H
ACTION:DISPLAY
DESCRIPTION:Perez vs Franey
END:VALARM
END:VEVENT
BEGIN:VEVENT
UID:putnam-483898@ygametime.com
DTSTAMP:20241109T150000Z
DTSTART;TZID=America/New_York:20241109T100000
DURATION:PT0H30M0S
SUMMARY:Scantland vs Perez
DESCRIPTION:3/4 | Soccer\nPutnam County Family YMCA\n
URL;VALUE=URI:https://ygametime.com/branch/putnam/sports/2024-fall-soccer/21042/?utm_medium=calendar&utm_source=team_cal&utm_content=league_url#game-483898
LOCATION:Field 9 (3/4)
BEGIN:VALARM
TRIGGER:-P2H
ACTION:DISPLAY
DESCRIPTION:Scantland vs Perez
END:VALARM
END:VEVENT
END:VCALENDAR

