BEGIN:VCALENDAR
VERSION:2.0
PRODID:-//YGAMETIME.com//YGT iCal Creator//EN
METHOD:PUBLISH
X-PUBLISHED-TTL:PT6H
REFRESH-INTERVAL;VALUE=DURATION:PT6H
CALSCALE:GREGORIAN
X-WR-CALNAME:YGAMETIME CALENDAR
BEGIN:VTIMEZONE
TZID:America/New_York
X-LIC-LOCATION:America/New_York
BEGIN:DAYLIGHT
TZOFFSETFROM:-0500
TZOFFSETTO:-0400
TZNAME:EDT
DTSTART:19700308T020000
RRULE:FREQ=YEARLY;BYMONTH=3;BYDAY=2SU
END:DAYLIGHT
BEGIN:STANDARD
TZOFFSETFROM:-0400
TZOFFSETTO:-0500
TZNAME:EST
DTSTART:19701101T020000
RRULE:FREQ=YEARLY;BYMONTH=11;BYDAY=1SU
END:STANDARD
END:VTIMEZONE
BEGIN:VEVENT
UID:putnam-483887@ygametime.com
DTSTAMP:20240907T143000Z
DTSTART;TZID=America/New_York:20240907T103000
DURATION:PT0H30M0S
SUMMARY:Franey vs Scantland
DESCRIPTION:3/4 | Soccer\nPutnam County Family YMCA\n
URL;VALUE=URI:https://ygametime.com/branch/putnam/sports/2024-fall-soccer/21042/?utm_medium=calendar&utm_source=team_cal&utm_content=league_url#game-483887
LOCATION:Field 7 (3/4)
BEGIN:VALARM
TRIGGER:-P2H
ACTION:DISPLAY
DESCRIPTION:Franey vs Scantland
END:VALARM
END:VEVENT
BEGIN:VEVENT
UID:putnam-483889@ygametime.com
DTSTAMP:20240914T140000Z
DTSTART;TZID=America/New_York:20240914T100000
DURATION:PT0H30M0S
SUMMARY:Sanford vs Franey
DESCRIPTION:3/4 | Soccer\nPutnam County Family YMCA\n
URL;VALUE=URI:https://ygametime.com/branch/putnam/sports/2024-fall-soccer/21042/?utm_medium=calendar&utm_source=team_cal&utm_content=league_url#game-483889
LOCATION:Field 8 (3/4)
BEGIN:VALARM
TRIGGER:-P2H
ACTION:DISPLAY
DESCRIPTION:Sanford vs Franey
END:VALARM
END:VEVENT
BEGIN:VEVENT
UID:putnam-483895@ygametime.com
DTSTAMP:20240921T143000Z
DTSTART;TZID=America/New_York:20240921T103000
DURATION:PT0H30M0S
SUMMARY:Franey vs Green
DESCRIPTION:3/4 | Soccer\nPutnam County Family YMCA\n
URL;VALUE=URI:https://ygametime.com/branch/putnam/sports/2024-fall-soccer/21042/?utm_medium=calendar&utm_source=team_cal&utm_content=league_url#game-483895
LOCATION:Field 7 (3/4)
BEGIN:VALARM
TRIGGER:-P2H
ACTION:DISPLAY
DESCRIPTION:Franey vs Green
END:VALARM
END:VEVENT
BEGIN:VEVENT
UID:putnam-483901@ygametime.com
DTSTAMP:20241019T153000Z
DTSTART;TZID=America/New_York:20241019T113000
DURATION:PT0H30M0S
SUMMARY:Juels vs Franey
DESCRIPTION:3/4 | Soccer\nPutnam County Family YMCA\n
URL;VALUE=URI:https://ygametime.com/branch/putnam/sports/2024-fall-soccer/21042/?utm_medium=calendar&utm_source=team_cal&utm_content=league_url#game-483901
LOCATION:Field 8 (3/4)
BEGIN:VALARM
TRIGGER:-P2H
ACTION:DISPLAY
DESCRIPTION:Juels vs Franey
END:VALARM
END:VEVENT
BEGIN:VEVENT
UID:putnam-483905@ygametime.com
DTSTAMP:20241026T140000Z
DTSTART;TZID=America/New_York:20241026T100000
DURATION:PT0H30M0S
SUMMARY:Franey vs McBreen
DESCRIPTION:3/4 | Soccer\nPutnam County Family YMCA\n
URL;VALUE=URI:https://ygametime.com/branch/putnam/sports/2024-fall-soccer/21042/?utm_medium=calendar&utm_source=team_cal&utm_content=league_url#game-483905
LOCATION:Field 8 (3/4)
BEGIN:VALARM
TRIGGER:-P2H
ACTION:DISPLAY
DESCRIPTION:Franey vs McBreen
END:VALARM
END:VEVENT
BEGIN:VEVENT
UID:putnam-483909@ygametime.com
DTSTAMP:20241102T140000Z
DTSTART;TZID=America/New_York:20241102T100000
DURATION:PT0H30M0S
SUMMARY:Perez vs Franey
DESCRIPTION:3/4 | Soccer\nPutnam County Family YMCA\n
URL;VALUE=URI:https://ygametime.com/branch/putnam/sports/2024-fall-soccer/21042/?utm_medium=calendar&utm_source=team_cal&utm_content=league_url#game-483909
LOCATION:Field 8 (3/4)
BEGIN:VALARM
TRIGGER:-P2H
ACTION:DISPLAY
DESCRIPTION:Perez vs Franey
END:VALARM
END:VEVENT
BEGIN:VEVENT
UID:putnam-483897@ygametime.com
DTSTAMP:20241109T150000Z
DTSTART;TZID=America/New_York:20241109T100000
DURATION:PT0H30M0S
SUMMARY:Chreston vs Franey
DESCRIPTION:3/4 | Soccer\nPutnam County Family YMCA\n
URL;VALUE=URI:https://ygametime.com/branch/putnam/sports/2024-fall-soccer/21042/?utm_medium=calendar&utm_source=team_cal&utm_content=league_url#game-483897
LOCATION:Field 8 (3/4)
BEGIN:VALARM
TRIGGER:-P2H
ACTION:DISPLAY
DESCRIPTION:Chreston vs Franey
END:VALARM
END:VEVENT
END:VCALENDAR

