BEGIN:VCALENDAR
VERSION:2.0
PRODID:-//YGAMETIME.com//YGT iCal Creator//EN
METHOD:PUBLISH
X-PUBLISHED-TTL:PT6H
REFRESH-INTERVAL;VALUE=DURATION:PT6H
CALSCALE:GREGORIAN
X-WR-CALNAME:YGAMETIME CALENDAR
BEGIN:VTIMEZONE
TZID:America/New_York
X-LIC-LOCATION:America/New_York
BEGIN:DAYLIGHT
TZOFFSETFROM:-0500
TZOFFSETTO:-0400
TZNAME:EDT
DTSTART:19700308T020000
RRULE:FREQ=YEARLY;BYMONTH=3;BYDAY=2SU
END:DAYLIGHT
BEGIN:STANDARD
TZOFFSETFROM:-0400
TZOFFSETTO:-0500
TZNAME:EST
DTSTART:19701101T020000
RRULE:FREQ=YEARLY;BYMONTH=11;BYDAY=1SU
END:STANDARD
END:VTIMEZONE
BEGIN:VEVENT
UID:putnam-130317@ygametime.com
DTSTAMP:20180324T130000Z
DTSTART;TZID=America/New_York:20180324T090000
DURATION:PT0H10M0S
SUMMARY:Chavez vs Williams
DESCRIPTION:U8 | YMCA Soccer\nPutnam County Family YMCA\n
URL;VALUE=URI:https://ygametime.com/branch/putnam/sports/2018-spring-ymca-soccer/5207/?utm_medium=calendar&utm_source=team_cal&utm_content=league_url#game-130317
LOCATION:Field 5 (7/8)
BEGIN:VALARM
TRIGGER:-P2H
ACTION:DISPLAY
DESCRIPTION:Chavez vs Williams
END:VALARM
END:VEVENT
BEGIN:VEVENT
UID:putnam-130327@ygametime.com
DTSTAMP:20180407T140000Z
DTSTART;TZID=America/New_York:20180407T100000
DURATION:PT0H10M0S
SUMMARY:Weston vs Williams
DESCRIPTION:U8 | YMCA Soccer\nPutnam County Family YMCA\nRESCHEDULED
URL;VALUE=URI:https://ygametime.com/branch/putnam/sports/2018-spring-ymca-soccer/5207/?utm_medium=calendar&utm_source=team_cal&utm_content=league_url#game-130327
LOCATION:Field 5 (7/8)
BEGIN:VALARM
TRIGGER:-P2H
ACTION:DISPLAY
DESCRIPTION:Weston vs Williams
END:VALARM
END:VEVENT
BEGIN:VEVENT
UID:putnam-130330@ygametime.com
DTSTAMP:20180414T133000Z
DTSTART;TZID=America/New_York:20180414T093000
DURATION:PT0H10M0S
SUMMARY:Williams vs Hudson
DESCRIPTION:U8 | YMCA Soccer\nPutnam County Family YMCA\n
URL;VALUE=URI:https://ygametime.com/branch/putnam/sports/2018-spring-ymca-soccer/5207/?utm_medium=calendar&utm_source=team_cal&utm_content=league_url#game-130330
LOCATION:Field 7 (3/4)
BEGIN:VALARM
TRIGGER:-P2H
ACTION:DISPLAY
DESCRIPTION:Williams vs Hudson
END:VALARM
END:VEVENT
BEGIN:VEVENT
UID:putnam-130340@ygametime.com
DTSTAMP:20180428T140000Z
DTSTART;TZID=America/New_York:20180428T100000
DURATION:PT0H10M0S
SUMMARY:Williams vs Birdwell
DESCRIPTION:U8 | YMCA Soccer\nPutnam County Family YMCA\n
URL;VALUE=URI:https://ygametime.com/branch/putnam/sports/2018-spring-ymca-soccer/5207/?utm_medium=calendar&utm_source=team_cal&utm_content=league_url#game-130340
LOCATION:Field 7 (3/4)
BEGIN:VALARM
TRIGGER:-P2H
ACTION:DISPLAY
DESCRIPTION:Williams vs Birdwell
END:VALARM
END:VEVENT
BEGIN:VEVENT
UID:putnam-130343@ygametime.com
DTSTAMP:20180505T140000Z
DTSTART;TZID=America/New_York:20180505T100000
DURATION:PT0H10M0S
SUMMARY:Bates vs Williams
DESCRIPTION:U8 | YMCA Soccer\nPutnam County Family YMCA\n
URL;VALUE=URI:https://ygametime.com/branch/putnam/sports/2018-spring-ymca-soccer/5207/?utm_medium=calendar&utm_source=team_cal&utm_content=league_url#game-130343
LOCATION:Field 5 (7/8)
BEGIN:VALARM
TRIGGER:-P2H
ACTION:DISPLAY
DESCRIPTION:Bates vs Williams
END:VALARM
END:VEVENT
BEGIN:VEVENT
UID:putnam-130346@ygametime.com
DTSTAMP:20180512T130000Z
DTSTART;TZID=America/New_York:20180512T090000
DURATION:PT0H10M0S
SUMMARY:Chavez vs Williams
DESCRIPTION:U8 | YMCA Soccer\nPutnam County Family YMCA\n
URL;VALUE=URI:https://ygametime.com/branch/putnam/sports/2018-spring-ymca-soccer/5207/?utm_medium=calendar&utm_source=team_cal&utm_content=league_url#game-130346
LOCATION:Field 7 (3/4)
BEGIN:VALARM
TRIGGER:-P2H
ACTION:DISPLAY
DESCRIPTION:Chavez vs Williams
END:VALARM
END:VEVENT
BEGIN:VEVENT
UID:putnam-130349@ygametime.com
DTSTAMP:20180519T130000Z
DTSTART;TZID=America/New_York:20180519T090000
DURATION:PT0H10M0S
SUMMARY:Williams vs Opperman
DESCRIPTION:U8 | YMCA Soccer\nPutnam County Family YMCA\n
URL;VALUE=URI:https://ygametime.com/branch/putnam/sports/2018-spring-ymca-soccer/5207/?utm_medium=calendar&utm_source=team_cal&utm_content=league_url#game-130349
LOCATION:Field 5 (7/8)
BEGIN:VALARM
TRIGGER:-P2H
ACTION:DISPLAY
DESCRIPTION:Williams vs Opperman
END:VALARM
END:VEVENT
END:VCALENDAR

