BEGIN:VCALENDAR
VERSION:2.0
PRODID:-//YGAMETIME.com//YGT iCal Creator//EN
METHOD:PUBLISH
X-PUBLISHED-TTL:PT6H
REFRESH-INTERVAL;VALUE=DURATION:PT6H
CALSCALE:GREGORIAN
X-WR-CALNAME:YGAMETIME CALENDAR
BEGIN:VTIMEZONE
TZID:America/New_York
X-LIC-LOCATION:America/New_York
BEGIN:DAYLIGHT
TZOFFSETFROM:-0500
TZOFFSETTO:-0400
TZNAME:EDT
DTSTART:19700308T020000
RRULE:FREQ=YEARLY;BYMONTH=3;BYDAY=2SU
END:DAYLIGHT
BEGIN:STANDARD
TZOFFSETFROM:-0400
TZOFFSETTO:-0500
TZNAME:EST
DTSTART:19701101T020000
RRULE:FREQ=YEARLY;BYMONTH=11;BYDAY=1SU
END:STANDARD
END:VTIMEZONE
BEGIN:VEVENT
UID:putnam-130319@ygametime.com
DTSTAMP:20180324T140000Z
DTSTART;TZID=America/New_York:20180324T100000
DURATION:PT0H10M0S
SUMMARY:Birdwell vs Weston
DESCRIPTION:U8 | YMCA Soccer\nPutnam County Family YMCA\n
URL;VALUE=URI:https://ygametime.com/branch/putnam/sports/2018-spring-ymca-soccer/5207/?utm_medium=calendar&utm_source=team_cal&utm_content=league_url#game-130319
LOCATION:Field 5 (7/8)
BEGIN:VALARM
TRIGGER:-P2H
ACTION:DISPLAY
DESCRIPTION:Birdwell vs Weston
END:VALARM
END:VEVENT
BEGIN:VEVENT
UID:putnam-130326@ygametime.com
DTSTAMP:20180407T133000Z
DTSTART;TZID=America/New_York:20180407T093000
DURATION:PT0H10M0S
SUMMARY:Birdwell vs Bates
DESCRIPTION:U8 | YMCA Soccer\nPutnam County Family YMCA\n
URL;VALUE=URI:https://ygametime.com/branch/putnam/sports/2018-spring-ymca-soccer/5207/?utm_medium=calendar&utm_source=team_cal&utm_content=league_url#game-130326
LOCATION:Field 7 (3/4)
BEGIN:VALARM
TRIGGER:-P2H
ACTION:DISPLAY
DESCRIPTION:Birdwell vs Bates
END:VALARM
END:VEVENT
BEGIN:VEVENT
UID:putnam-130332@ygametime.com
DTSTAMP:20180414T143000Z
DTSTART;TZID=America/New_York:20180414T103000
DURATION:PT0H10M0S
SUMMARY:Opperman vs Birdwell
DESCRIPTION:U8 | YMCA Soccer\nPutnam County Family YMCA\n
URL;VALUE=URI:https://ygametime.com/branch/putnam/sports/2018-spring-ymca-soccer/5207/?utm_medium=calendar&utm_source=team_cal&utm_content=league_url#game-130332
LOCATION:Field 7 (3/4)
BEGIN:VALARM
TRIGGER:-P2H
ACTION:DISPLAY
DESCRIPTION:Opperman vs Birdwell
END:VALARM
END:VEVENT
BEGIN:VEVENT
UID:putnam-130340@ygametime.com
DTSTAMP:20180428T140000Z
DTSTART;TZID=America/New_York:20180428T100000
DURATION:PT0H10M0S
SUMMARY:Williams vs Birdwell
DESCRIPTION:U8 | YMCA Soccer\nPutnam County Family YMCA\n
URL;VALUE=URI:https://ygametime.com/branch/putnam/sports/2018-spring-ymca-soccer/5207/?utm_medium=calendar&utm_source=team_cal&utm_content=league_url#game-130340
LOCATION:Field 7 (3/4)
BEGIN:VALARM
TRIGGER:-P2H
ACTION:DISPLAY
DESCRIPTION:Williams vs Birdwell
END:VALARM
END:VEVENT
BEGIN:VEVENT
UID:putnam-130344@ygametime.com
DTSTAMP:20180505T140000Z
DTSTART;TZID=America/New_York:20180505T100000
DURATION:PT0H10M0S
SUMMARY:Chavez vs Birdwell
DESCRIPTION:U8 | YMCA Soccer\nPutnam County Family YMCA\n
URL;VALUE=URI:https://ygametime.com/branch/putnam/sports/2018-spring-ymca-soccer/5207/?utm_medium=calendar&utm_source=team_cal&utm_content=league_url#game-130344
LOCATION:Field 7 (3/4)
BEGIN:VALARM
TRIGGER:-P2H
ACTION:DISPLAY
DESCRIPTION:Chavez vs Birdwell
END:VALARM
END:VEVENT
BEGIN:VEVENT
UID:putnam-130348@ygametime.com
DTSTAMP:20180512T140000Z
DTSTART;TZID=America/New_York:20180512T100000
DURATION:PT0H10M0S
SUMMARY:Birdwell vs Weston
DESCRIPTION:U8 | YMCA Soccer\nPutnam County Family YMCA\n
URL;VALUE=URI:https://ygametime.com/branch/putnam/sports/2018-spring-ymca-soccer/5207/?utm_medium=calendar&utm_source=team_cal&utm_content=league_url#game-130348
LOCATION:Field 7 (3/4)
BEGIN:VALARM
TRIGGER:-P2H
ACTION:DISPLAY
DESCRIPTION:Birdwell vs Weston
END:VALARM
END:VEVENT
BEGIN:VEVENT
UID:putnam-130352@ygametime.com
DTSTAMP:20180519T140000Z
DTSTART;TZID=America/New_York:20180519T100000
DURATION:PT0H10M0S
SUMMARY:Bowers vs Birdwell
DESCRIPTION:U8 | YMCA Soccer\nPutnam County Family YMCA\n
URL;VALUE=URI:https://ygametime.com/branch/putnam/sports/2018-spring-ymca-soccer/5207/?utm_medium=calendar&utm_source=team_cal&utm_content=league_url#game-130352
LOCATION:Field 7 (3/4)
BEGIN:VALARM
TRIGGER:-P2H
ACTION:DISPLAY
DESCRIPTION:Bowers vs Birdwell
END:VALARM
END:VEVENT
END:VCALENDAR

