BEGIN:VCALENDAR
VERSION:2.0
PRODID:-//YGAMETIME.com//YGT iCal Creator//EN
METHOD:PUBLISH
X-PUBLISHED-TTL:PT6H
REFRESH-INTERVAL;VALUE=DURATION:PT6H
CALSCALE:GREGORIAN
X-WR-CALNAME:YGAMETIME CALENDAR
BEGIN:VTIMEZONE
TZID:America/New_York
X-LIC-LOCATION:America/New_York
BEGIN:DAYLIGHT
TZOFFSETFROM:-0500
TZOFFSETTO:-0400
TZNAME:EDT
DTSTART:19700308T020000
RRULE:FREQ=YEARLY;BYMONTH=3;BYDAY=2SU
END:DAYLIGHT
BEGIN:STANDARD
TZOFFSETFROM:-0400
TZOFFSETTO:-0500
TZNAME:EST
DTSTART:19701101T020000
RRULE:FREQ=YEARLY;BYMONTH=11;BYDAY=1SU
END:STANDARD
END:VTIMEZONE
BEGIN:VEVENT
UID:putnam-129990@ygametime.com
DTSTAMP:20180324T150000Z
DTSTART;TZID=America/New_York:20180324T110000
DURATION:PT0H60M0S
SUMMARY:Rhett vs Reyes
DESCRIPTION:U10 | YMCA Soccer\nPutnam County Family YMCA\n
URL;VALUE=URI:https://ygametime.com/branch/putnam/sports/2018-spring-ymca-soccer/5205/?utm_medium=calendar&utm_source=team_cal&utm_content=league_url#game-129990
LOCATION:Field 1 (9/11) Practice field
BEGIN:VALARM
TRIGGER:-P2H
ACTION:DISPLAY
DESCRIPTION:Rhett vs Reyes
END:VALARM
END:VEVENT
BEGIN:VEVENT
UID:putnam-129991@ygametime.com
DTSTAMP:20180407T140000Z
DTSTART;TZID=America/New_York:20180407T100000
DURATION:PT0H60M0S
SUMMARY:Reyes vs Rhett
DESCRIPTION:U10 | YMCA Soccer\nPutnam County Family YMCA\n
URL;VALUE=URI:https://ygametime.com/branch/putnam/sports/2018-spring-ymca-soccer/5205/?utm_medium=calendar&utm_source=team_cal&utm_content=league_url#game-129991
LOCATION:Field 1 (9/11) Practice field
BEGIN:VALARM
TRIGGER:-P2H
ACTION:DISPLAY
DESCRIPTION:Reyes vs Rhett
END:VALARM
END:VEVENT
BEGIN:VEVENT
UID:putnam-129994@ygametime.com
DTSTAMP:20180414T150000Z
DTSTART;TZID=America/New_York:20180414T110000
DURATION:PT0H60M0S
SUMMARY:Reese vs Reyes
DESCRIPTION:U10 | YMCA Soccer\nPutnam County Family YMCA\nRESCHEDULED 5/11
URL;VALUE=URI:https://ygametime.com/branch/putnam/sports/2018-spring-ymca-soccer/5205/?utm_medium=calendar&utm_source=team_cal&utm_content=league_url#game-129994
LOCATION:Field 1 (9/11) Practice field
BEGIN:VALARM
TRIGGER:-P2H
ACTION:DISPLAY
DESCRIPTION:Reese vs Reyes
END:VALARM
END:VEVENT
BEGIN:VEVENT
UID:putnam-129996@ygametime.com
DTSTAMP:20180428T150000Z
DTSTART;TZID=America/New_York:20180428T110000
DURATION:PT0H60M0S
SUMMARY:Reyes vs Reese
DESCRIPTION:U10 | YMCA Soccer\nPutnam County Family YMCA\n
URL;VALUE=URI:https://ygametime.com/branch/putnam/sports/2018-spring-ymca-soccer/5205/?utm_medium=calendar&utm_source=team_cal&utm_content=league_url#game-129996
LOCATION:Field 1 (9/11) Practice field
BEGIN:VALARM
TRIGGER:-P2H
ACTION:DISPLAY
DESCRIPTION:Reyes vs Reese
END:VALARM
END:VEVENT
BEGIN:VEVENT
UID:putnam-129997@ygametime.com
DTSTAMP:20180505T140000Z
DTSTART;TZID=America/New_York:20180505T100000
DURATION:PT0H60M0S
SUMMARY:Reyes vs Groves
DESCRIPTION:U10 | YMCA Soccer\nPutnam County Family YMCA\n
URL;VALUE=URI:https://ygametime.com/branch/putnam/sports/2018-spring-ymca-soccer/5205/?utm_medium=calendar&utm_source=team_cal&utm_content=league_url#game-129997
LOCATION:Field 1 (9/11) Practice field
BEGIN:VALARM
TRIGGER:-P2H
ACTION:DISPLAY
DESCRIPTION:Reyes vs Groves
END:VALARM
END:VEVENT
BEGIN:VEVENT
UID:putnam-129999@ygametime.com
DTSTAMP:20180512T140000Z
DTSTART;TZID=America/New_York:20180512T100000
DURATION:PT0H60M0S
SUMMARY:Rhett vs Reyes
DESCRIPTION:U10 | YMCA Soccer\nPutnam County Family YMCA\n
URL;VALUE=URI:https://ygametime.com/branch/putnam/sports/2018-spring-ymca-soccer/5205/?utm_medium=calendar&utm_source=team_cal&utm_content=league_url#game-129999
LOCATION:Field 1 (9/11) Practice field
BEGIN:VALARM
TRIGGER:-P2H
ACTION:DISPLAY
DESCRIPTION:Rhett vs Reyes
END:VALARM
END:VEVENT
BEGIN:VEVENT
UID:putnam-140816@ygametime.com
DTSTAMP:20180519T140000Z
DTSTART;TZID=America/New_York:20180519T100000
DURATION:PT0H60M0S
SUMMARY:Reyes vs Groves
DESCRIPTION:U10 | YMCA Soccer\nPutnam County Family YMCA\n
URL;VALUE=URI:https://ygametime.com/branch/putnam/sports/2018-spring-ymca-soccer/5205/?utm_medium=calendar&utm_source=team_cal&utm_content=league_url#game-140816
LOCATION:Field 1 (9/11) Practice field
BEGIN:VALARM
TRIGGER:-P2H
ACTION:DISPLAY
DESCRIPTION:Reyes vs Groves
END:VALARM
END:VEVENT
END:VCALENDAR

