BEGIN:VCALENDAR
VERSION:2.0
PRODID:-//YGAMETIME.com//YGT iCal Creator//EN
METHOD:PUBLISH
X-PUBLISHED-TTL:PT6H
REFRESH-INTERVAL;VALUE=DURATION:PT6H
CALSCALE:GREGORIAN
X-WR-CALNAME:YGAMETIME CALENDAR
BEGIN:VTIMEZONE
TZID:America/New_York
X-LIC-LOCATION:America/New_York
BEGIN:DAYLIGHT
TZOFFSETFROM:-0500
TZOFFSETTO:-0400
TZNAME:EDT
DTSTART:19700308T020000
RRULE:FREQ=YEARLY;BYMONTH=3;BYDAY=2SU
END:DAYLIGHT
BEGIN:STANDARD
TZOFFSETFROM:-0400
TZOFFSETTO:-0500
TZNAME:EST
DTSTART:19701101T020000
RRULE:FREQ=YEARLY;BYMONTH=11;BYDAY=1SU
END:STANDARD
END:VTIMEZONE
BEGIN:VEVENT
UID:putnam-129760@ygametime.com
DTSTAMP:20180324T123000Z
DTSTART;TZID=America/New_York:20180324T083000
DURATION:PT0H45M0S
SUMMARY:Forgey vs Molly
DESCRIPTION:U4 | YMCA Soccer\nPutnam County Family YMCA\n
URL;VALUE=URI:https://ygametime.com/branch/putnam/sports/2018-spring-ymca-soccer/5209/?utm_medium=calendar&utm_source=team_cal&utm_content=league_url#game-129760
LOCATION:Field 3 (5/6)
BEGIN:VALARM
TRIGGER:-P2H
ACTION:DISPLAY
DESCRIPTION:Forgey vs Molly
END:VALARM
END:VEVENT
BEGIN:VEVENT
UID:putnam-129764@ygametime.com
DTSTAMP:20180407T133000Z
DTSTART;TZID=America/New_York:20180407T093000
DURATION:PT0H45M0S
SUMMARY:Krebs vs Forgey
DESCRIPTION:U4 | YMCA Soccer\nPutnam County Family YMCA\n
URL;VALUE=URI:https://ygametime.com/branch/putnam/sports/2018-spring-ymca-soccer/5209/?utm_medium=calendar&utm_source=team_cal&utm_content=league_url#game-129764
LOCATION:Field 2 (5/6)
BEGIN:VALARM
TRIGGER:-P2H
ACTION:DISPLAY
DESCRIPTION:Krebs vs Forgey
END:VALARM
END:VEVENT
BEGIN:VEVENT
UID:putnam-129765@ygametime.com
DTSTAMP:20180414T123000Z
DTSTART;TZID=America/New_York:20180414T083000
DURATION:PT0H45M0S
SUMMARY:Seiler vs Forgey
DESCRIPTION:U4 | YMCA Soccer\nPutnam County Family YMCA\n
URL;VALUE=URI:https://ygametime.com/branch/putnam/sports/2018-spring-ymca-soccer/5209/?utm_medium=calendar&utm_source=team_cal&utm_content=league_url#game-129765
LOCATION:Field 2 (5/6)
BEGIN:VALARM
TRIGGER:-P2H
ACTION:DISPLAY
DESCRIPTION:Seiler vs Forgey
END:VALARM
END:VEVENT
BEGIN:VEVENT
UID:putnam-129770@ygametime.com
DTSTAMP:20180428T133000Z
DTSTART;TZID=America/New_York:20180428T093000
DURATION:PT0H45M0S
SUMMARY:Forgey vs Honeycutt
DESCRIPTION:U4 | YMCA Soccer\nPutnam County Family YMCA\n
URL;VALUE=URI:https://ygametime.com/branch/putnam/sports/2018-spring-ymca-soccer/5209/?utm_medium=calendar&utm_source=team_cal&utm_content=league_url#game-129770
LOCATION:Field 2 (5/6)
BEGIN:VALARM
TRIGGER:-P2H
ACTION:DISPLAY
DESCRIPTION:Forgey vs Honeycutt
END:VALARM
END:VEVENT
BEGIN:VEVENT
UID:putnam-129772@ygametime.com
DTSTAMP:20180505T123000Z
DTSTART;TZID=America/New_York:20180505T083000
DURATION:PT0H45M0S
SUMMARY:Swoboda vs Forgey
DESCRIPTION:U4 | YMCA Soccer\nPutnam County Family YMCA\n
URL;VALUE=URI:https://ygametime.com/branch/putnam/sports/2018-spring-ymca-soccer/5209/?utm_medium=calendar&utm_source=team_cal&utm_content=league_url#game-129772
LOCATION:Field 3 (5/6)
BEGIN:VALARM
TRIGGER:-P2H
ACTION:DISPLAY
DESCRIPTION:Swoboda vs Forgey
END:VALARM
END:VEVENT
BEGIN:VEVENT
UID:putnam-129776@ygametime.com
DTSTAMP:20180512T133000Z
DTSTART;TZID=America/New_York:20180512T093000
DURATION:PT0H45M0S
SUMMARY:Forgey vs Molly
DESCRIPTION:U4 | YMCA Soccer\nPutnam County Family YMCA\n
URL;VALUE=URI:https://ygametime.com/branch/putnam/sports/2018-spring-ymca-soccer/5209/?utm_medium=calendar&utm_source=team_cal&utm_content=league_url#game-129776
LOCATION:Field 2 (5/6)
BEGIN:VALARM
TRIGGER:-P2H
ACTION:DISPLAY
DESCRIPTION:Forgey vs Molly
END:VALARM
END:VEVENT
BEGIN:VEVENT
UID:putnam-129779@ygametime.com
DTSTAMP:20180519T133000Z
DTSTART;TZID=America/New_York:20180519T093000
DURATION:PT0H45M0S
SUMMARY:Krebs vs Forgey
DESCRIPTION:U4 | YMCA Soccer\nPutnam County Family YMCA\n
URL;VALUE=URI:https://ygametime.com/branch/putnam/sports/2018-spring-ymca-soccer/5209/?utm_medium=calendar&utm_source=team_cal&utm_content=league_url#game-129779
LOCATION:Field 2 (5/6)
BEGIN:VALARM
TRIGGER:-P2H
ACTION:DISPLAY
DESCRIPTION:Krebs vs Forgey
END:VALARM
END:VEVENT
END:VCALENDAR

