BEGIN:VCALENDAR
VERSION:2.0
PRODID:-//YGAMETIME.com//YGT iCal Creator//EN
METHOD:PUBLISH
X-PUBLISHED-TTL:PT6H
REFRESH-INTERVAL;VALUE=DURATION:PT6H
CALSCALE:GREGORIAN
X-WR-CALNAME:YGAMETIME CALENDAR
BEGIN:VTIMEZONE
TZID:America/New_York
X-LIC-LOCATION:America/New_York
BEGIN:DAYLIGHT
TZOFFSETFROM:-0500
TZOFFSETTO:-0400
TZNAME:EDT
DTSTART:19700308T020000
RRULE:FREQ=YEARLY;BYMONTH=3;BYDAY=2SU
END:DAYLIGHT
BEGIN:STANDARD
TZOFFSETFROM:-0400
TZOFFSETTO:-0500
TZNAME:EST
DTSTART:19701101T020000
RRULE:FREQ=YEARLY;BYMONTH=11;BYDAY=1SU
END:STANDARD
END:VTIMEZONE
BEGIN:VEVENT
UID:putnam-129759@ygametime.com
DTSTAMP:20180324T123000Z
DTSTART;TZID=America/New_York:20180324T083000
DURATION:PT0H45M0S
SUMMARY:Seiler vs Swoboda
DESCRIPTION:U4 | YMCA Soccer\nPutnam County Family YMCA\n
URL;VALUE=URI:https://ygametime.com/branch/putnam/sports/2018-spring-ymca-soccer/5209/?utm_medium=calendar&utm_source=team_cal&utm_content=league_url#game-129759
LOCATION:Field 2 (5/6)
BEGIN:VALARM
TRIGGER:-P2H
ACTION:DISPLAY
DESCRIPTION:Seiler vs Swoboda
END:VALARM
END:VEVENT
BEGIN:VEVENT
UID:putnam-129762@ygametime.com
DTSTAMP:20180407T123000Z
DTSTART;TZID=America/New_York:20180407T083000
DURATION:PT0H45M0S
SUMMARY:Swoboda vs Honeycutt
DESCRIPTION:U4 | YMCA Soccer\nPutnam County Family YMCA\n
URL;VALUE=URI:https://ygametime.com/branch/putnam/sports/2018-spring-ymca-soccer/5209/?utm_medium=calendar&utm_source=team_cal&utm_content=league_url#game-129762
LOCATION:Field 2 (5/6)
BEGIN:VALARM
TRIGGER:-P2H
ACTION:DISPLAY
DESCRIPTION:Swoboda vs Honeycutt
END:VALARM
END:VEVENT
BEGIN:VEVENT
UID:putnam-129766@ygametime.com
DTSTAMP:20180414T123000Z
DTSTART;TZID=America/New_York:20180414T083000
DURATION:PT0H45M0S
SUMMARY:Swoboda vs Krebs
DESCRIPTION:U4 | YMCA Soccer\nPutnam County Family YMCA\n
URL;VALUE=URI:https://ygametime.com/branch/putnam/sports/2018-spring-ymca-soccer/5209/?utm_medium=calendar&utm_source=team_cal&utm_content=league_url#game-129766
LOCATION:Field 3 (5/6)
BEGIN:VALARM
TRIGGER:-P2H
ACTION:DISPLAY
DESCRIPTION:Swoboda vs Krebs
END:VALARM
END:VEVENT
BEGIN:VEVENT
UID:putnam-129769@ygametime.com
DTSTAMP:20180428T123000Z
DTSTART;TZID=America/New_York:20180428T083000
DURATION:PT0H45M0S
SUMMARY:Molly vs Swoboda
DESCRIPTION:U4 | YMCA Soccer\nPutnam County Family YMCA\n
URL;VALUE=URI:https://ygametime.com/branch/putnam/sports/2018-spring-ymca-soccer/5209/?utm_medium=calendar&utm_source=team_cal&utm_content=league_url#game-129769
LOCATION:Field 3 (5/6)
BEGIN:VALARM
TRIGGER:-P2H
ACTION:DISPLAY
DESCRIPTION:Molly vs Swoboda
END:VALARM
END:VEVENT
BEGIN:VEVENT
UID:putnam-129772@ygametime.com
DTSTAMP:20180505T123000Z
DTSTART;TZID=America/New_York:20180505T083000
DURATION:PT0H45M0S
SUMMARY:Swoboda vs Forgey
DESCRIPTION:U4 | YMCA Soccer\nPutnam County Family YMCA\n
URL;VALUE=URI:https://ygametime.com/branch/putnam/sports/2018-spring-ymca-soccer/5209/?utm_medium=calendar&utm_source=team_cal&utm_content=league_url#game-129772
LOCATION:Field 3 (5/6)
BEGIN:VALARM
TRIGGER:-P2H
ACTION:DISPLAY
DESCRIPTION:Swoboda vs Forgey
END:VALARM
END:VEVENT
BEGIN:VEVENT
UID:putnam-129774@ygametime.com
DTSTAMP:20180512T123000Z
DTSTART;TZID=America/New_York:20180512T083000
DURATION:PT0H45M0S
SUMMARY:Seiler vs Swoboda
DESCRIPTION:U4 | YMCA Soccer\nPutnam County Family YMCA\n
URL;VALUE=URI:https://ygametime.com/branch/putnam/sports/2018-spring-ymca-soccer/5209/?utm_medium=calendar&utm_source=team_cal&utm_content=league_url#game-129774
LOCATION:Field 2 (5/6)
BEGIN:VALARM
TRIGGER:-P2H
ACTION:DISPLAY
DESCRIPTION:Seiler vs Swoboda
END:VALARM
END:VEVENT
BEGIN:VEVENT
UID:putnam-129778@ygametime.com
DTSTAMP:20180519T123000Z
DTSTART;TZID=America/New_York:20180519T083000
DURATION:PT0H45M0S
SUMMARY:Swoboda vs Honeycutt
DESCRIPTION:U4 | YMCA Soccer\nPutnam County Family YMCA\n
URL;VALUE=URI:https://ygametime.com/branch/putnam/sports/2018-spring-ymca-soccer/5209/?utm_medium=calendar&utm_source=team_cal&utm_content=league_url#game-129778
LOCATION:Field 3 (5/6)
BEGIN:VALARM
TRIGGER:-P2H
ACTION:DISPLAY
DESCRIPTION:Swoboda vs Honeycutt
END:VALARM
END:VEVENT
END:VCALENDAR

