BEGIN:VCALENDAR
VERSION:2.0
PRODID:-//YGAMETIME.com//YGT iCal Creator//EN
METHOD:PUBLISH
X-PUBLISHED-TTL:PT6H
REFRESH-INTERVAL;VALUE=DURATION:PT6H
CALSCALE:GREGORIAN
X-WR-CALNAME:YGAMETIME CALENDAR
BEGIN:VTIMEZONE
TZID:America/New_York
X-LIC-LOCATION:America/New_York
BEGIN:DAYLIGHT
TZOFFSETFROM:-0500
TZOFFSETTO:-0400
TZNAME:EDT
DTSTART:19700308T020000
RRULE:FREQ=YEARLY;BYMONTH=3;BYDAY=2SU
END:DAYLIGHT
BEGIN:STANDARD
TZOFFSETFROM:-0400
TZOFFSETTO:-0500
TZNAME:EST
DTSTART:19701101T020000
RRULE:FREQ=YEARLY;BYMONTH=11;BYDAY=1SU
END:STANDARD
END:VTIMEZONE
BEGIN:VEVENT
UID:putnam-129852@ygametime.com
DTSTAMP:20180324T130000Z
DTSTART;TZID=America/New_York:20180324T090000
DURATION:PT0H40M0S
SUMMARY:Bain vs Brubacher
DESCRIPTION:U6 | YMCA Soccer\nPutnam County Family YMCA\n
URL;VALUE=URI:https://ygametime.com/branch/putnam/sports/2018-spring-ymca-soccer/5208/?utm_medium=calendar&utm_source=team_cal&utm_content=league_url#game-129852
LOCATION:Field 9 (3/4)
BEGIN:VALARM
TRIGGER:-P2H
ACTION:DISPLAY
DESCRIPTION:Bain vs Brubacher
END:VALARM
END:VEVENT
BEGIN:VEVENT
UID:putnam-129859@ygametime.com
DTSTAMP:20180407T130000Z
DTSTART;TZID=America/New_York:20180407T090000
DURATION:PT0H40M0S
SUMMARY:Cisco vs Brubacher
DESCRIPTION:U6 | YMCA Soccer\nPutnam County Family YMCA\n
URL;VALUE=URI:https://ygametime.com/branch/putnam/sports/2018-spring-ymca-soccer/5208/?utm_medium=calendar&utm_source=team_cal&utm_content=league_url#game-129859
LOCATION:Field 4 (7/8)
BEGIN:VALARM
TRIGGER:-P2H
ACTION:DISPLAY
DESCRIPTION:Cisco vs Brubacher
END:VALARM
END:VEVENT
BEGIN:VEVENT
UID:putnam-129862@ygametime.com
DTSTAMP:20180414T120000Z
DTSTART;TZID=America/New_York:20180414T080000
DURATION:PT0H40M0S
SUMMARY:Brubacher vs Brown
DESCRIPTION:U6 | YMCA Soccer\nPutnam County Family YMCA\n
URL;VALUE=URI:https://ygametime.com/branch/putnam/sports/2018-spring-ymca-soccer/5208/?utm_medium=calendar&utm_source=team_cal&utm_content=league_url#game-129862
LOCATION:Field 9 (3/4)
BEGIN:VALARM
TRIGGER:-P2H
ACTION:DISPLAY
DESCRIPTION:Brubacher vs Brown
END:VALARM
END:VEVENT
BEGIN:VEVENT
UID:putnam-129872@ygametime.com
DTSTAMP:20180428T130000Z
DTSTART;TZID=America/New_York:20180428T090000
DURATION:PT0H40M0S
SUMMARY:Brubacher vs Warren
DESCRIPTION:U6 | YMCA Soccer\nPutnam County Family YMCA\n
URL;VALUE=URI:https://ygametime.com/branch/putnam/sports/2018-spring-ymca-soccer/5208/?utm_medium=calendar&utm_source=team_cal&utm_content=league_url#game-129872
LOCATION:Field 9 (3/4)
BEGIN:VALARM
TRIGGER:-P2H
ACTION:DISPLAY
DESCRIPTION:Brubacher vs Warren
END:VALARM
END:VEVENT
BEGIN:VEVENT
UID:putnam-129875@ygametime.com
DTSTAMP:20180505T130000Z
DTSTART;TZID=America/New_York:20180505T090000
DURATION:PT0H40M0S
SUMMARY:Cisco vs Brubacher
DESCRIPTION:U6 | YMCA Soccer\nPutnam County Family YMCA\n
URL;VALUE=URI:https://ygametime.com/branch/putnam/sports/2018-spring-ymca-soccer/5208/?utm_medium=calendar&utm_source=team_cal&utm_content=league_url#game-129875
LOCATION:Field 4 (7/8)
BEGIN:VALARM
TRIGGER:-P2H
ACTION:DISPLAY
DESCRIPTION:Cisco vs Brubacher
END:VALARM
END:VEVENT
BEGIN:VEVENT
UID:putnam-129878@ygametime.com
DTSTAMP:20180512T120000Z
DTSTART;TZID=America/New_York:20180512T080000
DURATION:PT0H40M0S
SUMMARY:Bain vs Brubacher
DESCRIPTION:U6 | YMCA Soccer\nPutnam County Family YMCA\n
URL;VALUE=URI:https://ygametime.com/branch/putnam/sports/2018-spring-ymca-soccer/5208/?utm_medium=calendar&utm_source=team_cal&utm_content=league_url#game-129878
LOCATION:Field 9 (3/4)
BEGIN:VALARM
TRIGGER:-P2H
ACTION:DISPLAY
DESCRIPTION:Bain vs Brubacher
END:VALARM
END:VEVENT
BEGIN:VEVENT
UID:putnam-129880@ygametime.com
DTSTAMP:20180512T130000Z
DTSTART;TZID=America/New_York:20180512T090000
DURATION:PT0H40M0S
SUMMARY:Warren vs Brubacher
DESCRIPTION:U6 | YMCA Soccer\nPutnam County Family YMCA\n
URL;VALUE=URI:https://ygametime.com/branch/putnam/sports/2018-spring-ymca-soccer/5208/?utm_medium=calendar&utm_source=team_cal&utm_content=league_url#game-129880
LOCATION:Field 9 (3/4)
BEGIN:VALARM
TRIGGER:-P2H
ACTION:DISPLAY
DESCRIPTION:Warren vs Brubacher
END:VALARM
END:VEVENT
BEGIN:VEVENT
UID:putnam-129881@ygametime.com
DTSTAMP:20180519T120000Z
DTSTART;TZID=America/New_York:20180519T080000
DURATION:PT0H40M0S
SUMMARY:Brubacher vs Fancher
DESCRIPTION:U6 | YMCA Soccer\nPutnam County Family YMCA\n
URL;VALUE=URI:https://ygametime.com/branch/putnam/sports/2018-spring-ymca-soccer/5208/?utm_medium=calendar&utm_source=team_cal&utm_content=league_url#game-129881
LOCATION:Field 4 (7/8)
BEGIN:VALARM
TRIGGER:-P2H
ACTION:DISPLAY
DESCRIPTION:Brubacher vs Fancher
END:VALARM
END:VEVENT
END:VCALENDAR

