BEGIN:VCALENDAR
VERSION:2.0
PRODID:-//YGAMETIME.com//YGT iCal Creator//EN
METHOD:PUBLISH
X-PUBLISHED-TTL:PT6H
REFRESH-INTERVAL;VALUE=DURATION:PT6H
CALSCALE:GREGORIAN
X-WR-CALNAME:YGAMETIME CALENDAR
BEGIN:VTIMEZONE
TZID:America/New_York
X-LIC-LOCATION:America/New_York
BEGIN:DAYLIGHT
TZOFFSETFROM:-0500
TZOFFSETTO:-0400
TZNAME:EDT
DTSTART:19700308T020000
RRULE:FREQ=YEARLY;BYMONTH=3;BYDAY=2SU
END:DAYLIGHT
BEGIN:STANDARD
TZOFFSETFROM:-0400
TZOFFSETTO:-0500
TZNAME:EST
DTSTART:19701101T020000
RRULE:FREQ=YEARLY;BYMONTH=11;BYDAY=1SU
END:STANDARD
END:VTIMEZONE
BEGIN:VEVENT
UID:putnam-129850@ygametime.com
DTSTAMP:20180324T120000Z
DTSTART;TZID=America/New_York:20180324T080000
DURATION:PT0H40M0S
SUMMARY:Fancher vs Cisco
DESCRIPTION:U6 | YMCA Soccer\nPutnam County Family YMCA\n
URL;VALUE=URI:https://ygametime.com/branch/putnam/sports/2018-spring-ymca-soccer/5208/?utm_medium=calendar&utm_source=team_cal&utm_content=league_url#game-129850
LOCATION:Field 9 (3/4)
BEGIN:VALARM
TRIGGER:-P2H
ACTION:DISPLAY
DESCRIPTION:Fancher vs Cisco
END:VALARM
END:VEVENT
BEGIN:VEVENT
UID:putnam-129858@ygametime.com
DTSTAMP:20180407T120000Z
DTSTART;TZID=America/New_York:20180407T080000
DURATION:PT0H40M0S
SUMMARY:Warren vs Cisco
DESCRIPTION:U6 | YMCA Soccer\nPutnam County Family YMCA\n
URL;VALUE=URI:https://ygametime.com/branch/putnam/sports/2018-spring-ymca-soccer/5208/?utm_medium=calendar&utm_source=team_cal&utm_content=league_url#game-129858
LOCATION:Field 9 (3/4)
BEGIN:VALARM
TRIGGER:-P2H
ACTION:DISPLAY
DESCRIPTION:Warren vs Cisco
END:VALARM
END:VEVENT
BEGIN:VEVENT
UID:putnam-129859@ygametime.com
DTSTAMP:20180407T130000Z
DTSTART;TZID=America/New_York:20180407T090000
DURATION:PT0H40M0S
SUMMARY:Cisco vs Brubacher
DESCRIPTION:U6 | YMCA Soccer\nPutnam County Family YMCA\n
URL;VALUE=URI:https://ygametime.com/branch/putnam/sports/2018-spring-ymca-soccer/5208/?utm_medium=calendar&utm_source=team_cal&utm_content=league_url#game-129859
LOCATION:Field 4 (7/8)
BEGIN:VALARM
TRIGGER:-P2H
ACTION:DISPLAY
DESCRIPTION:Cisco vs Brubacher
END:VALARM
END:VEVENT
BEGIN:VEVENT
UID:putnam-129861@ygametime.com
DTSTAMP:20180414T120000Z
DTSTART;TZID=America/New_York:20180414T080000
DURATION:PT0H40M0S
SUMMARY:Cisco vs Bain
DESCRIPTION:U6 | YMCA Soccer\nPutnam County Family YMCA\n
URL;VALUE=URI:https://ygametime.com/branch/putnam/sports/2018-spring-ymca-soccer/5208/?utm_medium=calendar&utm_source=team_cal&utm_content=league_url#game-129861
LOCATION:Field 4 (7/8)
BEGIN:VALARM
TRIGGER:-P2H
ACTION:DISPLAY
DESCRIPTION:Cisco vs Bain
END:VALARM
END:VEVENT
BEGIN:VEVENT
UID:putnam-129869@ygametime.com
DTSTAMP:20180428T120000Z
DTSTART;TZID=America/New_York:20180428T080000
DURATION:PT0H40M0S
SUMMARY:Cisco vs Wheeler
DESCRIPTION:U6 | YMCA Soccer\nPutnam County Family YMCA\n
URL;VALUE=URI:https://ygametime.com/branch/putnam/sports/2018-spring-ymca-soccer/5208/?utm_medium=calendar&utm_source=team_cal&utm_content=league_url#game-129869
LOCATION:Field 4 (7/8)
BEGIN:VALARM
TRIGGER:-P2H
ACTION:DISPLAY
DESCRIPTION:Cisco vs Wheeler
END:VALARM
END:VEVENT
BEGIN:VEVENT
UID:putnam-129875@ygametime.com
DTSTAMP:20180505T130000Z
DTSTART;TZID=America/New_York:20180505T090000
DURATION:PT0H40M0S
SUMMARY:Cisco vs Brubacher
DESCRIPTION:U6 | YMCA Soccer\nPutnam County Family YMCA\n
URL;VALUE=URI:https://ygametime.com/branch/putnam/sports/2018-spring-ymca-soccer/5208/?utm_medium=calendar&utm_source=team_cal&utm_content=league_url#game-129875
LOCATION:Field 4 (7/8)
BEGIN:VALARM
TRIGGER:-P2H
ACTION:DISPLAY
DESCRIPTION:Cisco vs Brubacher
END:VALARM
END:VEVENT
BEGIN:VEVENT
UID:putnam-129879@ygametime.com
DTSTAMP:20180512T130000Z
DTSTART;TZID=America/New_York:20180512T090000
DURATION:PT0H40M0S
SUMMARY:Fancher vs Cisco
DESCRIPTION:U6 | YMCA Soccer\nPutnam County Family YMCA\n
URL;VALUE=URI:https://ygametime.com/branch/putnam/sports/2018-spring-ymca-soccer/5208/?utm_medium=calendar&utm_source=team_cal&utm_content=league_url#game-129879
LOCATION:Field 4 (7/8)
BEGIN:VALARM
TRIGGER:-P2H
ACTION:DISPLAY
DESCRIPTION:Fancher vs Cisco
END:VALARM
END:VEVENT
BEGIN:VEVENT
UID:putnam-129882@ygametime.com
DTSTAMP:20180519T120000Z
DTSTART;TZID=America/New_York:20180519T080000
DURATION:PT0H40M0S
SUMMARY:Cisco vs Brown
DESCRIPTION:U6 | YMCA Soccer\nPutnam County Family YMCA\n
URL;VALUE=URI:https://ygametime.com/branch/putnam/sports/2018-spring-ymca-soccer/5208/?utm_medium=calendar&utm_source=team_cal&utm_content=league_url#game-129882
LOCATION:Field 9 (3/4)
BEGIN:VALARM
TRIGGER:-P2H
ACTION:DISPLAY
DESCRIPTION:Cisco vs Brown
END:VALARM
END:VEVENT
BEGIN:VEVENT
UID:putnam-129883@ygametime.com
DTSTAMP:20180519T130000Z
DTSTART;TZID=America/New_York:20180519T090000
DURATION:PT0H40M0S
SUMMARY:Cisco vs Bain
DESCRIPTION:U6 | YMCA Soccer\nPutnam County Family YMCA\n
URL;VALUE=URI:https://ygametime.com/branch/putnam/sports/2018-spring-ymca-soccer/5208/?utm_medium=calendar&utm_source=team_cal&utm_content=league_url#game-129883
LOCATION:Field 4 (7/8)
BEGIN:VALARM
TRIGGER:-P2H
ACTION:DISPLAY
DESCRIPTION:Cisco vs Bain
END:VALARM
END:VEVENT
END:VCALENDAR

