BEGIN:VCALENDAR
VERSION:2.0
PRODID:-//YGAMETIME.com//YGT iCal Creator//EN
METHOD:PUBLISH
X-PUBLISHED-TTL:PT6H
REFRESH-INTERVAL;VALUE=DURATION:PT6H
CALSCALE:GREGORIAN
X-WR-CALNAME:YGAMETIME CALENDAR
BEGIN:VTIMEZONE
TZID:America/New_York
X-LIC-LOCATION:America/New_York
BEGIN:DAYLIGHT
TZOFFSETFROM:-0500
TZOFFSETTO:-0400
TZNAME:EDT
DTSTART:19700308T020000
RRULE:FREQ=YEARLY;BYMONTH=3;BYDAY=2SU
END:DAYLIGHT
BEGIN:STANDARD
TZOFFSETFROM:-0400
TZOFFSETTO:-0500
TZNAME:EST
DTSTART:19701101T020000
RRULE:FREQ=YEARLY;BYMONTH=11;BYDAY=1SU
END:STANDARD
END:VTIMEZONE
BEGIN:VEVENT
UID:putnam-129849@ygametime.com
DTSTAMP:20180324T120000Z
DTSTART;TZID=America/New_York:20180324T080000
DURATION:PT0H40M0S
SUMMARY:Brown vs Wheeler
DESCRIPTION:U6 | YMCA Soccer\nPutnam County Family YMCA\n
URL;VALUE=URI:https://ygametime.com/branch/putnam/sports/2018-spring-ymca-soccer/5208/?utm_medium=calendar&utm_source=team_cal&utm_content=league_url#game-129849
LOCATION:Field 4 (7/8)
BEGIN:VALARM
TRIGGER:-P2H
ACTION:DISPLAY
DESCRIPTION:Brown vs Wheeler
END:VALARM
END:VEVENT
BEGIN:VEVENT
UID:putnam-129857@ygametime.com
DTSTAMP:20180407T120000Z
DTSTART;TZID=America/New_York:20180407T080000
DURATION:PT0H40M0S
SUMMARY:Brown vs Fancher
DESCRIPTION:U6 | YMCA Soccer\nPutnam County Family YMCA\n
URL;VALUE=URI:https://ygametime.com/branch/putnam/sports/2018-spring-ymca-soccer/5208/?utm_medium=calendar&utm_source=team_cal&utm_content=league_url#game-129857
LOCATION:Field 4 (7/8)
BEGIN:VALARM
TRIGGER:-P2H
ACTION:DISPLAY
DESCRIPTION:Brown vs Fancher
END:VALARM
END:VEVENT
BEGIN:VEVENT
UID:putnam-129862@ygametime.com
DTSTAMP:20180414T120000Z
DTSTART;TZID=America/New_York:20180414T080000
DURATION:PT0H40M0S
SUMMARY:Brubacher vs Brown
DESCRIPTION:U6 | YMCA Soccer\nPutnam County Family YMCA\n
URL;VALUE=URI:https://ygametime.com/branch/putnam/sports/2018-spring-ymca-soccer/5208/?utm_medium=calendar&utm_source=team_cal&utm_content=league_url#game-129862
LOCATION:Field 9 (3/4)
BEGIN:VALARM
TRIGGER:-P2H
ACTION:DISPLAY
DESCRIPTION:Brubacher vs Brown
END:VALARM
END:VEVENT
BEGIN:VEVENT
UID:putnam-129870@ygametime.com
DTSTAMP:20180428T120000Z
DTSTART;TZID=America/New_York:20180428T080000
DURATION:PT0H40M0S
SUMMARY:Brown vs Bain
DESCRIPTION:U6 | YMCA Soccer\nPutnam County Family YMCA\n
URL;VALUE=URI:https://ygametime.com/branch/putnam/sports/2018-spring-ymca-soccer/5208/?utm_medium=calendar&utm_source=team_cal&utm_content=league_url#game-129870
LOCATION:Field 9 (3/4)
BEGIN:VALARM
TRIGGER:-P2H
ACTION:DISPLAY
DESCRIPTION:Brown vs Bain
END:VALARM
END:VEVENT
BEGIN:VEVENT
UID:putnam-129871@ygametime.com
DTSTAMP:20180428T130000Z
DTSTART;TZID=America/New_York:20180428T090000
DURATION:PT0H40M0S
SUMMARY:Fancher vs Brown
DESCRIPTION:U6 | YMCA Soccer\nPutnam County Family YMCA\n
URL;VALUE=URI:https://ygametime.com/branch/putnam/sports/2018-spring-ymca-soccer/5208/?utm_medium=calendar&utm_source=team_cal&utm_content=league_url#game-129871
LOCATION:Field 4 (7/8)
BEGIN:VALARM
TRIGGER:-P2H
ACTION:DISPLAY
DESCRIPTION:Fancher vs Brown
END:VALARM
END:VEVENT
BEGIN:VEVENT
UID:putnam-129874@ygametime.com
DTSTAMP:20180505T120000Z
DTSTART;TZID=America/New_York:20180505T080000
DURATION:PT0H40M0S
SUMMARY:Warren vs Brown
DESCRIPTION:U6 | YMCA Soccer\nPutnam County Family YMCA\n
URL;VALUE=URI:https://ygametime.com/branch/putnam/sports/2018-spring-ymca-soccer/5208/?utm_medium=calendar&utm_source=team_cal&utm_content=league_url#game-129874
LOCATION:Field 9 (3/4)
BEGIN:VALARM
TRIGGER:-P2H
ACTION:DISPLAY
DESCRIPTION:Warren vs Brown
END:VALARM
END:VEVENT
BEGIN:VEVENT
UID:putnam-129877@ygametime.com
DTSTAMP:20180512T120000Z
DTSTART;TZID=America/New_York:20180512T080000
DURATION:PT0H40M0S
SUMMARY:Brown vs Wheeler
DESCRIPTION:U6 | YMCA Soccer\nPutnam County Family YMCA\n
URL;VALUE=URI:https://ygametime.com/branch/putnam/sports/2018-spring-ymca-soccer/5208/?utm_medium=calendar&utm_source=team_cal&utm_content=league_url#game-129877
LOCATION:Field 4 (7/8)
BEGIN:VALARM
TRIGGER:-P2H
ACTION:DISPLAY
DESCRIPTION:Brown vs Wheeler
END:VALARM
END:VEVENT
BEGIN:VEVENT
UID:putnam-129882@ygametime.com
DTSTAMP:20180519T120000Z
DTSTART;TZID=America/New_York:20180519T080000
DURATION:PT0H40M0S
SUMMARY:Cisco vs Brown
DESCRIPTION:U6 | YMCA Soccer\nPutnam County Family YMCA\n
URL;VALUE=URI:https://ygametime.com/branch/putnam/sports/2018-spring-ymca-soccer/5208/?utm_medium=calendar&utm_source=team_cal&utm_content=league_url#game-129882
LOCATION:Field 9 (3/4)
BEGIN:VALARM
TRIGGER:-P2H
ACTION:DISPLAY
DESCRIPTION:Cisco vs Brown
END:VALARM
END:VEVENT
END:VCALENDAR

