BEGIN:VCALENDAR
VERSION:2.0
PRODID:-//YGAMETIME.com//YGT iCal Creator//EN
METHOD:PUBLISH
X-PUBLISHED-TTL:PT6H
REFRESH-INTERVAL;VALUE=DURATION:PT6H
CALSCALE:GREGORIAN
X-WR-CALNAME:YGAMETIME CALENDAR
BEGIN:VTIMEZONE
TZID:America/New_York
X-LIC-LOCATION:America/New_York
BEGIN:DAYLIGHT
TZOFFSETFROM:-0500
TZOFFSETTO:-0400
TZNAME:EDT
DTSTART:19700308T020000
RRULE:FREQ=YEARLY;BYMONTH=3;BYDAY=2SU
END:DAYLIGHT
BEGIN:STANDARD
TZOFFSETFROM:-0400
TZOFFSETTO:-0500
TZNAME:EST
DTSTART:19701101T020000
RRULE:FREQ=YEARLY;BYMONTH=11;BYDAY=1SU
END:STANDARD
END:VTIMEZONE
BEGIN:VEVENT
UID:putnam-170789@ygametime.com
DTSTAMP:20190323T130000Z
DTSTART;TZID=America/New_York:20190323T090000
DURATION:PT0H15M0S
SUMMARY:Honeycutt vs Jones
DESCRIPTION:U6 | Soccer\nPutnam County Family YMCA\n
URL;VALUE=URI:https://ygametime.com/branch/putnam/sports/2019-spring-soccer/6794/?utm_medium=calendar&utm_source=team_cal&utm_content=league_url#game-170789
LOCATION:Field 9 (3/4)
BEGIN:VALARM
TRIGGER:-P2H
ACTION:DISPLAY
DESCRIPTION:Honeycutt vs Jones
END:VALARM
END:VEVENT
BEGIN:VEVENT
UID:putnam-170794@ygametime.com
DTSTAMP:20190330T124500Z
DTSTART;TZID=America/New_York:20190330T084500
DURATION:PT0H15M0S
SUMMARY:Jones vs Seiler
DESCRIPTION:U6 | Soccer\nPutnam County Family YMCA\n
URL;VALUE=URI:https://ygametime.com/branch/putnam/sports/2019-spring-soccer/6794/?utm_medium=calendar&utm_source=team_cal&utm_content=league_url#game-170794
LOCATION:Field 9 (3/4)
BEGIN:VALARM
TRIGGER:-P2H
ACTION:DISPLAY
DESCRIPTION:Jones vs Seiler
END:VALARM
END:VEVENT
BEGIN:VEVENT
UID:putnam-170799@ygametime.com
DTSTAMP:20190406T163000Z
DTSTART;TZID=America/New_York:20190406T123000
DURATION:PT0H15M0S
SUMMARY:Brown vs Jones
DESCRIPTION:U6 | Soccer\nPutnam County Family YMCA\n
URL;VALUE=URI:https://ygametime.com/branch/putnam/sports/2019-spring-soccer/6794/?utm_medium=calendar&utm_source=team_cal&utm_content=league_url#game-170799
LOCATION:Field 9 (3/4)
BEGIN:VALARM
TRIGGER:-P2H
ACTION:DISPLAY
DESCRIPTION:Brown vs Jones
END:VALARM
END:VEVENT
BEGIN:VEVENT
UID:putnam-170804@ygametime.com
DTSTAMP:20190413T143000Z
DTSTART;TZID=America/New_York:20190413T103000
DURATION:PT0H15M0S
SUMMARY:Jones vs Knights
DESCRIPTION:U6 | Soccer\nPutnam County Family YMCA\n
URL;VALUE=URI:https://ygametime.com/branch/putnam/sports/2019-spring-soccer/6794/?utm_medium=calendar&utm_source=team_cal&utm_content=league_url#game-170804
LOCATION:Field 9 (3/4)
BEGIN:VALARM
TRIGGER:-P2H
ACTION:DISPLAY
DESCRIPTION:Jones vs Knights
END:VALARM
END:VEVENT
BEGIN:VEVENT
UID:putnam-170808@ygametime.com
DTSTAMP:20190504T130000Z
DTSTART;TZID=America/New_York:20190504T090000
DURATION:PT0H15M0S
SUMMARY:Wheeler vs Jones
DESCRIPTION:U6 | Soccer\nPutnam County Family YMCA\n
URL;VALUE=URI:https://ygametime.com/branch/putnam/sports/2019-spring-soccer/6794/?utm_medium=calendar&utm_source=team_cal&utm_content=league_url#game-170808
LOCATION:Field 9 (3/4)
BEGIN:VALARM
TRIGGER:-P2H
ACTION:DISPLAY
DESCRIPTION:Wheeler vs Jones
END:VALARM
END:VEVENT
BEGIN:VEVENT
UID:putnam-170809@ygametime.com
DTSTAMP:20190504T153000Z
DTSTART;TZID=America/New_York:20190504T113000
DURATION:PT0H15M0S
SUMMARY:Jones vs Stephenson
DESCRIPTION:U6 | Soccer\nPutnam County Family YMCA\n
URL;VALUE=URI:https://ygametime.com/branch/putnam/sports/2019-spring-soccer/6794/?utm_medium=calendar&utm_source=team_cal&utm_content=league_url#game-170809
LOCATION:Field 9 (3/4)
BEGIN:VALARM
TRIGGER:-P2H
ACTION:DISPLAY
DESCRIPTION:Jones vs Stephenson
END:VALARM
END:VEVENT
BEGIN:VEVENT
UID:putnam-170816@ygametime.com
DTSTAMP:20190511T130000Z
DTSTART;TZID=America/New_York:20190511T090000
DURATION:PT0H15M0S
SUMMARY:Jones vs Fancher
DESCRIPTION:U6 | Soccer\nPutnam County Family YMCA\n
URL;VALUE=URI:https://ygametime.com/branch/putnam/sports/2019-spring-soccer/6794/?utm_medium=calendar&utm_source=team_cal&utm_content=league_url#game-170816
LOCATION:Field 4 (7/8)
BEGIN:VALARM
TRIGGER:-P2H
ACTION:DISPLAY
DESCRIPTION:Jones vs Fancher
END:VALARM
END:VEVENT
END:VCALENDAR

