BEGIN:VCALENDAR
VERSION:2.0
PRODID:-//YGAMETIME.com//YGT iCal Creator//EN
METHOD:PUBLISH
X-PUBLISHED-TTL:PT6H
REFRESH-INTERVAL;VALUE=DURATION:PT6H
CALSCALE:GREGORIAN
X-WR-CALNAME:YGAMETIME CALENDAR
BEGIN:VTIMEZONE
TZID:America/New_York
X-LIC-LOCATION:America/New_York
BEGIN:DAYLIGHT
TZOFFSETFROM:-0500
TZOFFSETTO:-0400
TZNAME:EDT
DTSTART:19700308T020000
RRULE:FREQ=YEARLY;BYMONTH=3;BYDAY=2SU
END:DAYLIGHT
BEGIN:STANDARD
TZOFFSETFROM:-0400
TZOFFSETTO:-0500
TZNAME:EST
DTSTART:19701101T020000
RRULE:FREQ=YEARLY;BYMONTH=11;BYDAY=1SU
END:STANDARD
END:VTIMEZONE
BEGIN:VEVENT
UID:putnam-170790@ygametime.com
DTSTAMP:20190323T143000Z
DTSTART;TZID=America/New_York:20190323T103000
DURATION:PT0H15M0S
SUMMARY:Knights vs Fancher
DESCRIPTION:U6 | Soccer\nPutnam County Family YMCA\n
URL;VALUE=URI:https://ygametime.com/branch/putnam/sports/2019-spring-soccer/6794/?utm_medium=calendar&utm_source=team_cal&utm_content=league_url#game-170790
LOCATION:Field 9 (3/4)
BEGIN:VALARM
TRIGGER:-P2H
ACTION:DISPLAY
DESCRIPTION:Knights vs Fancher
END:VALARM
END:VEVENT
BEGIN:VEVENT
UID:putnam-170795@ygametime.com
DTSTAMP:20190330T153000Z
DTSTART;TZID=America/New_York:20190330T113000
DURATION:PT0H15M0S
SUMMARY:Baugh vs Knights
DESCRIPTION:U6 | Soccer\nPutnam County Family YMCA\n
URL;VALUE=URI:https://ygametime.com/branch/putnam/sports/2019-spring-soccer/6794/?utm_medium=calendar&utm_source=team_cal&utm_content=league_url#game-170795
LOCATION:Field 4 (7/8)
BEGIN:VALARM
TRIGGER:-P2H
ACTION:DISPLAY
DESCRIPTION:Baugh vs Knights
END:VALARM
END:VEVENT
BEGIN:VEVENT
UID:putnam-170800@ygametime.com
DTSTAMP:20190406T133000Z
DTSTART;TZID=America/New_York:20190406T093000
DURATION:PT0H15M0S
SUMMARY:Knights vs Baugh
DESCRIPTION:U6 | Soccer\nPutnam County Family YMCA\n
URL;VALUE=URI:https://ygametime.com/branch/putnam/sports/2019-spring-soccer/6794/?utm_medium=calendar&utm_source=team_cal&utm_content=league_url#game-170800
LOCATION:Field 9 (3/4)
BEGIN:VALARM
TRIGGER:-P2H
ACTION:DISPLAY
DESCRIPTION:Knights vs Baugh
END:VALARM
END:VEVENT
BEGIN:VEVENT
UID:putnam-170804@ygametime.com
DTSTAMP:20190413T143000Z
DTSTART;TZID=America/New_York:20190413T103000
DURATION:PT0H15M0S
SUMMARY:Jones vs Knights
DESCRIPTION:U6 | Soccer\nPutnam County Family YMCA\n
URL;VALUE=URI:https://ygametime.com/branch/putnam/sports/2019-spring-soccer/6794/?utm_medium=calendar&utm_source=team_cal&utm_content=league_url#game-170804
LOCATION:Field 9 (3/4)
BEGIN:VALARM
TRIGGER:-P2H
ACTION:DISPLAY
DESCRIPTION:Jones vs Knights
END:VALARM
END:VEVENT
BEGIN:VEVENT
UID:putnam-170812@ygametime.com
DTSTAMP:20190504T133000Z
DTSTART;TZID=America/New_York:20190504T093000
DURATION:PT0H15M0S
SUMMARY:Knights vs Honeycutt
DESCRIPTION:U6 | Soccer\nPutnam County Family YMCA\n
URL;VALUE=URI:https://ygametime.com/branch/putnam/sports/2019-spring-soccer/6794/?utm_medium=calendar&utm_source=team_cal&utm_content=league_url#game-170812
LOCATION:Field 4 (7/8)
BEGIN:VALARM
TRIGGER:-P2H
ACTION:DISPLAY
DESCRIPTION:Knights vs Honeycutt
END:VALARM
END:VEVENT
BEGIN:VEVENT
UID:putnam-170815@ygametime.com
DTSTAMP:20190511T143000Z
DTSTART;TZID=America/New_York:20190511T103000
DURATION:PT0H15M0S
SUMMARY:Seiler vs Knights
DESCRIPTION:U6 | Soccer\nPutnam County Family YMCA\n
URL;VALUE=URI:https://ygametime.com/branch/putnam/sports/2019-spring-soccer/6794/?utm_medium=calendar&utm_source=team_cal&utm_content=league_url#game-170815
LOCATION:Field 9 (3/4)
BEGIN:VALARM
TRIGGER:-P2H
ACTION:DISPLAY
DESCRIPTION:Seiler vs Knights
END:VALARM
END:VEVENT
BEGIN:VEVENT
UID:putnam-170818@ygametime.com
DTSTAMP:20190518T150000Z
DTSTART;TZID=America/New_York:20190518T110000
DURATION:PT0H15M0S
SUMMARY:Knights vs Brown
DESCRIPTION:U6 | Soccer\nPutnam County Family YMCA\n
URL;VALUE=URI:https://ygametime.com/branch/putnam/sports/2019-spring-soccer/6794/?utm_medium=calendar&utm_source=team_cal&utm_content=league_url#game-170818
LOCATION:Field 4 (7/8)
BEGIN:VALARM
TRIGGER:-P2H
ACTION:DISPLAY
DESCRIPTION:Knights vs Brown
END:VALARM
END:VEVENT
END:VCALENDAR

