BEGIN:VCALENDAR
VERSION:2.0
PRODID:-//YGAMETIME.com//YGT iCal Creator//EN
METHOD:PUBLISH
X-PUBLISHED-TTL:PT6H
REFRESH-INTERVAL;VALUE=DURATION:PT6H
CALSCALE:GREGORIAN
X-WR-CALNAME:YGAMETIME CALENDAR
BEGIN:VTIMEZONE
TZID:America/New_York
X-LIC-LOCATION:America/New_York
BEGIN:DAYLIGHT
TZOFFSETFROM:-0500
TZOFFSETTO:-0400
TZNAME:EDT
DTSTART:19700308T020000
RRULE:FREQ=YEARLY;BYMONTH=3;BYDAY=2SU
END:DAYLIGHT
BEGIN:STANDARD
TZOFFSETFROM:-0400
TZOFFSETTO:-0500
TZNAME:EST
DTSTART:19701101T020000
RRULE:FREQ=YEARLY;BYMONTH=11;BYDAY=1SU
END:STANDARD
END:VTIMEZONE
BEGIN:VEVENT
UID:putnam-170791@ygametime.com
DTSTAMP:20190323T133000Z
DTSTART;TZID=America/New_York:20190323T093000
DURATION:PT0H15M0S
SUMMARY:Seiler vs Baugh
DESCRIPTION:U6 | Soccer\nPutnam County Family YMCA\n
URL;VALUE=URI:https://ygametime.com/branch/putnam/sports/2019-spring-soccer/6794/?utm_medium=calendar&utm_source=team_cal&utm_content=league_url#game-170791
LOCATION:Field 4 (7/8)
BEGIN:VALARM
TRIGGER:-P2H
ACTION:DISPLAY
DESCRIPTION:Seiler vs Baugh
END:VALARM
END:VEVENT
BEGIN:VEVENT
UID:putnam-170795@ygametime.com
DTSTAMP:20190330T153000Z
DTSTART;TZID=America/New_York:20190330T113000
DURATION:PT0H15M0S
SUMMARY:Baugh vs Knights
DESCRIPTION:U6 | Soccer\nPutnam County Family YMCA\n
URL;VALUE=URI:https://ygametime.com/branch/putnam/sports/2019-spring-soccer/6794/?utm_medium=calendar&utm_source=team_cal&utm_content=league_url#game-170795
LOCATION:Field 4 (7/8)
BEGIN:VALARM
TRIGGER:-P2H
ACTION:DISPLAY
DESCRIPTION:Baugh vs Knights
END:VALARM
END:VEVENT
BEGIN:VEVENT
UID:putnam-170796@ygametime.com
DTSTAMP:20190330T163000Z
DTSTART;TZID=America/New_York:20190330T123000
DURATION:PT0H15M0S
SUMMARY:Baugh vs Brown
DESCRIPTION:U6 | Soccer\nPutnam County Family YMCA\n
URL;VALUE=URI:https://ygametime.com/branch/putnam/sports/2019-spring-soccer/6794/?utm_medium=calendar&utm_source=team_cal&utm_content=league_url#game-170796
LOCATION:Field 9 (3/4)
BEGIN:VALARM
TRIGGER:-P2H
ACTION:DISPLAY
DESCRIPTION:Baugh vs Brown
END:VALARM
END:VEVENT
BEGIN:VEVENT
UID:putnam-170800@ygametime.com
DTSTAMP:20190406T133000Z
DTSTART;TZID=America/New_York:20190406T093000
DURATION:PT0H15M0S
SUMMARY:Knights vs Baugh
DESCRIPTION:U6 | Soccer\nPutnam County Family YMCA\n
URL;VALUE=URI:https://ygametime.com/branch/putnam/sports/2019-spring-soccer/6794/?utm_medium=calendar&utm_source=team_cal&utm_content=league_url#game-170800
LOCATION:Field 9 (3/4)
BEGIN:VALARM
TRIGGER:-P2H
ACTION:DISPLAY
DESCRIPTION:Knights vs Baugh
END:VALARM
END:VEVENT
BEGIN:VEVENT
UID:putnam-170803@ygametime.com
DTSTAMP:20190413T133000Z
DTSTART;TZID=America/New_York:20190413T093000
DURATION:PT0H15M0S
SUMMARY:Baugh vs Wheeler
DESCRIPTION:U6 | Soccer\nPutnam County Family YMCA\n
URL;VALUE=URI:https://ygametime.com/branch/putnam/sports/2019-spring-soccer/6794/?utm_medium=calendar&utm_source=team_cal&utm_content=league_url#game-170803
LOCATION:Field 4 (7/8)
BEGIN:VALARM
TRIGGER:-P2H
ACTION:DISPLAY
DESCRIPTION:Baugh vs Wheeler
END:VALARM
END:VEVENT
BEGIN:VEVENT
UID:putnam-170811@ygametime.com
DTSTAMP:20190504T143000Z
DTSTART;TZID=America/New_York:20190504T103000
DURATION:PT0H15M0S
SUMMARY:Fancher vs Baugh
DESCRIPTION:U6 | Soccer\nPutnam County Family YMCA\n
URL;VALUE=URI:https://ygametime.com/branch/putnam/sports/2019-spring-soccer/6794/?utm_medium=calendar&utm_source=team_cal&utm_content=league_url#game-170811
LOCATION:Field 4 (7/8)
BEGIN:VALARM
TRIGGER:-P2H
ACTION:DISPLAY
DESCRIPTION:Fancher vs Baugh
END:VALARM
END:VEVENT
BEGIN:VEVENT
UID:putnam-170814@ygametime.com
DTSTAMP:20190511T153000Z
DTSTART;TZID=America/New_York:20190511T113000
DURATION:PT0H15M0S
SUMMARY:Baugh vs Brown
DESCRIPTION:U6 | Soccer\nPutnam County Family YMCA\n
URL;VALUE=URI:https://ygametime.com/branch/putnam/sports/2019-spring-soccer/6794/?utm_medium=calendar&utm_source=team_cal&utm_content=league_url#game-170814
LOCATION:Field 9 (3/4)
BEGIN:VALARM
TRIGGER:-P2H
ACTION:DISPLAY
DESCRIPTION:Baugh vs Brown
END:VALARM
END:VEVENT
BEGIN:VEVENT
UID:putnam-170820@ygametime.com
DTSTAMP:20190518T140000Z
DTSTART;TZID=America/New_York:20190518T100000
DURATION:PT0H15M0S
SUMMARY:Baugh vs Stephenson
DESCRIPTION:U6 | Soccer\nPutnam County Family YMCA\nRESCHEDULED 5/16 @ 5PM
URL;VALUE=URI:https://ygametime.com/branch/putnam/sports/2019-spring-soccer/6794/?utm_medium=calendar&utm_source=team_cal&utm_content=league_url#game-170820
LOCATION:Field 4 (7/8)
BEGIN:VALARM
TRIGGER:-P2H
ACTION:DISPLAY
DESCRIPTION:Baugh vs Stephenson
END:VALARM
END:VEVENT
END:VCALENDAR

