BEGIN:VCALENDAR
VERSION:2.0
PRODID:-//YGAMETIME.com//YGT iCal Creator//EN
METHOD:PUBLISH
X-PUBLISHED-TTL:PT6H
REFRESH-INTERVAL;VALUE=DURATION:PT6H
CALSCALE:GREGORIAN
X-WR-CALNAME:YGAMETIME CALENDAR
BEGIN:VTIMEZONE
TZID:America/New_York
X-LIC-LOCATION:America/New_York
BEGIN:DAYLIGHT
TZOFFSETFROM:-0500
TZOFFSETTO:-0400
TZNAME:EDT
DTSTART:19700308T020000
RRULE:FREQ=YEARLY;BYMONTH=3;BYDAY=2SU
END:DAYLIGHT
BEGIN:STANDARD
TZOFFSETFROM:-0400
TZOFFSETTO:-0500
TZNAME:EST
DTSTART:19701101T020000
RRULE:FREQ=YEARLY;BYMONTH=11;BYDAY=1SU
END:STANDARD
END:VTIMEZONE
BEGIN:VEVENT
UID:putnam-170789@ygametime.com
DTSTAMP:20190323T130000Z
DTSTART;TZID=America/New_York:20190323T090000
DURATION:PT0H15M0S
SUMMARY:Honeycutt vs Jones
DESCRIPTION:U6 | Soccer\nPutnam County Family YMCA\n
URL;VALUE=URI:https://ygametime.com/branch/putnam/sports/2019-spring-soccer/6794/?utm_medium=calendar&utm_source=team_cal&utm_content=league_url#game-170789
LOCATION:Field 9 (3/4)
BEGIN:VALARM
TRIGGER:-P2H
ACTION:DISPLAY
DESCRIPTION:Honeycutt vs Jones
END:VALARM
END:VEVENT
BEGIN:VEVENT
UID:putnam-170797@ygametime.com
DTSTAMP:20190330T133000Z
DTSTART;TZID=America/New_York:20190330T093000
DURATION:PT0H15M0S
SUMMARY:Stephenson vs Honeycutt
DESCRIPTION:U6 | Soccer\nPutnam County Family YMCA\n
URL;VALUE=URI:https://ygametime.com/branch/putnam/sports/2019-spring-soccer/6794/?utm_medium=calendar&utm_source=team_cal&utm_content=league_url#game-170797
LOCATION:Field 9 (3/4)
BEGIN:VALARM
TRIGGER:-P2H
ACTION:DISPLAY
DESCRIPTION:Stephenson vs Honeycutt
END:VALARM
END:VEVENT
BEGIN:VEVENT
UID:putnam-170798@ygametime.com
DTSTAMP:20190406T130000Z
DTSTART;TZID=America/New_York:20190406T090000
DURATION:PT0H15M0S
SUMMARY:Wheeler vs Honeycutt
DESCRIPTION:U6 | Soccer\nPutnam County Family YMCA\n
URL;VALUE=URI:https://ygametime.com/branch/putnam/sports/2019-spring-soccer/6794/?utm_medium=calendar&utm_source=team_cal&utm_content=league_url#game-170798
LOCATION:Field 4 (7/8)
BEGIN:VALARM
TRIGGER:-P2H
ACTION:DISPLAY
DESCRIPTION:Wheeler vs Honeycutt
END:VALARM
END:VEVENT
BEGIN:VEVENT
UID:putnam-170802@ygametime.com
DTSTAMP:20190406T153000Z
DTSTART;TZID=America/New_York:20190406T113000
DURATION:PT0H15M0S
SUMMARY:Seiler vs Honeycutt
DESCRIPTION:U6 | Soccer\nPutnam County Family YMCA\n
URL;VALUE=URI:https://ygametime.com/branch/putnam/sports/2019-spring-soccer/6794/?utm_medium=calendar&utm_source=team_cal&utm_content=league_url#game-170802
LOCATION:Field 4 (7/8)
BEGIN:VALARM
TRIGGER:-P2H
ACTION:DISPLAY
DESCRIPTION:Seiler vs Honeycutt
END:VALARM
END:VEVENT
BEGIN:VEVENT
UID:putnam-170807@ygametime.com
DTSTAMP:20190413T130000Z
DTSTART;TZID=America/New_York:20190413T090000
DURATION:PT0H15M0S
SUMMARY:Honeycutt vs Brown
DESCRIPTION:U6 | Soccer\nPutnam County Family YMCA\n
URL;VALUE=URI:https://ygametime.com/branch/putnam/sports/2019-spring-soccer/6794/?utm_medium=calendar&utm_source=team_cal&utm_content=league_url#game-170807
LOCATION:Field 4 (7/8)
BEGIN:VALARM
TRIGGER:-P2H
ACTION:DISPLAY
DESCRIPTION:Honeycutt vs Brown
END:VALARM
END:VEVENT
BEGIN:VEVENT
UID:putnam-170812@ygametime.com
DTSTAMP:20190504T133000Z
DTSTART;TZID=America/New_York:20190504T093000
DURATION:PT0H15M0S
SUMMARY:Knights vs Honeycutt
DESCRIPTION:U6 | Soccer\nPutnam County Family YMCA\n
URL;VALUE=URI:https://ygametime.com/branch/putnam/sports/2019-spring-soccer/6794/?utm_medium=calendar&utm_source=team_cal&utm_content=league_url#game-170812
LOCATION:Field 4 (7/8)
BEGIN:VALARM
TRIGGER:-P2H
ACTION:DISPLAY
DESCRIPTION:Knights vs Honeycutt
END:VALARM
END:VEVENT
BEGIN:VEVENT
UID:putnam-170817@ygametime.com
DTSTAMP:20190511T133000Z
DTSTART;TZID=America/New_York:20190511T093000
DURATION:PT0H15M0S
SUMMARY:Honeycutt vs Wheeler
DESCRIPTION:U6 | Soccer\nPutnam County Family YMCA\n
URL;VALUE=URI:https://ygametime.com/branch/putnam/sports/2019-spring-soccer/6794/?utm_medium=calendar&utm_source=team_cal&utm_content=league_url#game-170817
LOCATION:Field 4 (7/8)
BEGIN:VALARM
TRIGGER:-P2H
ACTION:DISPLAY
DESCRIPTION:Honeycutt vs Wheeler
END:VALARM
END:VEVENT
BEGIN:VEVENT
UID:putnam-170819@ygametime.com
DTSTAMP:20190518T163000Z
DTSTART;TZID=America/New_York:20190518T123000
DURATION:PT0H15M0S
SUMMARY:Fancher vs Honeycutt
DESCRIPTION:U6 | Soccer\nPutnam County Family YMCA\n
URL;VALUE=URI:https://ygametime.com/branch/putnam/sports/2019-spring-soccer/6794/?utm_medium=calendar&utm_source=team_cal&utm_content=league_url#game-170819
LOCATION:Field 9 (3/4)
BEGIN:VALARM
TRIGGER:-P2H
ACTION:DISPLAY
DESCRIPTION:Fancher vs Honeycutt
END:VALARM
END:VEVENT
END:VCALENDAR

