BEGIN:VCALENDAR
VERSION:2.0
PRODID:-//YGAMETIME.com//YGT iCal Creator//EN
METHOD:PUBLISH
X-PUBLISHED-TTL:PT6H
REFRESH-INTERVAL;VALUE=DURATION:PT6H
CALSCALE:GREGORIAN
X-WR-CALNAME:YGAMETIME CALENDAR
BEGIN:VTIMEZONE
TZID:America/New_York
X-LIC-LOCATION:America/New_York
BEGIN:DAYLIGHT
TZOFFSETFROM:-0500
TZOFFSETTO:-0400
TZNAME:EDT
DTSTART:19700308T020000
RRULE:FREQ=YEARLY;BYMONTH=3;BYDAY=2SU
END:DAYLIGHT
BEGIN:STANDARD
TZOFFSETFROM:-0400
TZOFFSETTO:-0500
TZNAME:EST
DTSTART:19701101T020000
RRULE:FREQ=YEARLY;BYMONTH=11;BYDAY=1SU
END:STANDARD
END:VTIMEZONE
BEGIN:VEVENT
UID:putnam-172264@ygametime.com
DTSTAMP:20190323T140000Z
DTSTART;TZID=America/New_York:20190323T100000
DURATION:PT0H60M0S
SUMMARY:Nagy vs Larson
DESCRIPTION:U4 | Soccer\nPutnam County Family YMCA\n
URL;VALUE=URI:https://ygametime.com/branch/putnam/sports/2019-spring-soccer/6793/?utm_medium=calendar&utm_source=team_cal&utm_content=league_url#game-172264
LOCATION:Field 2 (5/6)
BEGIN:VALARM
TRIGGER:-P2H
ACTION:DISPLAY
DESCRIPTION:Nagy vs Larson
END:VALARM
END:VEVENT
BEGIN:VEVENT
UID:putnam-172266@ygametime.com
DTSTAMP:20190330T123000Z
DTSTART;TZID=America/New_York:20190330T083000
DURATION:PT0H60M0S
SUMMARY:Larson vs Krebs
DESCRIPTION:U4 | Soccer\nPutnam County Family YMCA\n
URL;VALUE=URI:https://ygametime.com/branch/putnam/sports/2019-spring-soccer/6793/?utm_medium=calendar&utm_source=team_cal&utm_content=league_url#game-172266
LOCATION:Field 3 (5/6)
BEGIN:VALARM
TRIGGER:-P2H
ACTION:DISPLAY
DESCRIPTION:Larson vs Krebs
END:VALARM
END:VEVENT
BEGIN:VEVENT
UID:putnam-172272@ygametime.com
DTSTAMP:20190406T123000Z
DTSTART;TZID=America/New_York:20190406T083000
DURATION:PT0H60M0S
SUMMARY:Larson vs Sircy
DESCRIPTION:U4 | Soccer\nPutnam County Family YMCA\n
URL;VALUE=URI:https://ygametime.com/branch/putnam/sports/2019-spring-soccer/6793/?utm_medium=calendar&utm_source=team_cal&utm_content=league_url#game-172272
LOCATION:Field 3 (5/6)
BEGIN:VALARM
TRIGGER:-P2H
ACTION:DISPLAY
DESCRIPTION:Larson vs Sircy
END:VALARM
END:VEVENT
BEGIN:VEVENT
UID:putnam-172273@ygametime.com
DTSTAMP:20190406T140000Z
DTSTART;TZID=America/New_York:20190406T100000
DURATION:PT0H60M0S
SUMMARY:Larson vs Rogers
DESCRIPTION:U4 | Soccer\nPutnam County Family YMCA\n
URL;VALUE=URI:https://ygametime.com/branch/putnam/sports/2019-spring-soccer/6793/?utm_medium=calendar&utm_source=team_cal&utm_content=league_url#game-172273
LOCATION:Field 3 (5/6)
BEGIN:VALARM
TRIGGER:-P2H
ACTION:DISPLAY
DESCRIPTION:Larson vs Rogers
END:VALARM
END:VEVENT
BEGIN:VEVENT
UID:putnam-172276@ygametime.com
DTSTAMP:20190413T123000Z
DTSTART;TZID=America/New_York:20190413T083000
DURATION:PT0H60M0S
SUMMARY:Waters vs Larson
DESCRIPTION:U4 | Soccer\nPutnam County Family YMCA\n
URL;VALUE=URI:https://ygametime.com/branch/putnam/sports/2019-spring-soccer/6793/?utm_medium=calendar&utm_source=team_cal&utm_content=league_url#game-172276
LOCATION:Field 2 (5/6)
BEGIN:VALARM
TRIGGER:-P2H
ACTION:DISPLAY
DESCRIPTION:Waters vs Larson
END:VALARM
END:VEVENT
BEGIN:VEVENT
UID:putnam-172280@ygametime.com
DTSTAMP:20190504T123000Z
DTSTART;TZID=America/New_York:20190504T083000
DURATION:PT0H60M0S
SUMMARY:Larson vs Courtney
DESCRIPTION:U4 | Soccer\nPutnam County Family YMCA\n
URL;VALUE=URI:https://ygametime.com/branch/putnam/sports/2019-spring-soccer/6793/?utm_medium=calendar&utm_source=team_cal&utm_content=league_url#game-172280
LOCATION:Field 3 (5/6)
BEGIN:VALARM
TRIGGER:-P2H
ACTION:DISPLAY
DESCRIPTION:Larson vs Courtney
END:VALARM
END:VEVENT
BEGIN:VEVENT
UID:putnam-172284@ygametime.com
DTSTAMP:20190511T140000Z
DTSTART;TZID=America/New_York:20190511T100000
DURATION:PT0H60M0S
SUMMARY:Rogers vs Larson
DESCRIPTION:U4 | Soccer\nPutnam County Family YMCA\n
URL;VALUE=URI:https://ygametime.com/branch/putnam/sports/2019-spring-soccer/6793/?utm_medium=calendar&utm_source=team_cal&utm_content=league_url#game-172284
LOCATION:Field 3 (5/6)
BEGIN:VALARM
TRIGGER:-P2H
ACTION:DISPLAY
DESCRIPTION:Rogers vs Larson
END:VALARM
END:VEVENT
BEGIN:VEVENT
UID:putnam-172286@ygametime.com
DTSTAMP:20190517T210000Z
DTSTART;TZID=America/New_York:20190517T170000
DURATION:PT0H60M0S
SUMMARY:Larson vs Sircy
DESCRIPTION:U4 | Soccer\nPutnam County Family YMCA\n
URL;VALUE=URI:https://ygametime.com/branch/putnam/sports/2019-spring-soccer/6793/?utm_medium=calendar&utm_source=team_cal&utm_content=league_url#game-172286
LOCATION:Field 2 (5/6)
BEGIN:VALARM
TRIGGER:-P2H
ACTION:DISPLAY
DESCRIPTION:Larson vs Sircy
END:VALARM
END:VEVENT
END:VCALENDAR

