BEGIN:VCALENDAR
VERSION:2.0
PRODID:-//YGAMETIME.com//YGT iCal Creator//EN
METHOD:PUBLISH
X-PUBLISHED-TTL:PT6H
REFRESH-INTERVAL;VALUE=DURATION:PT6H
CALSCALE:GREGORIAN
X-WR-CALNAME:YGAMETIME CALENDAR
BEGIN:VTIMEZONE
TZID:America/New_York
X-LIC-LOCATION:America/New_York
BEGIN:DAYLIGHT
TZOFFSETFROM:-0500
TZOFFSETTO:-0400
TZNAME:EDT
DTSTART:19700308T020000
RRULE:FREQ=YEARLY;BYMONTH=3;BYDAY=2SU
END:DAYLIGHT
BEGIN:STANDARD
TZOFFSETFROM:-0400
TZOFFSETTO:-0500
TZNAME:EST
DTSTART:19701101T020000
RRULE:FREQ=YEARLY;BYMONTH=11;BYDAY=1SU
END:STANDARD
END:VTIMEZONE
BEGIN:VEVENT
UID:putnam-170855@ygametime.com
DTSTAMP:20190323T150000Z
DTSTART;TZID=America/New_York:20190323T110000
DURATION:PT0H15M0S
SUMMARY:Sisco vs Williams
DESCRIPTION:U8 | Soccer\nPutnam County Family YMCA\n
URL;VALUE=URI:https://ygametime.com/branch/putnam/sports/2019-spring-soccer/6795/?utm_medium=calendar&utm_source=team_cal&utm_content=league_url#game-170855
LOCATION:Field 5 (7/8)
BEGIN:VALARM
TRIGGER:-P2H
ACTION:DISPLAY
DESCRIPTION:Sisco vs Williams
END:VALARM
END:VEVENT
BEGIN:VEVENT
UID:putnam-170858@ygametime.com
DTSTAMP:20190330T130000Z
DTSTART;TZID=America/New_York:20190330T090000
DURATION:PT0H15M0S
SUMMARY:Williams vs Bowers
DESCRIPTION:U8 | Soccer\nPutnam County Family YMCA\n
URL;VALUE=URI:https://ygametime.com/branch/putnam/sports/2019-spring-soccer/6795/?utm_medium=calendar&utm_source=team_cal&utm_content=league_url#game-170858
LOCATION:Field 5 (7/8)
BEGIN:VALARM
TRIGGER:-P2H
ACTION:DISPLAY
DESCRIPTION:Williams vs Bowers
END:VALARM
END:VEVENT
BEGIN:VEVENT
UID:putnam-170860@ygametime.com
DTSTAMP:20190406T130000Z
DTSTART;TZID=America/New_York:20190406T090000
DURATION:PT0H15M0S
SUMMARY:Bates vs Williams
DESCRIPTION:U8 | Soccer\nPutnam County Family YMCA\n
URL;VALUE=URI:https://ygametime.com/branch/putnam/sports/2019-spring-soccer/6795/?utm_medium=calendar&utm_source=team_cal&utm_content=league_url#game-170860
LOCATION:Field 5 (7/8)
BEGIN:VALARM
TRIGGER:-P2H
ACTION:DISPLAY
DESCRIPTION:Bates vs Williams
END:VALARM
END:VEVENT
BEGIN:VEVENT
UID:putnam-170864@ygametime.com
DTSTAMP:20190413T150000Z
DTSTART;TZID=America/New_York:20190413T110000
DURATION:PT0H15M0S
SUMMARY:Williams vs Honeycutt
DESCRIPTION:U8 | Soccer\nPutnam County Family YMCA\n
URL;VALUE=URI:https://ygametime.com/branch/putnam/sports/2019-spring-soccer/6795/?utm_medium=calendar&utm_source=team_cal&utm_content=league_url#game-170864
LOCATION:Field 5 (7/8)
BEGIN:VALARM
TRIGGER:-P2H
ACTION:DISPLAY
DESCRIPTION:Williams vs Honeycutt
END:VALARM
END:VEVENT
BEGIN:VEVENT
UID:putnam-170868@ygametime.com
DTSTAMP:20190504T130000Z
DTSTART;TZID=America/New_York:20190504T090000
DURATION:PT0H15M0S
SUMMARY:Williams vs Maddy
DESCRIPTION:U8 | Soccer\nPutnam County Family YMCA\n
URL;VALUE=URI:https://ygametime.com/branch/putnam/sports/2019-spring-soccer/6795/?utm_medium=calendar&utm_source=team_cal&utm_content=league_url#game-170868
LOCATION:Field 7 (3/4)
BEGIN:VALARM
TRIGGER:-P2H
ACTION:DISPLAY
DESCRIPTION:Williams vs Maddy
END:VALARM
END:VEVENT
BEGIN:VEVENT
UID:putnam-170871@ygametime.com
DTSTAMP:20190511T140000Z
DTSTART;TZID=America/New_York:20190511T100000
DURATION:PT0H15M0S
SUMMARY:Sisco vs Williams
DESCRIPTION:U8 | Soccer\nPutnam County Family YMCA\n
URL;VALUE=URI:https://ygametime.com/branch/putnam/sports/2019-spring-soccer/6795/?utm_medium=calendar&utm_source=team_cal&utm_content=league_url#game-170871
LOCATION:Field 7 (3/4)
BEGIN:VALARM
TRIGGER:-P2H
ACTION:DISPLAY
DESCRIPTION:Sisco vs Williams
END:VALARM
END:VEVENT
BEGIN:VEVENT
UID:putnam-170874@ygametime.com
DTSTAMP:20190518T140000Z
DTSTART;TZID=America/New_York:20190518T100000
DURATION:PT0H15M0S
SUMMARY:Williams vs Bowers
DESCRIPTION:U8 | Soccer\nPutnam County Family YMCA\n
URL;VALUE=URI:https://ygametime.com/branch/putnam/sports/2019-spring-soccer/6795/?utm_medium=calendar&utm_source=team_cal&utm_content=league_url#game-170874
LOCATION:Field 7 (3/4)
BEGIN:VALARM
TRIGGER:-P2H
ACTION:DISPLAY
DESCRIPTION:Williams vs Bowers
END:VALARM
END:VEVENT
END:VCALENDAR

