BEGIN:VCALENDAR
VERSION:2.0
PRODID:-//YGAMETIME.com//YGT iCal Creator//EN
METHOD:PUBLISH
X-PUBLISHED-TTL:PT6H
REFRESH-INTERVAL;VALUE=DURATION:PT6H
CALSCALE:GREGORIAN
X-WR-CALNAME:YGAMETIME CALENDAR
BEGIN:VTIMEZONE
TZID:America/New_York
X-LIC-LOCATION:America/New_York
BEGIN:DAYLIGHT
TZOFFSETFROM:-0500
TZOFFSETTO:-0400
TZNAME:EDT
DTSTART:19700308T020000
RRULE:FREQ=YEARLY;BYMONTH=3;BYDAY=2SU
END:DAYLIGHT
BEGIN:STANDARD
TZOFFSETFROM:-0400
TZOFFSETTO:-0500
TZNAME:EST
DTSTART:19701101T020000
RRULE:FREQ=YEARLY;BYMONTH=11;BYDAY=1SU
END:STANDARD
END:VTIMEZONE
BEGIN:VEVENT
UID:putnam-170856@ygametime.com
DTSTAMP:20190323T140000Z
DTSTART;TZID=America/New_York:20190323T100000
DURATION:PT0H15M0S
SUMMARY:Bowers vs Honeycutt
DESCRIPTION:U8 | Soccer\nPutnam County Family YMCA\n
URL;VALUE=URI:https://ygametime.com/branch/putnam/sports/2019-spring-soccer/6795/?utm_medium=calendar&utm_source=team_cal&utm_content=league_url#game-170856
LOCATION:Field 7 (3/4)
BEGIN:VALARM
TRIGGER:-P2H
ACTION:DISPLAY
DESCRIPTION:Bowers vs Honeycutt
END:VALARM
END:VEVENT
BEGIN:VEVENT
UID:putnam-170857@ygametime.com
DTSTAMP:20190330T150000Z
DTSTART;TZID=America/New_York:20190330T110000
DURATION:PT0H15M0S
SUMMARY:Honeycutt vs Bates
DESCRIPTION:U8 | Soccer\nPutnam County Family YMCA\n
URL;VALUE=URI:https://ygametime.com/branch/putnam/sports/2019-spring-soccer/6795/?utm_medium=calendar&utm_source=team_cal&utm_content=league_url#game-170857
LOCATION:Field 5 (7/8)
BEGIN:VALARM
TRIGGER:-P2H
ACTION:DISPLAY
DESCRIPTION:Honeycutt vs Bates
END:VALARM
END:VEVENT
BEGIN:VEVENT
UID:putnam-170861@ygametime.com
DTSTAMP:20190406T150000Z
DTSTART;TZID=America/New_York:20190406T110000
DURATION:PT0H15M0S
SUMMARY:Honeycutt vs Maddy
DESCRIPTION:U8 | Soccer\nPutnam County Family YMCA\n
URL;VALUE=URI:https://ygametime.com/branch/putnam/sports/2019-spring-soccer/6795/?utm_medium=calendar&utm_source=team_cal&utm_content=league_url#game-170861
LOCATION:Field 5 (7/8)
BEGIN:VALARM
TRIGGER:-P2H
ACTION:DISPLAY
DESCRIPTION:Honeycutt vs Maddy
END:VALARM
END:VEVENT
BEGIN:VEVENT
UID:putnam-170864@ygametime.com
DTSTAMP:20190413T150000Z
DTSTART;TZID=America/New_York:20190413T110000
DURATION:PT0H15M0S
SUMMARY:Williams vs Honeycutt
DESCRIPTION:U8 | Soccer\nPutnam County Family YMCA\n
URL;VALUE=URI:https://ygametime.com/branch/putnam/sports/2019-spring-soccer/6795/?utm_medium=calendar&utm_source=team_cal&utm_content=league_url#game-170864
LOCATION:Field 5 (7/8)
BEGIN:VALARM
TRIGGER:-P2H
ACTION:DISPLAY
DESCRIPTION:Williams vs Honeycutt
END:VALARM
END:VEVENT
BEGIN:VEVENT
UID:putnam-170867@ygametime.com
DTSTAMP:20190504T150000Z
DTSTART;TZID=America/New_York:20190504T110000
DURATION:PT0H15M0S
SUMMARY:Honeycutt vs Sisco
DESCRIPTION:U8 | Soccer\nPutnam County Family YMCA\n
URL;VALUE=URI:https://ygametime.com/branch/putnam/sports/2019-spring-soccer/6795/?utm_medium=calendar&utm_source=team_cal&utm_content=league_url#game-170867
LOCATION:Field 5 (7/8)
BEGIN:VALARM
TRIGGER:-P2H
ACTION:DISPLAY
DESCRIPTION:Honeycutt vs Sisco
END:VALARM
END:VEVENT
BEGIN:VEVENT
UID:putnam-170869@ygametime.com
DTSTAMP:20190511T150000Z
DTSTART;TZID=America/New_York:20190511T110000
DURATION:PT0H15M0S
SUMMARY:Bowers vs Honeycutt
DESCRIPTION:U8 | Soccer\nPutnam County Family YMCA\n
URL;VALUE=URI:https://ygametime.com/branch/putnam/sports/2019-spring-soccer/6795/?utm_medium=calendar&utm_source=team_cal&utm_content=league_url#game-170869
LOCATION:Field 5 (7/8)
BEGIN:VALARM
TRIGGER:-P2H
ACTION:DISPLAY
DESCRIPTION:Bowers vs Honeycutt
END:VALARM
END:VEVENT
BEGIN:VEVENT
UID:putnam-170873@ygametime.com
DTSTAMP:20190518T150000Z
DTSTART;TZID=America/New_York:20190518T110000
DURATION:PT0H15M0S
SUMMARY:Honeycutt vs Bates
DESCRIPTION:U8 | Soccer\nPutnam County Family YMCA\n
URL;VALUE=URI:https://ygametime.com/branch/putnam/sports/2019-spring-soccer/6795/?utm_medium=calendar&utm_source=team_cal&utm_content=league_url#game-170873
LOCATION:Field 5 (7/8)
BEGIN:VALARM
TRIGGER:-P2H
ACTION:DISPLAY
DESCRIPTION:Honeycutt vs Bates
END:VALARM
END:VEVENT
END:VCALENDAR

