BEGIN:VCALENDAR
VERSION:2.0
PRODID:-//YGAMETIME.com//YGT iCal Creator//EN
METHOD:PUBLISH
X-PUBLISHED-TTL:PT6H
REFRESH-INTERVAL;VALUE=DURATION:PT6H
CALSCALE:GREGORIAN
X-WR-CALNAME:YGAMETIME CALENDAR
BEGIN:VTIMEZONE
TZID:America/New_York
X-LIC-LOCATION:America/New_York
BEGIN:DAYLIGHT
TZOFFSETFROM:-0500
TZOFFSETTO:-0400
TZNAME:EDT
DTSTART:19700308T020000
RRULE:FREQ=YEARLY;BYMONTH=3;BYDAY=2SU
END:DAYLIGHT
BEGIN:STANDARD
TZOFFSETFROM:-0400
TZOFFSETTO:-0500
TZNAME:EST
DTSTART:19701101T020000
RRULE:FREQ=YEARLY;BYMONTH=11;BYDAY=1SU
END:STANDARD
END:VTIMEZONE
BEGIN:VEVENT
UID:putnam-171015@ygametime.com
DTSTAMP:20190323T163000Z
DTSTART;TZID=America/New_York:20190323T123000
DURATION:PT0H30M0S
SUMMARY:Honeycutt vs Birdwell
DESCRIPTION:U10 | Soccer\nPutnam County Family YMCA\n
URL;VALUE=URI:https://ygametime.com/branch/putnam/sports/2019-spring-soccer/6796/?utm_medium=calendar&utm_source=team_cal&utm_content=league_url#game-171015
LOCATION:Field 1 (9/11) Practice field
BEGIN:VALARM
TRIGGER:-P2H
ACTION:DISPLAY
DESCRIPTION:Honeycutt vs Birdwell
END:VALARM
END:VEVENT
BEGIN:VEVENT
UID:putnam-171020@ygametime.com
DTSTAMP:20190330T133000Z
DTSTART;TZID=America/New_York:20190330T093000
DURATION:PT0H30M0S
SUMMARY:Birdwell vs Weston
DESCRIPTION:U10 | Soccer\nPutnam County Family YMCA\n
URL;VALUE=URI:https://ygametime.com/branch/putnam/sports/2019-spring-soccer/6796/?utm_medium=calendar&utm_source=team_cal&utm_content=league_url#game-171020
LOCATION:Field 1 (9/11) Practice field
BEGIN:VALARM
TRIGGER:-P2H
ACTION:DISPLAY
DESCRIPTION:Birdwell vs Weston
END:VALARM
END:VEVENT
BEGIN:VEVENT
UID:putnam-171022@ygametime.com
DTSTAMP:20190406T133000Z
DTSTART;TZID=America/New_York:20190406T093000
DURATION:PT0H30M0S
SUMMARY:Reyes vs Birdwell
DESCRIPTION:U10 | Soccer\nPutnam County Family YMCA\n
URL;VALUE=URI:https://ygametime.com/branch/putnam/sports/2019-spring-soccer/6796/?utm_medium=calendar&utm_source=team_cal&utm_content=league_url#game-171022
LOCATION:Field 1 (9/11) Practice field
BEGIN:VALARM
TRIGGER:-P2H
ACTION:DISPLAY
DESCRIPTION:Reyes vs Birdwell
END:VALARM
END:VEVENT
BEGIN:VEVENT
UID:putnam-171024@ygametime.com
DTSTAMP:20190413T133000Z
DTSTART;TZID=America/New_York:20190413T093000
DURATION:PT0H30M0S
SUMMARY:Birdwell vs Hudson
DESCRIPTION:U10 | Soccer\nPutnam County Family YMCA\n
URL;VALUE=URI:https://ygametime.com/branch/putnam/sports/2019-spring-soccer/6796/?utm_medium=calendar&utm_source=team_cal&utm_content=league_url#game-171024
LOCATION:Field 1 (9/11) Practice field
BEGIN:VALARM
TRIGGER:-P2H
ACTION:DISPLAY
DESCRIPTION:Birdwell vs Hudson
END:VALARM
END:VEVENT
BEGIN:VEVENT
UID:putnam-171028@ygametime.com
DTSTAMP:20190504T133000Z
DTSTART;TZID=America/New_York:20190504T093000
DURATION:PT0H30M0S
SUMMARY:Birdwell vs Weston
DESCRIPTION:U10 | Soccer\nPutnam County Family YMCA\n
URL;VALUE=URI:https://ygametime.com/branch/putnam/sports/2019-spring-soccer/6796/?utm_medium=calendar&utm_source=team_cal&utm_content=league_url#game-171028
LOCATION:Field 1 (9/11) Practice field
BEGIN:VALARM
TRIGGER:-P2H
ACTION:DISPLAY
DESCRIPTION:Birdwell vs Weston
END:VALARM
END:VEVENT
BEGIN:VEVENT
UID:putnam-171029@ygametime.com
DTSTAMP:20190504T150000Z
DTSTART;TZID=America/New_York:20190504T110000
DURATION:PT0H30M0S
SUMMARY:Reyes vs Birdwell
DESCRIPTION:U10 | Soccer\nPutnam County Family YMCA\n
URL;VALUE=URI:https://ygametime.com/branch/putnam/sports/2019-spring-soccer/6796/?utm_medium=calendar&utm_source=team_cal&utm_content=league_url#game-171029
LOCATION:Field 1 (9/11) Practice field
BEGIN:VALARM
TRIGGER:-P2H
ACTION:DISPLAY
DESCRIPTION:Reyes vs Birdwell
END:VALARM
END:VEVENT
BEGIN:VEVENT
UID:putnam-172227@ygametime.com
DTSTAMP:20190512T030000Z
DTSTART;TZID=America/New_York:20190511T230000
DURATION:PT0H60M0S
SUMMARY:Weston vs Birdwell
DESCRIPTION:U10 | Soccer\nPutnam County Family YMCA\n
URL;VALUE=URI:https://ygametime.com/branch/putnam/sports/2019-spring-soccer/6796/?utm_medium=calendar&utm_source=team_cal&utm_content=league_url#game-172227
LOCATION:Field 1 (9/11) Practice field
BEGIN:VALARM
TRIGGER:-P2H
ACTION:DISPLAY
DESCRIPTION:Weston vs Birdwell
END:VALARM
END:VEVENT
BEGIN:VEVENT
UID:putnam-182039@ygametime.com
DTSTAMP:20190518T140000Z
DTSTART;TZID=America/New_York:20190518T100000
DURATION:PT0H30M0S
SUMMARY:Birdwell vs Weston
DESCRIPTION:U10 | Soccer\nPutnam County Family YMCA\n
URL;VALUE=URI:https://ygametime.com/branch/putnam/sports/2019-spring-soccer/6796/?utm_medium=calendar&utm_source=team_cal&utm_content=league_url#game-182039
LOCATION:Field 1 (9/11) Practice field
BEGIN:VALARM
TRIGGER:-P2H
ACTION:DISPLAY
DESCRIPTION:Birdwell vs Weston
END:VALARM
END:VEVENT
END:VCALENDAR

