BEGIN:VCALENDAR
VERSION:2.0
PRODID:-//YGAMETIME.com//YGT iCal Creator//EN
METHOD:PUBLISH
X-PUBLISHED-TTL:PT6H
REFRESH-INTERVAL;VALUE=DURATION:PT6H
CALSCALE:GREGORIAN
X-WR-CALNAME:YGAMETIME CALENDAR
BEGIN:VTIMEZONE
TZID:America/New_York
X-LIC-LOCATION:America/New_York
BEGIN:DAYLIGHT
TZOFFSETFROM:-0500
TZOFFSETTO:-0400
TZNAME:EDT
DTSTART:19700308T020000
RRULE:FREQ=YEARLY;BYMONTH=3;BYDAY=2SU
END:DAYLIGHT
BEGIN:STANDARD
TZOFFSETFROM:-0400
TZOFFSETTO:-0500
TZNAME:EST
DTSTART:19701101T020000
RRULE:FREQ=YEARLY;BYMONTH=11;BYDAY=1SU
END:STANDARD
END:VTIMEZONE
BEGIN:VEVENT
UID:putnam-171017@ygametime.com
DTSTAMP:20190323T150000Z
DTSTART;TZID=America/New_York:20190323T110000
DURATION:PT0H30M0S
SUMMARY:Hudson vs Honeycutt
DESCRIPTION:U10 | Soccer\nPutnam County Family YMCA\n
URL;VALUE=URI:https://ygametime.com/branch/putnam/sports/2019-spring-soccer/6796/?utm_medium=calendar&utm_source=team_cal&utm_content=league_url#game-171017
LOCATION:Field 1 (9/11) Practice field
BEGIN:VALARM
TRIGGER:-P2H
ACTION:DISPLAY
DESCRIPTION:Hudson vs Honeycutt
END:VALARM
END:VEVENT
BEGIN:VEVENT
UID:putnam-171015@ygametime.com
DTSTAMP:20190323T163000Z
DTSTART;TZID=America/New_York:20190323T123000
DURATION:PT0H30M0S
SUMMARY:Honeycutt vs Birdwell
DESCRIPTION:U10 | Soccer\nPutnam County Family YMCA\n
URL;VALUE=URI:https://ygametime.com/branch/putnam/sports/2019-spring-soccer/6796/?utm_medium=calendar&utm_source=team_cal&utm_content=league_url#game-171015
LOCATION:Field 1 (9/11) Practice field
BEGIN:VALARM
TRIGGER:-P2H
ACTION:DISPLAY
DESCRIPTION:Honeycutt vs Birdwell
END:VALARM
END:VEVENT
BEGIN:VEVENT
UID:putnam-171018@ygametime.com
DTSTAMP:20190330T163000Z
DTSTART;TZID=America/New_York:20190330T123000
DURATION:PT0H30M0S
SUMMARY:Weston vs Honeycutt
DESCRIPTION:U10 | Soccer\nPutnam County Family YMCA\n
URL;VALUE=URI:https://ygametime.com/branch/putnam/sports/2019-spring-soccer/6796/?utm_medium=calendar&utm_source=team_cal&utm_content=league_url#game-171018
LOCATION:Field 1 (9/11) Practice field
BEGIN:VALARM
TRIGGER:-P2H
ACTION:DISPLAY
DESCRIPTION:Weston vs Honeycutt
END:VALARM
END:VEVENT
BEGIN:VEVENT
UID:putnam-171021@ygametime.com
DTSTAMP:20190406T163000Z
DTSTART;TZID=America/New_York:20190406T123000
DURATION:PT0H30M0S
SUMMARY:Honeycutt vs Reyes
DESCRIPTION:U10 | Soccer\nPutnam County Family YMCA\n
URL;VALUE=URI:https://ygametime.com/branch/putnam/sports/2019-spring-soccer/6796/?utm_medium=calendar&utm_source=team_cal&utm_content=league_url#game-171021
LOCATION:Field 1 (9/11) Practice field
BEGIN:VALARM
TRIGGER:-P2H
ACTION:DISPLAY
DESCRIPTION:Honeycutt vs Reyes
END:VALARM
END:VEVENT
BEGIN:VEVENT
UID:putnam-171026@ygametime.com
DTSTAMP:20190413T163000Z
DTSTART;TZID=America/New_York:20190413T123000
DURATION:PT0H30M0S
SUMMARY:Weston vs Honeycutt
DESCRIPTION:U10 | Soccer\nPutnam County Family YMCA\n
URL;VALUE=URI:https://ygametime.com/branch/putnam/sports/2019-spring-soccer/6796/?utm_medium=calendar&utm_source=team_cal&utm_content=league_url#game-171026
LOCATION:Field 1 (9/11) Practice field
BEGIN:VALARM
TRIGGER:-P2H
ACTION:DISPLAY
DESCRIPTION:Weston vs Honeycutt
END:VALARM
END:VEVENT
BEGIN:VEVENT
UID:putnam-171027@ygametime.com
DTSTAMP:20190504T163000Z
DTSTART;TZID=America/New_York:20190504T123000
DURATION:PT0H30M0S
SUMMARY:Honeycutt vs Hudson
DESCRIPTION:U10 | Soccer\nPutnam County Family YMCA\nRESCHEDULED 5/15 @ 6PM
URL;VALUE=URI:https://ygametime.com/branch/putnam/sports/2019-spring-soccer/6796/?utm_medium=calendar&utm_source=team_cal&utm_content=league_url#game-171027
LOCATION:Field 1 (9/11) Practice field
BEGIN:VALARM
TRIGGER:-P2H
ACTION:DISPLAY
DESCRIPTION:Honeycutt vs Hudson
END:VALARM
END:VEVENT
BEGIN:VEVENT
UID:putnam-172228@ygametime.com
DTSTAMP:20190511T163000Z
DTSTART;TZID=America/New_York:20190511T123000
DURATION:PT0H60M0S
SUMMARY:Hudson vs Honeycutt
DESCRIPTION:U10 | Soccer\nPutnam County Family YMCA\n
URL;VALUE=URI:https://ygametime.com/branch/putnam/sports/2019-spring-soccer/6796/?utm_medium=calendar&utm_source=team_cal&utm_content=league_url#game-172228
LOCATION:Field 1 (9/11) Practice field
BEGIN:VALARM
TRIGGER:-P2H
ACTION:DISPLAY
DESCRIPTION:Hudson vs Honeycutt
END:VALARM
END:VEVENT
BEGIN:VEVENT
UID:putnam-182037@ygametime.com
DTSTAMP:20190518T130000Z
DTSTART;TZID=America/New_York:20190518T090000
DURATION:PT0H30M0S
SUMMARY:Reyes vs Honeycutt
DESCRIPTION:U10 | Soccer\nPutnam County Family YMCA\n
URL;VALUE=URI:https://ygametime.com/branch/putnam/sports/2019-spring-soccer/6796/?utm_medium=calendar&utm_source=team_cal&utm_content=league_url#game-182037
LOCATION:Field 1 (9/11) Practice field
BEGIN:VALARM
TRIGGER:-P2H
ACTION:DISPLAY
DESCRIPTION:Reyes vs Honeycutt
END:VALARM
END:VEVENT
END:VCALENDAR

