BEGIN:VCALENDAR
VERSION:2.0
PRODID:-//YGAMETIME.com//YGT iCal Creator//EN
METHOD:PUBLISH
X-PUBLISHED-TTL:PT6H
REFRESH-INTERVAL;VALUE=DURATION:PT6H
CALSCALE:GREGORIAN
X-WR-CALNAME:YGAMETIME CALENDAR
BEGIN:VTIMEZONE
TZID:America/New_York
X-LIC-LOCATION:America/New_York
BEGIN:DAYLIGHT
TZOFFSETFROM:-0500
TZOFFSETTO:-0400
TZNAME:EDT
DTSTART:19700308T020000
RRULE:FREQ=YEARLY;BYMONTH=3;BYDAY=2SU
END:DAYLIGHT
BEGIN:STANDARD
TZOFFSETFROM:-0400
TZOFFSETTO:-0500
TZNAME:EST
DTSTART:19701101T020000
RRULE:FREQ=YEARLY;BYMONTH=11;BYDAY=1SU
END:STANDARD
END:VTIMEZONE
BEGIN:VEVENT
UID:putnam-214550@ygametime.com
DTSTAMP:20200912T141500Z
DTSTART;TZID=America/New_York:20200912T101500
DURATION:PT0H60M0S
SUMMARY:Scantland vs Huddleston
DESCRIPTION:U4 | soccer\nPutnam County Family YMCA\n
URL;VALUE=URI:https://ygametime.com/branch/putnam/sports/2020-spring-soccer/8615/?utm_medium=calendar&utm_source=team_cal&utm_content=league_url#game-214550
LOCATION:Field 3 (5/6)
BEGIN:VALARM
TRIGGER:-P2H
ACTION:DISPLAY
DESCRIPTION:Scantland vs Huddleston
END:VALARM
END:VEVENT
BEGIN:VEVENT
UID:putnam-214551@ygametime.com
DTSTAMP:20200919T123000Z
DTSTART;TZID=America/New_York:20200919T083000
DURATION:PT0H45M0S
SUMMARY:Scantland vs Ross
DESCRIPTION:U4 | soccer\nPutnam County Family YMCA\n
URL;VALUE=URI:https://ygametime.com/branch/putnam/sports/2020-spring-soccer/8615/?utm_medium=calendar&utm_source=team_cal&utm_content=league_url#game-214551
LOCATION:Field 2 (5/6)
BEGIN:VALARM
TRIGGER:-P2H
ACTION:DISPLAY
DESCRIPTION:Scantland vs Ross
END:VALARM
END:VEVENT
BEGIN:VEVENT
UID:putnam-214552@ygametime.com
DTSTAMP:20200919T131500Z
DTSTART;TZID=America/New_York:20200919T091500
DURATION:PT0H45M0S
SUMMARY:Turney vs Scantland
DESCRIPTION:U4 | soccer\nPutnam County Family YMCA\n
URL;VALUE=URI:https://ygametime.com/branch/putnam/sports/2020-spring-soccer/8615/?utm_medium=calendar&utm_source=team_cal&utm_content=league_url#game-214552
LOCATION:Field 2 (5/6)
BEGIN:VALARM
TRIGGER:-P2H
ACTION:DISPLAY
DESCRIPTION:Turney vs Scantland
END:VALARM
END:VEVENT
BEGIN:VEVENT
UID:putnam-214556@ygametime.com
DTSTAMP:20200926T141500Z
DTSTART;TZID=America/New_York:20200926T101500
DURATION:PT0H60M0S
SUMMARY:Romine vs Scantland
DESCRIPTION:U4 | soccer\nPutnam County Family YMCA\n
URL;VALUE=URI:https://ygametime.com/branch/putnam/sports/2020-spring-soccer/8615/?utm_medium=calendar&utm_source=team_cal&utm_content=league_url#game-214556
LOCATION:Field 3 (5/6)
BEGIN:VALARM
TRIGGER:-P2H
ACTION:DISPLAY
DESCRIPTION:Romine vs Scantland
END:VALARM
END:VEVENT
BEGIN:VEVENT
UID:putnam-214559@ygametime.com
DTSTAMP:20201003T141500Z
DTSTART;TZID=America/New_York:20201003T101500
DURATION:PT0H60M0S
SUMMARY:Scantland vs Turney
DESCRIPTION:U4 | soccer\nPutnam County Family YMCA\n
URL;VALUE=URI:https://ygametime.com/branch/putnam/sports/2020-spring-soccer/8615/?utm_medium=calendar&utm_source=team_cal&utm_content=league_url#game-214559
LOCATION:Field 3 (5/6)
BEGIN:VALARM
TRIGGER:-P2H
ACTION:DISPLAY
DESCRIPTION:Scantland vs Turney
END:VALARM
END:VEVENT
BEGIN:VEVENT
UID:putnam-214561@ygametime.com
DTSTAMP:20201024T131500Z
DTSTART;TZID=America/New_York:20201024T091500
DURATION:PT0H45M0S
SUMMARY:Ross vs Scantland
DESCRIPTION:U4 | soccer\nPutnam County Family YMCA\n
URL;VALUE=URI:https://ygametime.com/branch/putnam/sports/2020-spring-soccer/8615/?utm_medium=calendar&utm_source=team_cal&utm_content=league_url#game-214561
LOCATION:Field 3 (5/6)
BEGIN:VALARM
TRIGGER:-P2H
ACTION:DISPLAY
DESCRIPTION:Ross vs Scantland
END:VALARM
END:VEVENT
BEGIN:VEVENT
UID:putnam-214565@ygametime.com
DTSTAMP:20201031T141500Z
DTSTART;TZID=America/New_York:20201031T101500
DURATION:PT0H60M0S
SUMMARY:Scantland vs Huddleston
DESCRIPTION:U4 | soccer\nPutnam County Family YMCA\n
URL;VALUE=URI:https://ygametime.com/branch/putnam/sports/2020-spring-soccer/8615/?utm_medium=calendar&utm_source=team_cal&utm_content=league_url#game-214565
LOCATION:Field 3 (5/6)
BEGIN:VALARM
TRIGGER:-P2H
ACTION:DISPLAY
DESCRIPTION:Scantland vs Huddleston
END:VALARM
END:VEVENT
BEGIN:VEVENT
UID:putnam-214566@ygametime.com
DTSTAMP:20201107T133000Z
DTSTART;TZID=America/New_York:20201107T083000
DURATION:PT0H45M0S
SUMMARY:Romine vs Scantland
DESCRIPTION:U4 | soccer\nPutnam County Family YMCA\n
URL;VALUE=URI:https://ygametime.com/branch/putnam/sports/2020-spring-soccer/8615/?utm_medium=calendar&utm_source=team_cal&utm_content=league_url#game-214566
LOCATION:Field 2 (5/6)
BEGIN:VALARM
TRIGGER:-P2H
ACTION:DISPLAY
DESCRIPTION:Romine vs Scantland
END:VALARM
END:VEVENT
BEGIN:VEVENT
UID:putnam-214567@ygametime.com
DTSTAMP:20201107T141500Z
DTSTART;TZID=America/New_York:20201107T091500
DURATION:PT0H45M0S
SUMMARY:Scantland vs Ross
DESCRIPTION:U4 | soccer\nPutnam County Family YMCA\n
URL;VALUE=URI:https://ygametime.com/branch/putnam/sports/2020-spring-soccer/8615/?utm_medium=calendar&utm_source=team_cal&utm_content=league_url#game-214567
LOCATION:Field 2 (5/6)
BEGIN:VALARM
TRIGGER:-P2H
ACTION:DISPLAY
DESCRIPTION:Scantland vs Ross
END:VALARM
END:VEVENT
END:VCALENDAR

