BEGIN:VCALENDAR
VERSION:2.0
PRODID:-//YGAMETIME.com//YGT iCal Creator//EN
METHOD:PUBLISH
X-PUBLISHED-TTL:PT6H
REFRESH-INTERVAL;VALUE=DURATION:PT6H
CALSCALE:GREGORIAN
X-WR-CALNAME:YGAMETIME CALENDAR
BEGIN:VTIMEZONE
TZID:America/New_York
X-LIC-LOCATION:America/New_York
BEGIN:DAYLIGHT
TZOFFSETFROM:-0500
TZOFFSETTO:-0400
TZNAME:EDT
DTSTART:19700308T020000
RRULE:FREQ=YEARLY;BYMONTH=3;BYDAY=2SU
END:DAYLIGHT
BEGIN:STANDARD
TZOFFSETFROM:-0400
TZOFFSETTO:-0500
TZNAME:EST
DTSTART:19701101T020000
RRULE:FREQ=YEARLY;BYMONTH=11;BYDAY=1SU
END:STANDARD
END:VTIMEZONE
BEGIN:VEVENT
UID:putnam-214571@ygametime.com
DTSTAMP:20200912T143000Z
DTSTART;TZID=America/New_York:20200912T103000
DURATION:PT0H60M0S
SUMMARY:Null vs Marc
DESCRIPTION:U6 | soccer\nPutnam County Family YMCA\n
URL;VALUE=URI:https://ygametime.com/branch/putnam/sports/2020-spring-soccer/8616/?utm_medium=calendar&utm_source=team_cal&utm_content=league_url#game-214571
LOCATION:Field 9 (3/4)
BEGIN:VALARM
TRIGGER:-P2H
ACTION:DISPLAY
DESCRIPTION:Null vs Marc
END:VALARM
END:VEVENT
BEGIN:VEVENT
UID:putnam-215139@ygametime.com
DTSTAMP:20200917T213000Z
DTSTART;TZID=America/New_York:20200917T173000
DURATION:PT0H60M0S
SUMMARY:Null vs Marc
DESCRIPTION:U6 | soccer\nPutnam County Family YMCA\n
URL;VALUE=URI:https://ygametime.com/branch/putnam/sports/2020-spring-soccer/8616/?utm_medium=calendar&utm_source=team_cal&utm_content=league_url#game-215139
LOCATION:Field 7 (3/4)
BEGIN:VALARM
TRIGGER:-P2H
ACTION:DISPLAY
DESCRIPTION:Null vs Marc
END:VALARM
END:VEVENT
BEGIN:VEVENT
UID:putnam-214576@ygametime.com
DTSTAMP:20200919T143000Z
DTSTART;TZID=America/New_York:20200919T103000
DURATION:PT0H60M0S
SUMMARY:Copeland vs Null
DESCRIPTION:U6 | soccer\nPutnam County Family YMCA\n
URL;VALUE=URI:https://ygametime.com/branch/putnam/sports/2020-spring-soccer/8616/?utm_medium=calendar&utm_source=team_cal&utm_content=league_url#game-214576
LOCATION:Field 7 (3/4)
BEGIN:VALARM
TRIGGER:-P2H
ACTION:DISPLAY
DESCRIPTION:Copeland vs Null
END:VALARM
END:VEVENT
BEGIN:VEVENT
UID:putnam-214579@ygametime.com
DTSTAMP:20200926T123000Z
DTSTART;TZID=America/New_York:20200926T083000
DURATION:PT0H60M0S
SUMMARY:Bottoms vs Null
DESCRIPTION:U6 | soccer\nPutnam County Family YMCA\n
URL;VALUE=URI:https://ygametime.com/branch/putnam/sports/2020-spring-soccer/8616/?utm_medium=calendar&utm_source=team_cal&utm_content=league_url#game-214579
LOCATION:Field 7 (3/4)
BEGIN:VALARM
TRIGGER:-P2H
ACTION:DISPLAY
DESCRIPTION:Bottoms vs Null
END:VALARM
END:VEVENT
BEGIN:VEVENT
UID:putnam-214585@ygametime.com
DTSTAMP:20201003T133000Z
DTSTART;TZID=America/New_York:20201003T093000
DURATION:PT0H60M0S
SUMMARY:Courtney vs Null
DESCRIPTION:U6 | soccer\nPutnam County Family YMCA\n
URL;VALUE=URI:https://ygametime.com/branch/putnam/sports/2020-spring-soccer/8616/?utm_medium=calendar&utm_source=team_cal&utm_content=league_url#game-214585
LOCATION:Field 9 (3/4)
BEGIN:VALARM
TRIGGER:-P2H
ACTION:DISPLAY
DESCRIPTION:Courtney vs Null
END:VALARM
END:VEVENT
BEGIN:VEVENT
UID:putnam-214608@ygametime.com
DTSTAMP:20201024T143000Z
DTSTART;TZID=America/New_York:20201024T103000
DURATION:PT0H60M0S
SUMMARY:Grimm vs Null
DESCRIPTION:U6 | soccer\nPutnam County Family YMCA\n
URL;VALUE=URI:https://ygametime.com/branch/putnam/sports/2020-spring-soccer/8616/?utm_medium=calendar&utm_source=team_cal&utm_content=league_url#game-214608
LOCATION:Field 7 (3/4)
BEGIN:VALARM
TRIGGER:-P2H
ACTION:DISPLAY
DESCRIPTION:Grimm vs Null
END:VALARM
END:VEVENT
BEGIN:VEVENT
UID:putnam-214596@ygametime.com
DTSTAMP:20201031T143000Z
DTSTART;TZID=America/New_York:20201031T103000
DURATION:PT0H60M0S
SUMMARY:French vs Null
DESCRIPTION:U6 | soccer\nPutnam County Family YMCA\n
URL;VALUE=URI:https://ygametime.com/branch/putnam/sports/2020-spring-soccer/8616/?utm_medium=calendar&utm_source=team_cal&utm_content=league_url#game-214596
LOCATION:Field 9 (3/4)
BEGIN:VALARM
TRIGGER:-P2H
ACTION:DISPLAY
DESCRIPTION:French vs Null
END:VALARM
END:VEVENT
BEGIN:VEVENT
UID:putnam-214599@ygametime.com
DTSTAMP:20201107T133000Z
DTSTART;TZID=America/New_York:20201107T083000
DURATION:PT0H60M0S
SUMMARY:Null vs Courtney
DESCRIPTION:U6 | soccer\nPutnam County Family YMCA\n
URL;VALUE=URI:https://ygametime.com/branch/putnam/sports/2020-spring-soccer/8616/?utm_medium=calendar&utm_source=team_cal&utm_content=league_url#game-214599
LOCATION:Field 7 (3/4)
BEGIN:VALARM
TRIGGER:-P2H
ACTION:DISPLAY
DESCRIPTION:Null vs Courtney
END:VALARM
END:VEVENT
BEGIN:VEVENT
UID:putnam-214600@ygametime.com
DTSTAMP:20201107T143000Z
DTSTART;TZID=America/New_York:20201107T093000
DURATION:PT0H60M0S
SUMMARY:Null vs French
DESCRIPTION:U6 | soccer\nPutnam County Family YMCA\n
URL;VALUE=URI:https://ygametime.com/branch/putnam/sports/2020-spring-soccer/8616/?utm_medium=calendar&utm_source=team_cal&utm_content=league_url#game-214600
LOCATION:Field 7 (3/4)
BEGIN:VALARM
TRIGGER:-P2H
ACTION:DISPLAY
DESCRIPTION:Null vs French
END:VALARM
END:VEVENT
END:VCALENDAR

