BEGIN:VCALENDAR
VERSION:2.0
PRODID:-//YGAMETIME.com//YGT iCal Creator//EN
METHOD:PUBLISH
X-PUBLISHED-TTL:PT6H
REFRESH-INTERVAL;VALUE=DURATION:PT6H
CALSCALE:GREGORIAN
X-WR-CALNAME:YGAMETIME CALENDAR
BEGIN:VTIMEZONE
TZID:America/New_York
X-LIC-LOCATION:America/New_York
BEGIN:DAYLIGHT
TZOFFSETFROM:-0500
TZOFFSETTO:-0400
TZNAME:EDT
DTSTART:19700308T020000
RRULE:FREQ=YEARLY;BYMONTH=3;BYDAY=2SU
END:DAYLIGHT
BEGIN:STANDARD
TZOFFSETFROM:-0400
TZOFFSETTO:-0500
TZNAME:EST
DTSTART:19701101T020000
RRULE:FREQ=YEARLY;BYMONTH=11;BYDAY=1SU
END:STANDARD
END:VTIMEZONE
BEGIN:VEVENT
UID:putnam-214573@ygametime.com
DTSTAMP:20200912T163000Z
DTSTART;TZID=America/New_York:20200912T123000
DURATION:PT0H60M0S
SUMMARY:Courtney vs Huddleston
DESCRIPTION:U6 | soccer\nPutnam County Family YMCA\n
URL;VALUE=URI:https://ygametime.com/branch/putnam/sports/2020-spring-soccer/8616/?utm_medium=calendar&utm_source=team_cal&utm_content=league_url#game-214573
LOCATION:Field 9 (3/4)
BEGIN:VALARM
TRIGGER:-P2H
ACTION:DISPLAY
DESCRIPTION:Courtney vs Huddleston
END:VALARM
END:VEVENT
BEGIN:VEVENT
UID:putnam-214575@ygametime.com
DTSTAMP:20200919T133000Z
DTSTART;TZID=America/New_York:20200919T093000
DURATION:PT0H60M0S
SUMMARY:Courtney vs French
DESCRIPTION:U6 | soccer\nPutnam County Family YMCA\n
URL;VALUE=URI:https://ygametime.com/branch/putnam/sports/2020-spring-soccer/8616/?utm_medium=calendar&utm_source=team_cal&utm_content=league_url#game-214575
LOCATION:Field 9 (3/4)
BEGIN:VALARM
TRIGGER:-P2H
ACTION:DISPLAY
DESCRIPTION:Courtney vs French
END:VALARM
END:VEVENT
BEGIN:VEVENT
UID:putnam-214580@ygametime.com
DTSTAMP:20200926T133000Z
DTSTART;TZID=America/New_York:20200926T093000
DURATION:PT0H60M0S
SUMMARY:Courtney vs Copeland
DESCRIPTION:U6 | soccer\nPutnam County Family YMCA\n
URL;VALUE=URI:https://ygametime.com/branch/putnam/sports/2020-spring-soccer/8616/?utm_medium=calendar&utm_source=team_cal&utm_content=league_url#game-214580
LOCATION:Field 9 (3/4)
BEGIN:VALARM
TRIGGER:-P2H
ACTION:DISPLAY
DESCRIPTION:Courtney vs Copeland
END:VALARM
END:VEVENT
BEGIN:VEVENT
UID:putnam-214585@ygametime.com
DTSTAMP:20201003T133000Z
DTSTART;TZID=America/New_York:20201003T093000
DURATION:PT0H60M0S
SUMMARY:Courtney vs Null
DESCRIPTION:U6 | soccer\nPutnam County Family YMCA\n
URL;VALUE=URI:https://ygametime.com/branch/putnam/sports/2020-spring-soccer/8616/?utm_medium=calendar&utm_source=team_cal&utm_content=league_url#game-214585
LOCATION:Field 9 (3/4)
BEGIN:VALARM
TRIGGER:-P2H
ACTION:DISPLAY
DESCRIPTION:Courtney vs Null
END:VALARM
END:VEVENT
BEGIN:VEVENT
UID:putnam-214606@ygametime.com
DTSTAMP:20201024T123000Z
DTSTART;TZID=America/New_York:20201024T083000
DURATION:PT0H60M0S
SUMMARY:Courtney vs Bottoms
DESCRIPTION:U6 | soccer\nPutnam County Family YMCA\n
URL;VALUE=URI:https://ygametime.com/branch/putnam/sports/2020-spring-soccer/8616/?utm_medium=calendar&utm_source=team_cal&utm_content=league_url#game-214606
LOCATION:Field 9 (3/4)
BEGIN:VALARM
TRIGGER:-P2H
ACTION:DISPLAY
DESCRIPTION:Courtney vs Bottoms
END:VALARM
END:VEVENT
BEGIN:VEVENT
UID:putnam-214607@ygametime.com
DTSTAMP:20201024T133000Z
DTSTART;TZID=America/New_York:20201024T093000
DURATION:PT0H60M0S
SUMMARY:Marc vs Courtney
DESCRIPTION:U6 | soccer\nPutnam County Family YMCA\n
URL;VALUE=URI:https://ygametime.com/branch/putnam/sports/2020-spring-soccer/8616/?utm_medium=calendar&utm_source=team_cal&utm_content=league_url#game-214607
LOCATION:Field 9 (3/4)
BEGIN:VALARM
TRIGGER:-P2H
ACTION:DISPLAY
DESCRIPTION:Marc vs Courtney
END:VALARM
END:VEVENT
BEGIN:VEVENT
UID:putnam-214594@ygametime.com
DTSTAMP:20201031T123000Z
DTSTART;TZID=America/New_York:20201031T083000
DURATION:PT0H60M0S
SUMMARY:Grimm vs Courtney
DESCRIPTION:U6 | soccer\nPutnam County Family YMCA\n
URL;VALUE=URI:https://ygametime.com/branch/putnam/sports/2020-spring-soccer/8616/?utm_medium=calendar&utm_source=team_cal&utm_content=league_url#game-214594
LOCATION:Field 7 (3/4)
BEGIN:VALARM
TRIGGER:-P2H
ACTION:DISPLAY
DESCRIPTION:Grimm vs Courtney
END:VALARM
END:VEVENT
BEGIN:VEVENT
UID:putnam-214595@ygametime.com
DTSTAMP:20201031T133000Z
DTSTART;TZID=America/New_York:20201031T093000
DURATION:PT0H60M0S
SUMMARY:Copeland vs Courtney
DESCRIPTION:U6 | soccer\nPutnam County Family YMCA\n
URL;VALUE=URI:https://ygametime.com/branch/putnam/sports/2020-spring-soccer/8616/?utm_medium=calendar&utm_source=team_cal&utm_content=league_url#game-214595
LOCATION:Field 7 (3/4)
BEGIN:VALARM
TRIGGER:-P2H
ACTION:DISPLAY
DESCRIPTION:Copeland vs Courtney
END:VALARM
END:VEVENT
BEGIN:VEVENT
UID:putnam-214599@ygametime.com
DTSTAMP:20201107T133000Z
DTSTART;TZID=America/New_York:20201107T083000
DURATION:PT0H60M0S
SUMMARY:Null vs Courtney
DESCRIPTION:U6 | soccer\nPutnam County Family YMCA\n
URL;VALUE=URI:https://ygametime.com/branch/putnam/sports/2020-spring-soccer/8616/?utm_medium=calendar&utm_source=team_cal&utm_content=league_url#game-214599
LOCATION:Field 7 (3/4)
BEGIN:VALARM
TRIGGER:-P2H
ACTION:DISPLAY
DESCRIPTION:Null vs Courtney
END:VALARM
END:VEVENT
END:VCALENDAR

